BEGIN:VCALENDAR
VERSION:2.0
PRODID:-//jEvents 2.0 for Joomla//EN
CALSCALE:GREGORIAN
METHOD:PUBLISH
BEGIN:VTIMEZONE
TZID:Europe/London
BEGIN:STANDARD
DTSTART:20181031T100000
RDATE:20190331T020000
TZOFFSETFROM:+0100
TZOFFSETTO:+0000
TZNAME:Europe/London GMT
END:STANDARD
BEGIN:STANDARD
DTSTART:20191027T010000
RDATE:20200329T020000
TZOFFSETFROM:+0100
TZOFFSETTO:+0000
TZNAME:Europe/London GMT
END:STANDARD
BEGIN:STANDARD
DTSTART:20201025T010000
RDATE:20210328T020000
TZOFFSETFROM:+0100
TZOFFSETTO:+0000
TZNAME:Europe/London GMT
END:STANDARD
BEGIN:STANDARD
DTSTART:20211031T010000
RDATE:20220327T020000
TZOFFSETFROM:+0100
TZOFFSETTO:+0000
TZNAME:Europe/London GMT
END:STANDARD
BEGIN:STANDARD
DTSTART:20221030T010000
RDATE:20230326T020000
TZOFFSETFROM:+0100
TZOFFSETTO:+0000
TZNAME:Europe/London GMT
END:STANDARD
BEGIN:STANDARD
DTSTART:20231029T010000
RDATE:20240331T020000
TZOFFSETFROM:+0100
TZOFFSETTO:+0000
TZNAME:Europe/London GMT
END:STANDARD
BEGIN:STANDARD
DTSTART:20241027T010000
RDATE:20250330T020000
TZOFFSETFROM:+0100
TZOFFSETTO:+0000
TZNAME:Europe/London GMT
END:STANDARD
BEGIN:STANDARD
DTSTART:20251026T010000
RDATE:20260329T020000
TZOFFSETFROM:+0100
TZOFFSETTO:+0000
TZNAME:Europe/London GMT
END:STANDARD
BEGIN:STANDARD
DTSTART:20261025T010000
RDATE:20270328T020000
TZOFFSETFROM:+0100
TZOFFSETTO:+0000
TZNAME:Europe/London GMT
END:STANDARD
BEGIN:STANDARD
DTSTART:20271031T010000
RDATE:20280326T020000
TZOFFSETFROM:+0100
TZOFFSETTO:+0000
TZNAME:Europe/London GMT
END:STANDARD
BEGIN:STANDARD
DTSTART:20281029T010000
RDATE:20290325T020000
TZOFFSETFROM:+0100
TZOFFSETTO:+0000
TZNAME:Europe/London GMT
END:STANDARD
BEGIN:STANDARD
DTSTART:20291028T010000
RDATE:20300331T020000
TZOFFSETFROM:+0100
TZOFFSETTO:+0000
TZNAME:Europe/London GMT
END:STANDARD
BEGIN:STANDARD
DTSTART:20301027T010000
RDATE:20310330T020000
TZOFFSETFROM:+0100
TZOFFSETTO:+0000
TZNAME:Europe/London GMT
END:STANDARD
BEGIN:DAYLIGHT
DTSTART:20190331T020000
RDATE:20191027T010000
TZOFFSETFROM:+0000
TZOFFSETTO:+0100
TZNAME:Europe/London BST
END:DAYLIGHT
BEGIN:DAYLIGHT
DTSTART:20200329T020000
RDATE:20201025T010000
TZOFFSETFROM:+0000
TZOFFSETTO:+0100
TZNAME:Europe/London BST
END:DAYLIGHT
BEGIN:DAYLIGHT
DTSTART:20210328T020000
RDATE:20211031T010000
TZOFFSETFROM:+0000
TZOFFSETTO:+0100
TZNAME:Europe/London BST
END:DAYLIGHT
BEGIN:DAYLIGHT
DTSTART:20220327T020000
RDATE:20221030T010000
TZOFFSETFROM:+0000
TZOFFSETTO:+0100
TZNAME:Europe/London BST
END:DAYLIGHT
BEGIN:DAYLIGHT
DTSTART:20230326T020000
RDATE:20231029T010000
TZOFFSETFROM:+0000
TZOFFSETTO:+0100
TZNAME:Europe/London BST
END:DAYLIGHT
BEGIN:DAYLIGHT
DTSTART:20240331T020000
RDATE:20241027T010000
TZOFFSETFROM:+0000
TZOFFSETTO:+0100
TZNAME:Europe/London BST
END:DAYLIGHT
BEGIN:DAYLIGHT
DTSTART:20250330T020000
RDATE:20251026T010000
TZOFFSETFROM:+0000
TZOFFSETTO:+0100
TZNAME:Europe/London BST
END:DAYLIGHT
BEGIN:DAYLIGHT
DTSTART:20260329T020000
RDATE:20261025T010000
TZOFFSETFROM:+0000
TZOFFSETTO:+0100
TZNAME:Europe/London BST
END:DAYLIGHT
BEGIN:DAYLIGHT
DTSTART:20270328T020000
RDATE:20271031T010000
TZOFFSETFROM:+0000
TZOFFSETTO:+0100
TZNAME:Europe/London BST
END:DAYLIGHT
BEGIN:DAYLIGHT
DTSTART:20280326T020000
RDATE:20281029T010000
TZOFFSETFROM:+0000
TZOFFSETTO:+0100
TZNAME:Europe/London BST
END:DAYLIGHT
BEGIN:DAYLIGHT
DTSTART:20290325T020000
RDATE:20291028T010000
TZOFFSETFROM:+0000
TZOFFSETTO:+0100
TZNAME:Europe/London BST
END:DAYLIGHT
BEGIN:DAYLIGHT
DTSTART:20300331T020000
RDATE:20301027T010000
TZOFFSETFROM:+0000
TZOFFSETTO:+0100
TZNAME:Europe/London BST
END:DAYLIGHT
END:VTIMEZONE
BEGIN:VEVENT
UID:eac62cbf8fb0803125a8e08e2084d796
CATEGORIES:Association Event
CREATED:20190916T221158
SUMMARY:Association Ringing Course
LOCATION:planned for central corridor from Warnham to Henfield.
URL;VALUE=URI:https://www.scacr.org/news-events/calendar/641/association-ringing-course?t
 mpl=component
DESCRIPTION:<p>a<a href="learning-training/ringing-courses">nnual 2-day ringing course<
 /a></p><p>The&nbsp;<a href="learning-training/ringing-courses">available co
 urses</a>&nbsp;are:</p><ul><li>Moving On From Rounds (2 days) [fully booked
 ]</li><li>Plain Bob Doubles (2 days) [fully booked]</li><li>Beyond Plain Bo
 b Minor (2 days) [3 places available[</li><li>Developing Listening Skills (
 1 day) [fully booked]</li></ul><p>The&nbsp;<a href="learning-training/ringi
 ng-courses">full description of each course</a>&nbsp;and the minimum standa
 rd needed is&nbsp;<a href="learning-training/ringing-courses">available her
 e</a>.</p><p>To apply for a place on any course:</p><ol><li>Complete the&nb
 sp;<a href="index.php?option=com_acymailing&amp;ctrl=url&amp;subid=1730&amp
 ;urlid=559&amp;mailid=447" target="_blank" rel="noopener" data-saferedirect
 url="https://www.google.com/url?q=https://www.scacr.org/index.php?option%3D
 com_acymailing%26ctrl%3Durl%26subid%3D1730%26urlid%3D559%26mailid%3D447&amp
 ;source=gmail&amp;ust=1570224012338000&amp;usg=AFQjCNFwWtLjYqHcNAnMjUiwY_ZW
 2zYbnA">application form</a>&nbsp;for your chosen course.</li><li>Ask your 
 Tower Captain to countersign the form.</li><li>Return the application form 
 &amp; payment to&nbsp;<span id="cloaka8db5c6cd886a90c0f98f06c0edd54c8">This
  email address is being protected from spambots. You need JavaScript enable
 d to view it.</span><script type='text/javascript'>
				document.getElement
 ById('cloaka8db5c6cd886a90c0f98f06c0edd54c8').innerHTML = '';
				var prefi
 x = '&#109;a' + 'i&#108;' + '&#116;o';
				var path = 'hr' + 'ef' + '=';
		
 		var addya8db5c6cd886a90c0f98f06c0edd54c8 = 'r&#105;ng&#105;ngc&#111;&#117
 ;rs&#101;' + '&#64;';
				addya8db5c6cd886a90c0f98f06c0edd54c8 = addya8db5c
 6cd886a90c0f98f06c0edd54c8 + 'sc&#97;cr' + '&#46;' + '&#111;rg';
				var ad
 dy_texta8db5c6cd886a90c0f98f06c0edd54c8 = 'r&#105;ng&#105;ngc&#111;&#117;rs
 &#101;' + '&#64;' + 'sc&#97;cr' + '&#46;' + '&#111;rg';document.getElementB
 yId('cloaka8db5c6cd886a90c0f98f06c0edd54c8').innerHTML += '<a ' + path + '\
 '' + prefix + ':' + addya8db5c6cd886a90c0f98f06c0edd54c8 + '\'>'+addy_texta
 8db5c6cd886a90c0f98f06c0edd54c8+'<\/a>';
		</script></li><li>As&nbsp;<stron
 g>places are limited</strong>, please send individual cheques in case not a
 ll are successful in obtaining a place on the course.</li></ol><p>If you wo
 uld like to offer your services as a&nbsp;<strong>helper</strong>&nbsp;plea
 se contact David ASAP on 01903 813653 or via email to <span id="cloakb6843a
 21d0bd5799461463b2609eddc3">This email address is being protected from spam
 bots. You need JavaScript enabled to view it.</span><script type='text/java
 script'>
				document.getElementById('cloakb6843a21d0bd5799461463b2609eddc3
 ').innerHTML = '';
				var prefix = '&#109;a' + 'i&#108;' + '&#116;o';
				
 var path = 'hr' + 'ef' + '=';
				var addyb6843a21d0bd5799461463b2609eddc3 
 = 'r&#105;ng&#105;ngc&#111;&#117;rs&#101;' + '&#64;';
				addyb6843a21d0bd5
 799461463b2609eddc3 = addyb6843a21d0bd5799461463b2609eddc3 + 'sc&#97;cr' + 
 '&#46;' + '&#111;rg';
				var addy_textb6843a21d0bd5799461463b2609eddc3 = '
 r&#105;ng&#105;ngc&#111;&#117;rs&#101;' + '&#64;' + 'sc&#97;cr' + '&#46;' +
  '&#111;rg';document.getElementById('cloakb6843a21d0bd5799461463b2609eddc3'
 ).innerHTML += '<a ' + path + '\'' + prefix + ':' + addyb6843a21d0bd5799461
 463b2609eddc3 + '\'>'+addy_textb6843a21d0bd5799461463b2609eddc3+'<\/a>';
		
 </script>.&nbsp;Either for one, two or even half a day this will help to ma
 ke a difference.</p><p>Friday Warnham, Horsham and Southover; first two con
 firmed.</p><p>Saturday Hurstpierpoint, Henfield and Lower Beeding; L Beedin
 g confirmed</p><p>&nbsp;</p> <a href="https://www.scacr.org/news-events/cal
 endar/641/association-ringing-course?tmpl=component">This event was importe
 d from: https://www.scacr.org/news-events/calendar/641/association-ringing-
 course?tmpl=component</a>
X-ALT-DESC;FMTTYPE=text/html:<p>a<a href="https://www.scacr.org/learning-training/ringing-courses">nnual
  2-day ringing course</a></p><p>The&nbsp;<a href="https://www.scacr.org/lea
 rning-training/ringing-courses">available courses</a>&nbsp;are:</p><ul><li>
 Moving On From Rounds (2 days) [fully booked]</li><li>Plain Bob Doubles (2 
 days) [fully booked]</li><li>Beyond Plain Bob Minor (2 days) [3 places avai
 lable[</li><li>Developing Listening Skills (1 day) [fully booked]</li></ul>
 <p>The&nbsp;<a href="https://www.scacr.org/learning-training/ringing-course
 s">full description of each course</a>&nbsp;and the minimum standard needed
  is&nbsp;<a href="https://www.scacr.org/learning-training/ringing-courses">
 available here</a>.</p><p>To apply for a place on any course:</p><ol><li>Co
 mplete the&nbsp;<a href="https://www.scacr.org/index.php?option=com_acymail
 ing&amp;ctrl=url&amp;subid=1730&amp;urlid=559&amp;mailid=447" target="_blan
 k" rel="noopener" data-saferedirecturl="https://www.google.com/url?q=https:
 //www.scacr.org/index.php?option%3Dcom_acymailing%26ctrl%3Durl%26subid%3D17
 30%26urlid%3D559%26mailid%3D447&amp;source=gmail&amp;ust=1570224012338000&a
 mp;usg=AFQjCNFwWtLjYqHcNAnMjUiwY_ZW2zYbnA">application form</a>&nbsp;for yo
 ur chosen course.</li><li>Ask your Tower Captain to countersign the form.</
 li><li>Return the application form &amp; payment to&nbsp;<span id="cloaka8d
 b5c6cd886a90c0f98f06c0edd54c8">This email address is being protected from s
 pambots. You need JavaScript enabled to view it.</span><script type='text/j
 avascript'>
				document.getElementById('cloaka8db5c6cd886a90c0f98f06c0edd5
 4c8').innerHTML = '';
				var prefix = '&#109;a' + 'i&#108;' + '&#116;o';
	
 			var path = 'hr' + 'ef' + '=';
				var addya8db5c6cd886a90c0f98f06c0edd54
 c8 = 'r&#105;ng&#105;ngc&#111;&#117;rs&#101;' + '&#64;';
				addya8db5c6cd8
 86a90c0f98f06c0edd54c8 = addya8db5c6cd886a90c0f98f06c0edd54c8 + 'sc&#97;cr'
  + '&#46;' + '&#111;rg';
				var addy_texta8db5c6cd886a90c0f98f06c0edd54c8 
 = 'r&#105;ng&#105;ngc&#111;&#117;rs&#101;' + '&#64;' + 'sc&#97;cr' + '&#46;
 ' + '&#111;rg';document.getElementById('cloaka8db5c6cd886a90c0f98f06c0edd54
 c8').innerHTML += '<a ' + path + '\'' + prefix + ':' + addya8db5c6cd886a90c
 0f98f06c0edd54c8 + '\'>'+addy_texta8db5c6cd886a90c0f98f06c0edd54c8+'<\/a>';
 
		</script></li><li>As&nbsp;<strong>places are limited</strong>, please se
 nd individual cheques in case not all are successful in obtaining a place o
 n the course.</li></ol><p>If you would like to offer your services as a&nbs
 p;<strong>helper</strong>&nbsp;please contact David ASAP on 01903 813653 or
  via email to <span id="cloakb6843a21d0bd5799461463b2609eddc3">This email a
 ddress is being protected from spambots. You need JavaScript enabled to vie
 w it.</span><script type='text/javascript'>
				document.getElementById('cl
 oakb6843a21d0bd5799461463b2609eddc3').innerHTML = '';
				var prefix = '&#1
 09;a' + 'i&#108;' + '&#116;o';
				var path = 'hr' + 'ef' + '=';
				var ad
 dyb6843a21d0bd5799461463b2609eddc3 = 'r&#105;ng&#105;ngc&#111;&#117;rs&#101
 ;' + '&#64;';
				addyb6843a21d0bd5799461463b2609eddc3 = addyb6843a21d0bd57
 99461463b2609eddc3 + 'sc&#97;cr' + '&#46;' + '&#111;rg';
				var addy_textb
 6843a21d0bd5799461463b2609eddc3 = 'r&#105;ng&#105;ngc&#111;&#117;rs&#101;' 
 + '&#64;' + 'sc&#97;cr' + '&#46;' + '&#111;rg';document.getElementById('clo
 akb6843a21d0bd5799461463b2609eddc3').innerHTML += '<a ' + path + '\'' + pre
 fix + ':' + addyb6843a21d0bd5799461463b2609eddc3 + '\'>'+addy_textb6843a21d
 0bd5799461463b2609eddc3+'<\/a>';
		</script>.&nbsp;Either for one, two or e
 ven half a day this will help to make a difference.</p><p>Friday Warnham, H
 orsham and Southover; first two confirmed.</p><p>Saturday Hurstpierpoint, H
 enfield and Lower Beeding; L Beeding confirmed</p><p>&nbsp;</p> <a href="ht
 tps://www.scacr.org/news-events/calendar/641/association-ringing-course?tmp
 l=component">This event was imported from: https://www.scacr.org/news-event
 s/calendar/641/association-ringing-course?tmpl=component</a>CONTACT:This email address is being protected from spambots. You need JavaScript enabled to view it.
				document.getElementById('cloakc446672f1aa51f0a0410d8665b6a98a7').innerHTML = '';
				var prefix = '&#109;a' + 'i&#108;' + '&#116;o';
				var path = 'hr' + 'ef' + '=';
				var addyc446672f1aa51f0a0410d8665b6a98a7 = 'r&#105;ng&#105;ngc&#111;&#117;rs&#101;' + '&#64;';
				addyc446672f1aa51f0a0410d8665b6a98a7 = addyc446672f1aa51f0a0410d8665b6a98a7 + 'sc&#97;cr' + '&#46;' + '&#111;rg';
				var addy_textc446672f1aa51f0a0410d8665b6a98a7 = 'r&#105;ng&#105;ngc&#111;&#117;rs&#101;' + '&#64;' + 'sc&#97;cr' + '&#46;' + '&#111;rg';document.getElementById('cloakc446672f1aa51f0a0410d8665b6a98a7').innerHTML += '<a ' + path + '\'' + prefix + ':' + addyc446672f1aa51f0a0410d8665b6a98a7 + '\'>'+addy_textc446672f1aa51f0a0410d8665b6a98a7+'';
		
DTSTAMP:20260424T205144
DTSTART;TZID=Europe/London:20191101T100000
DTEND;TZID=Europe/London:20191102T170000
SEQUENCE:0
TRANSP:OPAQUE
END:VEVENT
END:VCALENDAR