BEGIN:VCALENDAR
VERSION:2.0
PRODID:-//jEvents 2.0 for Joomla//EN
CALSCALE:GREGORIAN
METHOD:PUBLISH
BEGIN:VTIMEZONE
TZID:Europe/London
BEGIN:STANDARD
DTSTART:20221030T010000
RDATE:20230326T020000
TZOFFSETFROM:+0100
TZOFFSETTO:+0000
TZNAME:Europe/London GMT
END:STANDARD
BEGIN:STANDARD
DTSTART:20231029T010000
RDATE:20240331T020000
TZOFFSETFROM:+0100
TZOFFSETTO:+0000
TZNAME:Europe/London GMT
END:STANDARD
BEGIN:STANDARD
DTSTART:20241027T010000
RDATE:20250330T020000
TZOFFSETFROM:+0100
TZOFFSETTO:+0000
TZNAME:Europe/London GMT
END:STANDARD
BEGIN:STANDARD
DTSTART:20251026T010000
RDATE:20260329T020000
TZOFFSETFROM:+0100
TZOFFSETTO:+0000
TZNAME:Europe/London GMT
END:STANDARD
BEGIN:STANDARD
DTSTART:20261025T010000
RDATE:20270328T020000
TZOFFSETFROM:+0100
TZOFFSETTO:+0000
TZNAME:Europe/London GMT
END:STANDARD
BEGIN:STANDARD
DTSTART:20271031T010000
RDATE:20280326T020000
TZOFFSETFROM:+0100
TZOFFSETTO:+0000
TZNAME:Europe/London GMT
END:STANDARD
BEGIN:STANDARD
DTSTART:20281029T010000
RDATE:20290325T020000
TZOFFSETFROM:+0100
TZOFFSETTO:+0000
TZNAME:Europe/London GMT
END:STANDARD
BEGIN:STANDARD
DTSTART:20291028T010000
RDATE:20300331T020000
TZOFFSETFROM:+0100
TZOFFSETTO:+0000
TZNAME:Europe/London GMT
END:STANDARD
BEGIN:STANDARD
DTSTART:20301027T010000
RDATE:20310330T020000
TZOFFSETFROM:+0100
TZOFFSETTO:+0000
TZNAME:Europe/London GMT
END:STANDARD
BEGIN:DAYLIGHT
DTSTART:20220618T193000
RDATE:20221030T010000
TZOFFSETFROM:+0000
TZOFFSETTO:+0100
TZNAME:Europe/London BST
END:DAYLIGHT
BEGIN:DAYLIGHT
DTSTART:20230326T020000
RDATE:20231029T010000
TZOFFSETFROM:+0000
TZOFFSETTO:+0100
TZNAME:Europe/London BST
END:DAYLIGHT
BEGIN:DAYLIGHT
DTSTART:20240331T020000
RDATE:20241027T010000
TZOFFSETFROM:+0000
TZOFFSETTO:+0100
TZNAME:Europe/London BST
END:DAYLIGHT
BEGIN:DAYLIGHT
DTSTART:20250330T020000
RDATE:20251026T010000
TZOFFSETFROM:+0000
TZOFFSETTO:+0100
TZNAME:Europe/London BST
END:DAYLIGHT
BEGIN:DAYLIGHT
DTSTART:20260329T020000
RDATE:20261025T010000
TZOFFSETFROM:+0000
TZOFFSETTO:+0100
TZNAME:Europe/London BST
END:DAYLIGHT
BEGIN:DAYLIGHT
DTSTART:20270328T020000
RDATE:20271031T010000
TZOFFSETFROM:+0000
TZOFFSETTO:+0100
TZNAME:Europe/London BST
END:DAYLIGHT
BEGIN:DAYLIGHT
DTSTART:20280326T020000
RDATE:20281029T010000
TZOFFSETFROM:+0000
TZOFFSETTO:+0100
TZNAME:Europe/London BST
END:DAYLIGHT
BEGIN:DAYLIGHT
DTSTART:20290325T020000
RDATE:20291028T010000
TZOFFSETFROM:+0000
TZOFFSETTO:+0100
TZNAME:Europe/London BST
END:DAYLIGHT
BEGIN:DAYLIGHT
DTSTART:20300331T020000
RDATE:20301027T010000
TZOFFSETFROM:+0000
TZOFFSETTO:+0100
TZNAME:Europe/London BST
END:DAYLIGHT
END:VTIMEZONE
BEGIN:VEVENT
UID:120ffd55c4b3225b20b768c4afd794bc
CATEGORIES:North
CREATED:20230217T193345
SUMMARY:Advanced Practice
LOCATION:Lower Beeding (confirmed)
URL;VALUE=URI:https://www.scacr.org/news-events/calendar/1083/advanced-practice?tmpl=comp
 onent
DESCRIPTION:<p>Advanced practices usually focus on Surprise Major; suggested minimum co
 mpetency is a plain course of Cambridge Surprise Major.&nbsp;</p><p><strong
 ><span style="color: #942192;">Method of the month: Deva</span></strong><br
  />Tip per Simon Linford’s book: “Bristol above the treble, Superlative bel
 ow the treble, and then executing a 1-8 half lead”.&nbsp;The aim for the pr
 actice is to ring the method of the month if enough people learn it, and so
 me spliced Core 7 (Cambridge, Yorkshire, Superlative, Cornwall, Lessness, L
 ondon, Bristol) depending on attendance. Other Surprise rung on request!&nb
 sp;</p><p>If you're planning to attend, please email Ness to let her know (
 <span id="cloak68cab4075a92fc635edb6dfaeb08f3cb">This email address is bein
 g protected from spambots. You need JavaScript enabled to view it.</span><s
 cript type='text/javascript'>
				document.getElementById('cloak68cab4075a9
 2fc635edb6dfaeb08f3cb').innerHTML = '';
				var prefix = '&#109;a' + 'i&#10
 8;' + '&#116;o';
				var path = 'hr' + 'ef' + '=';
				var addy68cab4075a92
 fc635edb6dfaeb08f3cb = 'n&#101;ssr&#105;ng&#105;ng' + '&#64;';
				addy68ca
 b4075a92fc635edb6dfaeb08f3cb = addy68cab4075a92fc635edb6dfaeb08f3cb + '&#10
 5;cl&#111;&#117;d' + '&#46;' + 'c&#111;m';
				var addy_text68cab4075a92fc6
 35edb6dfaeb08f3cb = 'n&#101;ssr&#105;ng&#105;ng' + '&#64;' + '&#105;cl&#111
 ;&#117;d' + '&#46;' + 'c&#111;m';document.getElementById('cloak68cab4075a92
 fc635edb6dfaeb08f3cb').innerHTML += '<a ' + path + '\'' + prefix + ':' + ad
 dy68cab4075a92fc635edb6dfaeb08f3cb + '\'>'+addy_text68cab4075a92fc635edb6df
 aeb08f3cb+'<\/a>';
		</script>). If not enough people confirm in advance, w
 e'll have to make the decision to cancel. Many thanks to Ness for organisin
 g these practices.</p><p>SCACR members from other Districts are very welcom
 e to attend!</p><p>We welcome attendees from outside SCACR, but please note
  that if you are attending more frequently than as an occasional guest, you
  are expected to be a ringing member (or life/long-service member) of SCACR
 . We also welcome new members! If you're interested in joining us, here's t
 he details:&nbsp;<a href="about-us/membership">https://www.scacr.org/about-
 us/membership</a>&nbsp;</p> <a href="https://www.scacr.org/news-events/cale
 ndar/1083/advanced-practice?tmpl=component">This event was imported from: h
 ttps://www.scacr.org/news-events/calendar/1083/advanced-practice?tmpl=compo
 nent</a>
X-ALT-DESC;FMTTYPE=text/html:<p>Advanced practices usually focus on Surprise Major; suggested minimum co
 mpetency is a plain course of Cambridge Surprise Major.&nbsp;</p><p><strong
 ><span style="color: #942192;">Method of the month: Deva</span></strong><br
  />Tip per Simon Linford’s book: “Bristol above the treble, Superlative bel
 ow the treble, and then executing a 1-8 half lead”.&nbsp;The aim for the pr
 actice is to ring the method of the month if enough people learn it, and so
 me spliced Core 7 (Cambridge, Yorkshire, Superlative, Cornwall, Lessness, L
 ondon, Bristol) depending on attendance. Other Surprise rung on request!&nb
 sp;</p><p>If you're planning to attend, please email Ness to let her know (
 <span id="cloak68cab4075a92fc635edb6dfaeb08f3cb">This email address is bein
 g protected from spambots. You need JavaScript enabled to view it.</span><s
 cript type='text/javascript'>
				document.getElementById('cloak68cab4075a9
 2fc635edb6dfaeb08f3cb').innerHTML = '';
				var prefix = '&#109;a' + 'i&#10
 8;' + '&#116;o';
				var path = 'hr' + 'ef' + '=';
				var addy68cab4075a92
 fc635edb6dfaeb08f3cb = 'n&#101;ssr&#105;ng&#105;ng' + '&#64;';
				addy68ca
 b4075a92fc635edb6dfaeb08f3cb = addy68cab4075a92fc635edb6dfaeb08f3cb + '&#10
 5;cl&#111;&#117;d' + '&#46;' + 'c&#111;m';
				var addy_text68cab4075a92fc6
 35edb6dfaeb08f3cb = 'n&#101;ssr&#105;ng&#105;ng' + '&#64;' + '&#105;cl&#111
 ;&#117;d' + '&#46;' + 'c&#111;m';document.getElementById('cloak68cab4075a92
 fc635edb6dfaeb08f3cb').innerHTML += '<a ' + path + '\'' + prefix + ':' + ad
 dy68cab4075a92fc635edb6dfaeb08f3cb + '\'>'+addy_text68cab4075a92fc635edb6df
 aeb08f3cb+'<\/a>';
		</script>). If not enough people confirm in advance, w
 e'll have to make the decision to cancel. Many thanks to Ness for organisin
 g these practices.</p><p>SCACR members from other Districts are very welcom
 e to attend!</p><p>We welcome attendees from outside SCACR, but please note
  that if you are attending more frequently than as an occasional guest, you
  are expected to be a ringing member (or life/long-service member) of SCACR
 . We also welcome new members! If you're interested in joining us, here's t
 he details:&nbsp;<a href="https://www.scacr.org/about-us/membership">https:
 //www.scacr.org/about-us/membership</a>&nbsp;</p> <a href="https://www.scac
 r.org/news-events/calendar/1083/advanced-practice?tmpl=component">This even
 t was imported from: https://www.scacr.org/news-events/calendar/1083/advanc
 ed-practice?tmpl=component</a>CONTACT:This email address is being protected from spambots. You need JavaScript enabled to view it.
				document.getElementById('cloak25363cefd1eee467ca1b526cf1024b05').innerHTML = '';
				var prefix = '&#109;a' + 'i&#108;' + '&#116;o';
				var path = 'hr' + 'ef' + '=';
				var addy25363cefd1eee467ca1b526cf1024b05 = 's&#101;c-n&#111;rth' + '&#64;';
				addy25363cefd1eee467ca1b526cf1024b05 = addy25363cefd1eee467ca1b526cf1024b05 + 'sc&#97;cr' + '&#46;' + '&#111;rg';
				var addy_text25363cefd1eee467ca1b526cf1024b05 = 's&#101;c-n&#111;rth' + '&#64;' + 'sc&#97;cr' + '&#46;' + '&#111;rg';document.getElementById('cloak25363cefd1eee467ca1b526cf1024b05').innerHTML += '<a ' + path + '\'' + prefix + ':' + addy25363cefd1eee467ca1b526cf1024b05 + '\'>'+addy_text25363cefd1eee467ca1b526cf1024b05+'';
		
DTSTAMP:20260420T143909
DTSTART;TZID=Europe/London:20230619T193000
DTEND;TZID=Europe/London:20230619T210000
SEQUENCE:0
TRANSP:OPAQUE
END:VEVENT
END:VCALENDAR