BEGIN:VCALENDAR
VERSION:2.0
PRODID:-//jEvents 2.0 for Joomla//EN
CALSCALE:GREGORIAN
METHOD:PUBLISH
BEGIN:VTIMEZONE
TZID:Europe/London
BEGIN:STANDARD
DTSTART:20211031T010000
RDATE:20220327T020000
TZOFFSETFROM:+0100
TZOFFSETTO:+0000
TZNAME:Europe/London GMT
END:STANDARD
BEGIN:STANDARD
DTSTART:20221030T010000
RDATE:20230326T020000
TZOFFSETFROM:+0100
TZOFFSETTO:+0000
TZNAME:Europe/London GMT
END:STANDARD
BEGIN:STANDARD
DTSTART:20231029T010000
RDATE:20240331T020000
TZOFFSETFROM:+0100
TZOFFSETTO:+0000
TZNAME:Europe/London GMT
END:STANDARD
BEGIN:STANDARD
DTSTART:20241027T010000
RDATE:20250330T020000
TZOFFSETFROM:+0100
TZOFFSETTO:+0000
TZNAME:Europe/London GMT
END:STANDARD
BEGIN:STANDARD
DTSTART:20251026T010000
RDATE:20260329T020000
TZOFFSETFROM:+0100
TZOFFSETTO:+0000
TZNAME:Europe/London GMT
END:STANDARD
BEGIN:STANDARD
DTSTART:20261025T010000
RDATE:20270328T020000
TZOFFSETFROM:+0100
TZOFFSETTO:+0000
TZNAME:Europe/London GMT
END:STANDARD
BEGIN:STANDARD
DTSTART:20271031T010000
RDATE:20280326T020000
TZOFFSETFROM:+0100
TZOFFSETTO:+0000
TZNAME:Europe/London GMT
END:STANDARD
BEGIN:STANDARD
DTSTART:20281029T010000
RDATE:20290325T020000
TZOFFSETFROM:+0100
TZOFFSETTO:+0000
TZNAME:Europe/London GMT
END:STANDARD
BEGIN:STANDARD
DTSTART:20291028T010000
RDATE:20300331T020000
TZOFFSETFROM:+0100
TZOFFSETTO:+0000
TZNAME:Europe/London GMT
END:STANDARD
BEGIN:STANDARD
DTSTART:20301027T010000
RDATE:20310330T020000
TZOFFSETFROM:+0100
TZOFFSETTO:+0000
TZNAME:Europe/London GMT
END:STANDARD
BEGIN:DAYLIGHT
DTSTART:20210805T140000
RDATE:20211031T010000
TZOFFSETFROM:+0000
TZOFFSETTO:+0100
TZNAME:Europe/London BST
END:DAYLIGHT
BEGIN:DAYLIGHT
DTSTART:20220327T020000
RDATE:20221030T010000
TZOFFSETFROM:+0000
TZOFFSETTO:+0100
TZNAME:Europe/London BST
END:DAYLIGHT
BEGIN:DAYLIGHT
DTSTART:20230326T020000
RDATE:20231029T010000
TZOFFSETFROM:+0000
TZOFFSETTO:+0100
TZNAME:Europe/London BST
END:DAYLIGHT
BEGIN:DAYLIGHT
DTSTART:20240331T020000
RDATE:20241027T010000
TZOFFSETFROM:+0000
TZOFFSETTO:+0100
TZNAME:Europe/London BST
END:DAYLIGHT
BEGIN:DAYLIGHT
DTSTART:20250330T020000
RDATE:20251026T010000
TZOFFSETFROM:+0000
TZOFFSETTO:+0100
TZNAME:Europe/London BST
END:DAYLIGHT
BEGIN:DAYLIGHT
DTSTART:20260329T020000
RDATE:20261025T010000
TZOFFSETFROM:+0000
TZOFFSETTO:+0100
TZNAME:Europe/London BST
END:DAYLIGHT
BEGIN:DAYLIGHT
DTSTART:20270328T020000
RDATE:20271031T010000
TZOFFSETFROM:+0000
TZOFFSETTO:+0100
TZNAME:Europe/London BST
END:DAYLIGHT
BEGIN:DAYLIGHT
DTSTART:20280326T020000
RDATE:20281029T010000
TZOFFSETFROM:+0000
TZOFFSETTO:+0100
TZNAME:Europe/London BST
END:DAYLIGHT
BEGIN:DAYLIGHT
DTSTART:20290325T020000
RDATE:20291028T010000
TZOFFSETFROM:+0000
TZOFFSETTO:+0100
TZNAME:Europe/London BST
END:DAYLIGHT
BEGIN:DAYLIGHT
DTSTART:20300331T020000
RDATE:20301027T010000
TZOFFSETFROM:+0000
TZOFFSETTO:+0100
TZNAME:Europe/London BST
END:DAYLIGHT
END:VTIMEZONE
BEGIN:VEVENT
UID:e2b92252f3c3713b23affcf95b296c86
CATEGORIES:Other Event
CREATED:20220710T211016
SUMMARY:Open ringing
LOCATION:Willingdon
URL;VALUE=URI:https://www.scacr.org/news-events/calendar/994/open-ringing?tmpl=component
DESCRIPTION:<p>St Mary's Willingdon flower festival. 5th/6th August 10.0-5.0, 7th Augus
 t 2.0-5.0.</p><div class="bi6gxh9e" data-block="true" data-editor="8rj7d" d
 ata-offset-key="e56in-0-0"><div class="_1mf _1mj" data-offset-key="e56in-0-
 0"><span data-offset-key="e56in-0-0">Open ringing Sat 6th August 2.0-4.0, a
 ll welcome.</span></div></div><div class="bi6gxh9e" data-block="true" data-
 editor="8rj7d" data-offset-key="5tbah-0-0"><div class="_1mf _1mj" data-offs
 et-key="5tbah-0-0"><span data-offset-key="5tbah-0-0">Refreshments on sale.<
 /span></div></div><div class="bi6gxh9e" data-block="true" data-editor="8rj7
 d" data-offset-key="fumvd-0-0"><div class="_1mf _1mj" data-offset-key="fumv
 d-0-0"><span data-offset-key="fumvd-0-0">In aid of Willingdon Bell Restorat
 ion.</span></div><div>&nbsp;</div></div> <a href="https://www.scacr.org/new
 s-events/calendar/994/open-ringing?tmpl=component">This event was imported 
 from: https://www.scacr.org/news-events/calendar/994/open-ringing?tmpl=comp
 onent</a>CONTACT:This email address is being protected from spambots. You need JavaScript enabled to view it.
				document.getElementById('cloak9219d9f974f7901f21e71427ca8dcb83').innerHTML = '';
				var prefix = '&#109;a' + 'i&#108;' + '&#116;o';
				var path = 'hr' + 'ef' + '=';
				var addy9219d9f974f7901f21e71427ca8dcb83 = 'n&#105;ckc&#97;ntb&#101;lls' + '&#64;';
				addy9219d9f974f7901f21e71427ca8dcb83 = addy9219d9f974f7901f21e71427ca8dcb83 + '&#111;&#117;tl&#111;&#111;k' + '&#46;' + 'c&#111;m';
				var addy_text9219d9f974f7901f21e71427ca8dcb83 = 'n&#105;ckc&#97;ntb&#101;lls' + '&#64;' + '&#111;&#117;tl&#111;&#111;k' + '&#46;' + 'c&#111;m';document.getElementById('cloak9219d9f974f7901f21e71427ca8dcb83').innerHTML += '<a ' + path + '\'' + prefix + ':' + addy9219d9f974f7901f21e71427ca8dcb83 + '\'>'+addy_text9219d9f974f7901f21e71427ca8dcb83+'';
		
X-EXTRAINFO:Arranged by the Willingdon ringers. I (Nick) shall only be able to pass on 
 messages.
DTSTAMP:20260420T115722
DTSTART;TZID=Europe/London:20220806T140000
DTEND;TZID=Europe/London:20220806T160000
SEQUENCE:0
TRANSP:OPAQUE
END:VEVENT
END:VCALENDAR