BEGIN:VCALENDAR
VERSION:2.0
PRODID:-//jEvents 2.0 for Joomla//EN
CALSCALE:GREGORIAN
METHOD:PUBLISH
BEGIN:VTIMEZONE
TZID:Europe/London
BEGIN:STANDARD
DTSTART:20211031T010000
RDATE:20220327T020000
TZOFFSETFROM:+0100
TZOFFSETTO:+0000
TZNAME:Europe/London GMT
END:STANDARD
BEGIN:STANDARD
DTSTART:20221030T010000
RDATE:20230326T020000
TZOFFSETFROM:+0100
TZOFFSETTO:+0000
TZNAME:Europe/London GMT
END:STANDARD
BEGIN:STANDARD
DTSTART:20231029T010000
RDATE:20240331T020000
TZOFFSETFROM:+0100
TZOFFSETTO:+0000
TZNAME:Europe/London GMT
END:STANDARD
BEGIN:STANDARD
DTSTART:20241027T010000
RDATE:20250330T020000
TZOFFSETFROM:+0100
TZOFFSETTO:+0000
TZNAME:Europe/London GMT
END:STANDARD
BEGIN:STANDARD
DTSTART:20251026T010000
RDATE:20260329T020000
TZOFFSETFROM:+0100
TZOFFSETTO:+0000
TZNAME:Europe/London GMT
END:STANDARD
BEGIN:STANDARD
DTSTART:20261025T010000
RDATE:20270328T020000
TZOFFSETFROM:+0100
TZOFFSETTO:+0000
TZNAME:Europe/London GMT
END:STANDARD
BEGIN:STANDARD
DTSTART:20271031T010000
RDATE:20280326T020000
TZOFFSETFROM:+0100
TZOFFSETTO:+0000
TZNAME:Europe/London GMT
END:STANDARD
BEGIN:STANDARD
DTSTART:20281029T010000
RDATE:20290325T020000
TZOFFSETFROM:+0100
TZOFFSETTO:+0000
TZNAME:Europe/London GMT
END:STANDARD
BEGIN:STANDARD
DTSTART:20291028T010000
RDATE:20300331T020000
TZOFFSETFROM:+0100
TZOFFSETTO:+0000
TZNAME:Europe/London GMT
END:STANDARD
BEGIN:STANDARD
DTSTART:20301027T010000
RDATE:20310330T020000
TZOFFSETFROM:+0100
TZOFFSETTO:+0000
TZNAME:Europe/London GMT
END:STANDARD
BEGIN:DAYLIGHT
DTSTART:20210826T101500
RDATE:20211031T010000
TZOFFSETFROM:+0000
TZOFFSETTO:+0100
TZNAME:Europe/London BST
END:DAYLIGHT
BEGIN:DAYLIGHT
DTSTART:20220327T020000
RDATE:20221030T010000
TZOFFSETFROM:+0000
TZOFFSETTO:+0100
TZNAME:Europe/London BST
END:DAYLIGHT
BEGIN:DAYLIGHT
DTSTART:20230326T020000
RDATE:20231029T010000
TZOFFSETFROM:+0000
TZOFFSETTO:+0100
TZNAME:Europe/London BST
END:DAYLIGHT
BEGIN:DAYLIGHT
DTSTART:20240331T020000
RDATE:20241027T010000
TZOFFSETFROM:+0000
TZOFFSETTO:+0100
TZNAME:Europe/London BST
END:DAYLIGHT
BEGIN:DAYLIGHT
DTSTART:20250330T020000
RDATE:20251026T010000
TZOFFSETFROM:+0000
TZOFFSETTO:+0100
TZNAME:Europe/London BST
END:DAYLIGHT
BEGIN:DAYLIGHT
DTSTART:20260329T020000
RDATE:20261025T010000
TZOFFSETFROM:+0000
TZOFFSETTO:+0100
TZNAME:Europe/London BST
END:DAYLIGHT
BEGIN:DAYLIGHT
DTSTART:20270328T020000
RDATE:20271031T010000
TZOFFSETFROM:+0000
TZOFFSETTO:+0100
TZNAME:Europe/London BST
END:DAYLIGHT
BEGIN:DAYLIGHT
DTSTART:20280326T020000
RDATE:20281029T010000
TZOFFSETFROM:+0000
TZOFFSETTO:+0100
TZNAME:Europe/London BST
END:DAYLIGHT
BEGIN:DAYLIGHT
DTSTART:20290325T020000
RDATE:20291028T010000
TZOFFSETFROM:+0000
TZOFFSETTO:+0100
TZNAME:Europe/London BST
END:DAYLIGHT
BEGIN:DAYLIGHT
DTSTART:20300331T020000
RDATE:20301027T010000
TZOFFSETFROM:+0000
TZOFFSETTO:+0100
TZNAME:Europe/London BST
END:DAYLIGHT
END:VTIMEZONE
BEGIN:VEVENT
UID:b0718b06b80c4985926e99366441bae9
CATEGORIES:West
CREATED:20220611T212910
SUMMARY:Surprise Minor Practice Update! Change of Venue!
LOCATION:St Thomas a Becket Church\, Pagham
URL;VALUE=URI:https://www.scacr.org/news-events/calendar/984/surprise-minor-practice-upda
 te-change-of-venue?tmpl=component
DESCRIPTION:<p>This is a regular monthly event giving ringers the opportunity to ring m
 ethods such as Plain courses and touches of Cambridge and Norwich and Plain
  courses of Beverley, London, Carlisle and Pure Treble Bob Hunt.&nbsp; &nbs
 p;Refreshments are provided.&nbsp; Please contact <span id="cloak523ee9cf40
 c3ae2d10a070a3f04b4ae8">This email address is being protected from spambots
 . You need JavaScript enabled to view it.</span><script type='text/javascri
 pt'>
				document.getElementById('cloak523ee9cf40c3ae2d10a070a3f04b4ae8').i
 nnerHTML = '';
				var prefix = '&#109;a' + 'i&#108;' + '&#116;o';
				var 
 path = 'hr' + 'ef' + '=';
				var addy523ee9cf40c3ae2d10a070a3f04b4ae8 = 's
 &#101;c-w&#101;st' + '&#64;';
				addy523ee9cf40c3ae2d10a070a3f04b4ae8 = ad
 dy523ee9cf40c3ae2d10a070a3f04b4ae8 + 'sc&#97;cr' + '&#46;' + '&#111;rg';
		
 		var addy_text523ee9cf40c3ae2d10a070a3f04b4ae8 = 's&#101;c-w&#101;st' + '&
 #64;' + 'sc&#97;cr' + '&#46;' + '&#111;rg';document.getElementById('cloak52
 3ee9cf40c3ae2d10a070a3f04b4ae8').innerHTML += '<a ' + path + '\'' + prefix 
 + ':' + addy523ee9cf40c3ae2d10a070a3f04b4ae8 + '\'>'+addy_text523ee9cf40c3a
 e2d10a070a3f04b4ae8+'<\/a>';
		</script>&nbsp;if you would like refreshment
 s.&nbsp; PLEASE NOTE THAT THIS IS AT PAGHAM THIS MONTH DUE TO A CLASH OF EV
 ENTS IN THE CHURCH!!!</p> <a href="https://www.scacr.org/news-events/calend
 ar/984/surprise-minor-practice-update-change-of-venue?tmpl=component">This 
 event was imported from: https://www.scacr.org/news-events/calendar/984/sur
 prise-minor-practice-update-change-of-venue?tmpl=component</a>CONTACT:This email address is being protected from spambots. You need JavaScript enabled to view it.
				document.getElementById('cloakf8574fbb6f487435f2492b9380557e8a').innerHTML = '';
				var prefix = '&#109;a' + 'i&#108;' + '&#116;o';
				var path = 'hr' + 'ef' + '=';
				var addyf8574fbb6f487435f2492b9380557e8a = 's&#101;c-w&#101;st' + '&#64;';
				addyf8574fbb6f487435f2492b9380557e8a = addyf8574fbb6f487435f2492b9380557e8a + 'sc&#97;cr' + '&#46;' + '&#111;rg';
				var addy_textf8574fbb6f487435f2492b9380557e8a = 's&#101;c-w&#101;st' + '&#64;' + 'sc&#97;cr' + '&#46;' + '&#111;rg';document.getElementById('cloakf8574fbb6f487435f2492b9380557e8a').innerHTML += '<a ' + path + '\'' + prefix + ':' + addyf8574fbb6f487435f2492b9380557e8a + '\'>'+addy_textf8574fbb6f487435f2492b9380557e8a+'';
		
DTSTAMP:20260421T102115
DTSTART;TZID=Europe/London:20220827T101500
DTEND;TZID=Europe/London:20220827T120000
SEQUENCE:0
TRANSP:OPAQUE
END:VEVENT
END:VCALENDAR