BEGIN:VCALENDAR
VERSION:2.0
PRODID:-//jEvents 2.0 for Joomla//EN
CALSCALE:GREGORIAN
METHOD:PUBLISH
BEGIN:VTIMEZONE
TZID:Europe/London
BEGIN:STANDARD
DTSTART:20211031T010000
RDATE:20220327T020000
TZOFFSETFROM:+0100
TZOFFSETTO:+0000
TZNAME:Europe/London GMT
END:STANDARD
BEGIN:STANDARD
DTSTART:20221030T010000
RDATE:20230326T020000
TZOFFSETFROM:+0100
TZOFFSETTO:+0000
TZNAME:Europe/London GMT
END:STANDARD
BEGIN:STANDARD
DTSTART:20231029T010000
RDATE:20240331T020000
TZOFFSETFROM:+0100
TZOFFSETTO:+0000
TZNAME:Europe/London GMT
END:STANDARD
BEGIN:STANDARD
DTSTART:20241027T010000
RDATE:20250330T020000
TZOFFSETFROM:+0100
TZOFFSETTO:+0000
TZNAME:Europe/London GMT
END:STANDARD
BEGIN:STANDARD
DTSTART:20251026T010000
RDATE:20260329T020000
TZOFFSETFROM:+0100
TZOFFSETTO:+0000
TZNAME:Europe/London GMT
END:STANDARD
BEGIN:STANDARD
DTSTART:20261025T010000
RDATE:20270328T020000
TZOFFSETFROM:+0100
TZOFFSETTO:+0000
TZNAME:Europe/London GMT
END:STANDARD
BEGIN:STANDARD
DTSTART:20271031T010000
RDATE:20280326T020000
TZOFFSETFROM:+0100
TZOFFSETTO:+0000
TZNAME:Europe/London GMT
END:STANDARD
BEGIN:STANDARD
DTSTART:20281029T010000
RDATE:20290325T020000
TZOFFSETFROM:+0100
TZOFFSETTO:+0000
TZNAME:Europe/London GMT
END:STANDARD
BEGIN:STANDARD
DTSTART:20291028T010000
RDATE:20300331T020000
TZOFFSETFROM:+0100
TZOFFSETTO:+0000
TZNAME:Europe/London GMT
END:STANDARD
BEGIN:STANDARD
DTSTART:20301027T010000
RDATE:20310330T020000
TZOFFSETFROM:+0100
TZOFFSETTO:+0000
TZNAME:Europe/London GMT
END:STANDARD
BEGIN:DAYLIGHT
DTSTART:20210624T101500
RDATE:20211031T010000
TZOFFSETFROM:+0000
TZOFFSETTO:+0100
TZNAME:Europe/London BST
END:DAYLIGHT
BEGIN:DAYLIGHT
DTSTART:20220327T020000
RDATE:20221030T010000
TZOFFSETFROM:+0000
TZOFFSETTO:+0100
TZNAME:Europe/London BST
END:DAYLIGHT
BEGIN:DAYLIGHT
DTSTART:20230326T020000
RDATE:20231029T010000
TZOFFSETFROM:+0000
TZOFFSETTO:+0100
TZNAME:Europe/London BST
END:DAYLIGHT
BEGIN:DAYLIGHT
DTSTART:20240331T020000
RDATE:20241027T010000
TZOFFSETFROM:+0000
TZOFFSETTO:+0100
TZNAME:Europe/London BST
END:DAYLIGHT
BEGIN:DAYLIGHT
DTSTART:20250330T020000
RDATE:20251026T010000
TZOFFSETFROM:+0000
TZOFFSETTO:+0100
TZNAME:Europe/London BST
END:DAYLIGHT
BEGIN:DAYLIGHT
DTSTART:20260329T020000
RDATE:20261025T010000
TZOFFSETFROM:+0000
TZOFFSETTO:+0100
TZNAME:Europe/London BST
END:DAYLIGHT
BEGIN:DAYLIGHT
DTSTART:20270328T020000
RDATE:20271031T010000
TZOFFSETFROM:+0000
TZOFFSETTO:+0100
TZNAME:Europe/London BST
END:DAYLIGHT
BEGIN:DAYLIGHT
DTSTART:20280326T020000
RDATE:20281029T010000
TZOFFSETFROM:+0000
TZOFFSETTO:+0100
TZNAME:Europe/London BST
END:DAYLIGHT
BEGIN:DAYLIGHT
DTSTART:20290325T020000
RDATE:20291028T010000
TZOFFSETFROM:+0000
TZOFFSETTO:+0100
TZNAME:Europe/London BST
END:DAYLIGHT
BEGIN:DAYLIGHT
DTSTART:20300331T020000
RDATE:20301027T010000
TZOFFSETFROM:+0000
TZOFFSETTO:+0100
TZNAME:Europe/London BST
END:DAYLIGHT
END:VTIMEZONE
BEGIN:VEVENT
UID:56a65f02862030fbe44802a9941b943b
CATEGORIES:West
CREATED:20220611T203658
SUMMARY:Surprise Minor Practice
LOCATION:St Mary's Church\, Walberton
URL;VALUE=URI:https://www.scacr.org/news-events/calendar/980/surprise-minor-practice?tmpl
 =component
DESCRIPTION:This is a regular monthly event giving ringers the opportunity to ring such
  methods.  Refreshments are provided.  Please contact This email address is
  being protected from spambots. You need JavaScript enabled to view it.
			
 	document.getElementById('cloak5a4041c7825bda84e9a749003f80348a').innerHTML
  = '';
				var prefix = '&#109;a' + 'i&#108;' + '&#116;o';
				var path = '
 hr' + 'ef' + '=';
				var addy5a4041c7825bda84e9a749003f80348a = 's&#101;c-
 w&#101;st' + '&#64;';
				addy5a4041c7825bda84e9a749003f80348a = addy5a4041
 c7825bda84e9a749003f80348a + 'sc&#97;cr' + '&#46;' + '&#111;rg';
				var ad
 dy_text5a4041c7825bda84e9a749003f80348a = 's&#101;c-w&#101;st' + '&#64;' + 
 'sc&#97;cr' + '&#46;' + '&#111;rg';document.getElementById('cloak5a4041c782
 5bda84e9a749003f80348a').innerHTML += '<a ' + path + '\'' + prefix + ':' + 
 addy5a4041c7825bda84e9a749003f80348a + '\'>'+addy_text5a4041c7825bda84e9a74
 9003f80348a+'';
		 if you would like refreshments.\n This event was importe
 d from: https://www.scacr.org/news-events/calendar/980/surprise-minor-pract
 ice?tmpl=component (https://www.scacr.org/news-events/calendar/980/surprise
 -minor-practice?tmpl=component)
X-ALT-DESC;FMTTYPE=text/html:<p>This is a regular monthly event giving ringers the opportunity to ring s
 uch methods.&nbsp; Refreshments are provided.&nbsp; Please contact <span id
 ="cloak5a4041c7825bda84e9a749003f80348a">This email address is being protec
 ted from spambots. You need JavaScript enabled to view it.</span><script ty
 pe='text/javascript'>
				document.getElementById('cloak5a4041c7825bda84e9a
 749003f80348a').innerHTML = '';
				var prefix = '&#109;a' + 'i&#108;' + '&
 #116;o';
				var path = 'hr' + 'ef' + '=';
				var addy5a4041c7825bda84e9a7
 49003f80348a = 's&#101;c-w&#101;st' + '&#64;';
				addy5a4041c7825bda84e9a7
 49003f80348a = addy5a4041c7825bda84e9a749003f80348a + 'sc&#97;cr' + '&#46;'
  + '&#111;rg';
				var addy_text5a4041c7825bda84e9a749003f80348a = 's&#101;
 c-w&#101;st' + '&#64;' + 'sc&#97;cr' + '&#46;' + '&#111;rg';document.getEle
 mentById('cloak5a4041c7825bda84e9a749003f80348a').innerHTML += '<a ' + path
  + '\'' + prefix + ':' + addy5a4041c7825bda84e9a749003f80348a + '\'>'+addy_
 text5a4041c7825bda84e9a749003f80348a+'<\/a>';
		</script>&nbsp;if you would
  like refreshments.</p> <a href="https://www.scacr.org/news-events/calendar
 /980/surprise-minor-practice?tmpl=component">This event was imported from: 
 https://www.scacr.org/news-events/calendar/980/surprise-minor-practice?tmpl
 =component</a>CONTACT:This email address is being protected from spambots. You need JavaScript enabled to view it.
				document.getElementById('cloakb01c5e0a668989c62ff2d5ab7078ce10').innerHTML = '';
				var prefix = '&#109;a' + 'i&#108;' + '&#116;o';
				var path = 'hr' + 'ef' + '=';
				var addyb01c5e0a668989c62ff2d5ab7078ce10 = 's&#101;c-w&#101;st' + '&#64;';
				addyb01c5e0a668989c62ff2d5ab7078ce10 = addyb01c5e0a668989c62ff2d5ab7078ce10 + 'sc&#97;cr' + '&#46;' + '&#111;rg';
				var addy_textb01c5e0a668989c62ff2d5ab7078ce10 = 's&#101;c-w&#101;st' + '&#64;' + 'sc&#97;cr' + '&#46;' + '&#111;rg';document.getElementById('cloakb01c5e0a668989c62ff2d5ab7078ce10').innerHTML += '<a ' + path + '\'' + prefix + ':' + addyb01c5e0a668989c62ff2d5ab7078ce10 + '\'>'+addy_textb01c5e0a668989c62ff2d5ab7078ce10+'';
		
DTSTAMP:20260419T143544
DTSTART;TZID=Europe/London:20220625T101500
DTEND;TZID=Europe/London:20220625T120000
SEQUENCE:0
TRANSP:OPAQUE
END:VEVENT
END:VCALENDAR