BEGIN:VCALENDAR
VERSION:2.0
PRODID:-//jEvents 2.0 for Joomla//EN
CALSCALE:GREGORIAN
METHOD:PUBLISH
BEGIN:VTIMEZONE
TZID:Europe/London
BEGIN:STANDARD
DTSTART:20211031T010000
RDATE:20220327T020000
TZOFFSETFROM:+0100
TZOFFSETTO:+0000
TZNAME:Europe/London GMT
END:STANDARD
BEGIN:STANDARD
DTSTART:20221030T010000
RDATE:20230326T020000
TZOFFSETFROM:+0100
TZOFFSETTO:+0000
TZNAME:Europe/London GMT
END:STANDARD
BEGIN:STANDARD
DTSTART:20231029T010000
RDATE:20240331T020000
TZOFFSETFROM:+0100
TZOFFSETTO:+0000
TZNAME:Europe/London GMT
END:STANDARD
BEGIN:STANDARD
DTSTART:20241027T010000
RDATE:20250330T020000
TZOFFSETFROM:+0100
TZOFFSETTO:+0000
TZNAME:Europe/London GMT
END:STANDARD
BEGIN:STANDARD
DTSTART:20251026T010000
RDATE:20260329T020000
TZOFFSETFROM:+0100
TZOFFSETTO:+0000
TZNAME:Europe/London GMT
END:STANDARD
BEGIN:STANDARD
DTSTART:20261025T010000
RDATE:20270328T020000
TZOFFSETFROM:+0100
TZOFFSETTO:+0000
TZNAME:Europe/London GMT
END:STANDARD
BEGIN:STANDARD
DTSTART:20271031T010000
RDATE:20280326T020000
TZOFFSETFROM:+0100
TZOFFSETTO:+0000
TZNAME:Europe/London GMT
END:STANDARD
BEGIN:STANDARD
DTSTART:20281029T010000
RDATE:20290325T020000
TZOFFSETFROM:+0100
TZOFFSETTO:+0000
TZNAME:Europe/London GMT
END:STANDARD
BEGIN:STANDARD
DTSTART:20291028T010000
RDATE:20300331T020000
TZOFFSETFROM:+0100
TZOFFSETTO:+0000
TZNAME:Europe/London GMT
END:STANDARD
BEGIN:STANDARD
DTSTART:20301027T010000
RDATE:20310330T020000
TZOFFSETFROM:+0100
TZOFFSETTO:+0000
TZNAME:Europe/London GMT
END:STANDARD
BEGIN:DAYLIGHT
DTSTART:20210616T193000
RDATE:20211031T010000
TZOFFSETFROM:+0000
TZOFFSETTO:+0100
TZNAME:Europe/London BST
END:DAYLIGHT
BEGIN:DAYLIGHT
DTSTART:20220327T020000
RDATE:20221030T010000
TZOFFSETFROM:+0000
TZOFFSETTO:+0100
TZNAME:Europe/London BST
END:DAYLIGHT
BEGIN:DAYLIGHT
DTSTART:20230326T020000
RDATE:20231029T010000
TZOFFSETFROM:+0000
TZOFFSETTO:+0100
TZNAME:Europe/London BST
END:DAYLIGHT
BEGIN:DAYLIGHT
DTSTART:20240331T020000
RDATE:20241027T010000
TZOFFSETFROM:+0000
TZOFFSETTO:+0100
TZNAME:Europe/London BST
END:DAYLIGHT
BEGIN:DAYLIGHT
DTSTART:20250330T020000
RDATE:20251026T010000
TZOFFSETFROM:+0000
TZOFFSETTO:+0100
TZNAME:Europe/London BST
END:DAYLIGHT
BEGIN:DAYLIGHT
DTSTART:20260329T020000
RDATE:20261025T010000
TZOFFSETFROM:+0000
TZOFFSETTO:+0100
TZNAME:Europe/London BST
END:DAYLIGHT
BEGIN:DAYLIGHT
DTSTART:20270328T020000
RDATE:20271031T010000
TZOFFSETFROM:+0000
TZOFFSETTO:+0100
TZNAME:Europe/London BST
END:DAYLIGHT
BEGIN:DAYLIGHT
DTSTART:20280326T020000
RDATE:20281029T010000
TZOFFSETFROM:+0000
TZOFFSETTO:+0100
TZNAME:Europe/London BST
END:DAYLIGHT
BEGIN:DAYLIGHT
DTSTART:20290325T020000
RDATE:20291028T010000
TZOFFSETFROM:+0000
TZOFFSETTO:+0100
TZNAME:Europe/London BST
END:DAYLIGHT
BEGIN:DAYLIGHT
DTSTART:20300331T020000
RDATE:20301027T010000
TZOFFSETFROM:+0000
TZOFFSETTO:+0100
TZNAME:Europe/London BST
END:DAYLIGHT
END:VTIMEZONE
BEGIN:VEVENT
UID:6775e8186296889787cee527ac181b41
CATEGORIES:West
CREATED:20220611T202653
SUMMARY:Beginners 8 Bell Practice
LOCATION:St Nicholas Church\, Arundel. 
URL;VALUE=URI:https://www.scacr.org/news-events/calendar/979/beginners-8-bell-practice?tm
 pl=component
DESCRIPTION:An opportunity to ring on 8 bells with plenty of support, especially for th
 ose not used to ringing on 8.  This event occurs every month!  Please be aw
 are regarding parking as this is restricted!!    Look forward to seeing you
  there!\n This event was imported from: https://www.scacr.org/news-events/c
 alendar/979/beginners-8-bell-practice?tmpl=component (https://www.scacr.org
 /news-events/calendar/979/beginners-8-bell-practice?tmpl=component)
X-ALT-DESC;FMTTYPE=text/html:<p>An opportunity to ring on 8 bells with plenty of support, especially for
  those not used to ringing on 8.&nbsp; This event occurs every month!&nbsp;
  Please be aware regarding parking as this is restricted!!&nbsp; &nbsp; Loo
 k forward to seeing you there!</p> <a href="https://www.scacr.org/news-even
 ts/calendar/979/beginners-8-bell-practice?tmpl=component">This event was im
 ported from: https://www.scacr.org/news-events/calendar/979/beginners-8-bel
 l-practice?tmpl=component</a>CONTACT:This email address is being protected from spambots. You need JavaScript enabled to view it.
				document.getElementById('cloak69b76686bc177b569b76ce5fcdb0c3ba').innerHTML = '';
				var prefix = '&#109;a' + 'i&#108;' + '&#116;o';
				var path = 'hr' + 'ef' + '=';
				var addy69b76686bc177b569b76ce5fcdb0c3ba = 's&#101;c-w&#101;st' + '&#64;';
				addy69b76686bc177b569b76ce5fcdb0c3ba = addy69b76686bc177b569b76ce5fcdb0c3ba + 'sc&#97;cr' + '&#46;' + '&#111;rg';
				var addy_text69b76686bc177b569b76ce5fcdb0c3ba = 's&#101;c-w&#101;st' + '&#64;' + 'sc&#97;cr' + '&#46;' + '&#111;rg';document.getElementById('cloak69b76686bc177b569b76ce5fcdb0c3ba').innerHTML += '<a ' + path + '\'' + prefix + ':' + addy69b76686bc177b569b76ce5fcdb0c3ba + '\'>'+addy_text69b76686bc177b569b76ce5fcdb0c3ba+'';
		
DTSTAMP:20260419T143547
DTSTART;TZID=Europe/London:20220617T193000
DTEND;TZID=Europe/London:20220617T210000
SEQUENCE:0
TRANSP:OPAQUE
END:VEVENT
END:VCALENDAR