BEGIN:VCALENDAR
VERSION:2.0
PRODID:-//jEvents 2.0 for Joomla//EN
CALSCALE:GREGORIAN
METHOD:PUBLISH
BEGIN:VTIMEZONE
TZID:Europe/London
BEGIN:STANDARD
DTSTART:20211031T010000
RDATE:20220327T020000
TZOFFSETFROM:+0100
TZOFFSETTO:+0000
TZNAME:Europe/London GMT
END:STANDARD
BEGIN:STANDARD
DTSTART:20221030T010000
RDATE:20230326T020000
TZOFFSETFROM:+0100
TZOFFSETTO:+0000
TZNAME:Europe/London GMT
END:STANDARD
BEGIN:STANDARD
DTSTART:20231029T010000
RDATE:20240331T020000
TZOFFSETFROM:+0100
TZOFFSETTO:+0000
TZNAME:Europe/London GMT
END:STANDARD
BEGIN:STANDARD
DTSTART:20241027T010000
RDATE:20250330T020000
TZOFFSETFROM:+0100
TZOFFSETTO:+0000
TZNAME:Europe/London GMT
END:STANDARD
BEGIN:STANDARD
DTSTART:20251026T010000
RDATE:20260329T020000
TZOFFSETFROM:+0100
TZOFFSETTO:+0000
TZNAME:Europe/London GMT
END:STANDARD
BEGIN:STANDARD
DTSTART:20261025T010000
RDATE:20270328T020000
TZOFFSETFROM:+0100
TZOFFSETTO:+0000
TZNAME:Europe/London GMT
END:STANDARD
BEGIN:STANDARD
DTSTART:20271031T010000
RDATE:20280326T020000
TZOFFSETFROM:+0100
TZOFFSETTO:+0000
TZNAME:Europe/London GMT
END:STANDARD
BEGIN:STANDARD
DTSTART:20281029T010000
RDATE:20290325T020000
TZOFFSETFROM:+0100
TZOFFSETTO:+0000
TZNAME:Europe/London GMT
END:STANDARD
BEGIN:STANDARD
DTSTART:20291028T010000
RDATE:20300331T020000
TZOFFSETFROM:+0100
TZOFFSETTO:+0000
TZNAME:Europe/London GMT
END:STANDARD
BEGIN:STANDARD
DTSTART:20301027T010000
RDATE:20310330T020000
TZOFFSETFROM:+0100
TZOFFSETTO:+0000
TZNAME:Europe/London GMT
END:STANDARD
BEGIN:DAYLIGHT
DTSTART:20210619T193000
RDATE:20211031T010000
TZOFFSETFROM:+0000
TZOFFSETTO:+0100
TZNAME:Europe/London BST
END:DAYLIGHT
BEGIN:DAYLIGHT
DTSTART:20220327T020000
RDATE:20221030T010000
TZOFFSETFROM:+0000
TZOFFSETTO:+0100
TZNAME:Europe/London BST
END:DAYLIGHT
BEGIN:DAYLIGHT
DTSTART:20230326T020000
RDATE:20231029T010000
TZOFFSETFROM:+0000
TZOFFSETTO:+0100
TZNAME:Europe/London BST
END:DAYLIGHT
BEGIN:DAYLIGHT
DTSTART:20240331T020000
RDATE:20241027T010000
TZOFFSETFROM:+0000
TZOFFSETTO:+0100
TZNAME:Europe/London BST
END:DAYLIGHT
BEGIN:DAYLIGHT
DTSTART:20250330T020000
RDATE:20251026T010000
TZOFFSETFROM:+0000
TZOFFSETTO:+0100
TZNAME:Europe/London BST
END:DAYLIGHT
BEGIN:DAYLIGHT
DTSTART:20260329T020000
RDATE:20261025T010000
TZOFFSETFROM:+0000
TZOFFSETTO:+0100
TZNAME:Europe/London BST
END:DAYLIGHT
BEGIN:DAYLIGHT
DTSTART:20270328T020000
RDATE:20271031T010000
TZOFFSETFROM:+0000
TZOFFSETTO:+0100
TZNAME:Europe/London BST
END:DAYLIGHT
BEGIN:DAYLIGHT
DTSTART:20280326T020000
RDATE:20281029T010000
TZOFFSETFROM:+0000
TZOFFSETTO:+0100
TZNAME:Europe/London BST
END:DAYLIGHT
BEGIN:DAYLIGHT
DTSTART:20290325T020000
RDATE:20291028T010000
TZOFFSETFROM:+0000
TZOFFSETTO:+0100
TZNAME:Europe/London BST
END:DAYLIGHT
BEGIN:DAYLIGHT
DTSTART:20300331T020000
RDATE:20301027T010000
TZOFFSETFROM:+0000
TZOFFSETTO:+0100
TZNAME:Europe/London BST
END:DAYLIGHT
END:VTIMEZONE
BEGIN:VEVENT
UID:fd2ba796617fe30faaf1c2b4f7c2ca00
CATEGORIES:North
CREATED:20220610T073230
SUMMARY:Focused practice - Grandsire Triples
LOCATION:TBC
URL;VALUE=URI:https://www.scacr.org/news-events/calendar/967/focused-practice-grandsire-t
 riples?tmpl=component
DESCRIPTION:This series of practices is for a small group of learners to focus on maste
 ring touches of Grandsire Triples. Learners who wish to attend should commi
 t to all three practices, and register in advance.  To register, contact St
 eph - This email address is being protected from spambots. You need JavaScr
 ipt enabled to view it.
				document.getElementById('cloak5827ffd74386128f3
 5857cc53dd22b5b').innerHTML = '';
				var prefix = '&#109;a' + 'i&#108;' + 
 '&#116;o';
				var path = 'hr' + 'ef' + '=';
				var addy5827ffd74386128f35
 857cc53dd22b5b = 's&#101;c-n&#111;rth' + '&#64;';
				addy5827ffd74386128f3
 5857cc53dd22b5b = addy5827ffd74386128f35857cc53dd22b5b + 'sc&#97;cr' + '&#4
 6;' + '&#111;rg';
				var addy_text5827ffd74386128f35857cc53dd22b5b = 's&#1
 01;c-n&#111;rth' + '&#64;' + 'sc&#97;cr' + '&#46;' + '&#111;rg';document.ge
 tElementById('cloak5827ffd74386128f35857cc53dd22b5b').innerHTML += '<a ' + 
 path + '\'' + prefix + ':' + addy5827ffd74386128f35857cc53dd22b5b + '\'>'+a
 ddy_text5827ffd74386128f35857cc53dd22b5b+'';
		.\n \n This event was import
 ed from: https://www.scacr.org/news-events/calendar/967/focused-practice-gr
 andsire-triples?tmpl=component (https://www.scacr.org/news-events/calendar/
 967/focused-practice-grandsire-triples?tmpl=component)
X-ALT-DESC;FMTTYPE=text/html:<p>This series of practices is for a small group of learners to focus on ma
 stering touches of Grandsire Triples. Learners who wish to attend should co
 mmit to all three practices, and register in advance.&nbsp; To register, co
 ntact Steph - <span id="cloak5827ffd74386128f35857cc53dd22b5b">This email a
 ddress is being protected from spambots. You need JavaScript enabled to vie
 w it.</span><script type='text/javascript'>
				document.getElementById('cl
 oak5827ffd74386128f35857cc53dd22b5b').innerHTML = '';
				var prefix = '&#1
 09;a' + 'i&#108;' + '&#116;o';
				var path = 'hr' + 'ef' + '=';
				var ad
 dy5827ffd74386128f35857cc53dd22b5b = 's&#101;c-n&#111;rth' + '&#64;';
				a
 ddy5827ffd74386128f35857cc53dd22b5b = addy5827ffd74386128f35857cc53dd22b5b 
 + 'sc&#97;cr' + '&#46;' + '&#111;rg';
				var addy_text5827ffd74386128f3585
 7cc53dd22b5b = 's&#101;c-n&#111;rth' + '&#64;' + 'sc&#97;cr' + '&#46;' + '&
 #111;rg';document.getElementById('cloak5827ffd74386128f35857cc53dd22b5b').i
 nnerHTML += '<a ' + path + '\'' + prefix + ':' + addy5827ffd74386128f35857c
 c53dd22b5b + '\'>'+addy_text5827ffd74386128f35857cc53dd22b5b+'<\/a>';
		</s
 cript>.</p><p>&nbsp;</p> <a href="https://www.scacr.org/news-events/calenda
 r/967/focused-practice-grandsire-triples?tmpl=component">This event was imp
 orted from: https://www.scacr.org/news-events/calendar/967/focused-practice
 -grandsire-triples?tmpl=component</a>CONTACT:This email address is being protected from spambots. You need JavaScript enabled to view it.
				document.getElementById('cloakef15ec5257b5b20bbc6c2c0f07433088').innerHTML = '';
				var prefix = '&#109;a' + 'i&#108;' + '&#116;o';
				var path = 'hr' + 'ef' + '=';
				var addyef15ec5257b5b20bbc6c2c0f07433088 = 's&#101;c-n&#111;rth' + '&#64;';
				addyef15ec5257b5b20bbc6c2c0f07433088 = addyef15ec5257b5b20bbc6c2c0f07433088 + 'sc&#97;cr' + '&#46;' + '&#111;rg';
				var addy_textef15ec5257b5b20bbc6c2c0f07433088 = 's&#101;c-n&#111;rth' + '&#64;' + 'sc&#97;cr' + '&#46;' + '&#111;rg';document.getElementById('cloakef15ec5257b5b20bbc6c2c0f07433088').innerHTML += '<a ' + path + '\'' + prefix + ':' + addyef15ec5257b5b20bbc6c2c0f07433088 + '\'>'+addy_textef15ec5257b5b20bbc6c2c0f07433088+'';
		
DTSTAMP:20260419T143545
DTSTART;TZID=Europe/London:20220620T193000
DTEND;TZID=Europe/London:20220620T210000
SEQUENCE:0
TRANSP:OPAQUE
END:VEVENT
END:VCALENDAR