BEGIN:VCALENDAR
VERSION:2.0
PRODID:-//jEvents 2.0 for Joomla//EN
CALSCALE:GREGORIAN
METHOD:PUBLISH
BEGIN:VTIMEZONE
TZID:Europe/London
BEGIN:STANDARD
DTSTART:20211031T010000
RDATE:20220327T020000
TZOFFSETFROM:+0100
TZOFFSETTO:+0000
TZNAME:Europe/London GMT
END:STANDARD
BEGIN:STANDARD
DTSTART:20221030T010000
RDATE:20230326T020000
TZOFFSETFROM:+0100
TZOFFSETTO:+0000
TZNAME:Europe/London GMT
END:STANDARD
BEGIN:STANDARD
DTSTART:20231029T010000
RDATE:20240331T020000
TZOFFSETFROM:+0100
TZOFFSETTO:+0000
TZNAME:Europe/London GMT
END:STANDARD
BEGIN:STANDARD
DTSTART:20241027T010000
RDATE:20250330T020000
TZOFFSETFROM:+0100
TZOFFSETTO:+0000
TZNAME:Europe/London GMT
END:STANDARD
BEGIN:STANDARD
DTSTART:20251026T010000
RDATE:20260329T020000
TZOFFSETFROM:+0100
TZOFFSETTO:+0000
TZNAME:Europe/London GMT
END:STANDARD
BEGIN:STANDARD
DTSTART:20261025T010000
RDATE:20270328T020000
TZOFFSETFROM:+0100
TZOFFSETTO:+0000
TZNAME:Europe/London GMT
END:STANDARD
BEGIN:STANDARD
DTSTART:20271031T010000
RDATE:20280326T020000
TZOFFSETFROM:+0100
TZOFFSETTO:+0000
TZNAME:Europe/London GMT
END:STANDARD
BEGIN:STANDARD
DTSTART:20281029T010000
RDATE:20290325T020000
TZOFFSETFROM:+0100
TZOFFSETTO:+0000
TZNAME:Europe/London GMT
END:STANDARD
BEGIN:STANDARD
DTSTART:20291028T010000
RDATE:20300331T020000
TZOFFSETFROM:+0100
TZOFFSETTO:+0000
TZNAME:Europe/London GMT
END:STANDARD
BEGIN:STANDARD
DTSTART:20301027T010000
RDATE:20310330T020000
TZOFFSETFROM:+0100
TZOFFSETTO:+0000
TZNAME:Europe/London GMT
END:STANDARD
BEGIN:DAYLIGHT
DTSTART:20210610T150000
RDATE:20211031T010000
TZOFFSETFROM:+0000
TZOFFSETTO:+0100
TZNAME:Europe/London BST
END:DAYLIGHT
BEGIN:DAYLIGHT
DTSTART:20220327T020000
RDATE:20221030T010000
TZOFFSETFROM:+0000
TZOFFSETTO:+0100
TZNAME:Europe/London BST
END:DAYLIGHT
BEGIN:DAYLIGHT
DTSTART:20230326T020000
RDATE:20231029T010000
TZOFFSETFROM:+0000
TZOFFSETTO:+0100
TZNAME:Europe/London BST
END:DAYLIGHT
BEGIN:DAYLIGHT
DTSTART:20240331T020000
RDATE:20241027T010000
TZOFFSETFROM:+0000
TZOFFSETTO:+0100
TZNAME:Europe/London BST
END:DAYLIGHT
BEGIN:DAYLIGHT
DTSTART:20250330T020000
RDATE:20251026T010000
TZOFFSETFROM:+0000
TZOFFSETTO:+0100
TZNAME:Europe/London BST
END:DAYLIGHT
BEGIN:DAYLIGHT
DTSTART:20260329T020000
RDATE:20261025T010000
TZOFFSETFROM:+0000
TZOFFSETTO:+0100
TZNAME:Europe/London BST
END:DAYLIGHT
BEGIN:DAYLIGHT
DTSTART:20270328T020000
RDATE:20271031T010000
TZOFFSETFROM:+0000
TZOFFSETTO:+0100
TZNAME:Europe/London BST
END:DAYLIGHT
BEGIN:DAYLIGHT
DTSTART:20280326T020000
RDATE:20281029T010000
TZOFFSETFROM:+0000
TZOFFSETTO:+0100
TZNAME:Europe/London BST
END:DAYLIGHT
BEGIN:DAYLIGHT
DTSTART:20290325T020000
RDATE:20291028T010000
TZOFFSETFROM:+0000
TZOFFSETTO:+0100
TZNAME:Europe/London BST
END:DAYLIGHT
BEGIN:DAYLIGHT
DTSTART:20300331T020000
RDATE:20301027T010000
TZOFFSETFROM:+0000
TZOFFSETTO:+0100
TZNAME:Europe/London BST
END:DAYLIGHT
END:VTIMEZONE
BEGIN:VEVENT
UID:bc955efc4bd8971995a84927c7719c03
CATEGORIES:West
CREATED:20220517T114421
SUMMARY:Monthly Event - Ringing at Two Towers in the District
LOCATION:St James STEDHAM then St Marys MIDHURST.
URL;VALUE=URI:https://www.scacr.org/news-events/calendar/951/monthly-event-ringing-at-two
 -towers-in-the-district?tmpl=component
DESCRIPTION:An opportunity to ring at two towers within the west district!!  St James S
 TEDHAM - 3 - 4 pm and  then at St Marys  MIDHURST  4.30 - 5.30!  There will
  be refreshments at STEDHAM.  Look forward to seeing you there!Parking for 
 STEDHAM is by the village green.  There are no toilet facilities at the chu
 rch.<br />Parking for MIDHURST is at the Grange Leisure Centre which is fre
 e for two hours but you must obtain a ticket from the machine! <br />Please
  email <span id="cloakdf1339d6229a5b22ac1632ca4250490d">This email address 
 is being protected from spambots. You need JavaScript enabled to view it.</
 span><script type='text/javascript'>
				document.getElementById('cloakdf13
 39d6229a5b22ac1632ca4250490d').innerHTML = '';
				var prefix = '&#109;a' +
  'i&#108;' + '&#116;o';
				var path = 'hr' + 'ef' + '=';
				var addydf133
 9d6229a5b22ac1632ca4250490d = 's&#101;c-w&#101;st' + '&#64;';
				addydf133
 9d6229a5b22ac1632ca4250490d = addydf1339d6229a5b22ac1632ca4250490d + 'sc&#9
 7;cr' + '&#46;' + '&#111;rg';
				var addy_textdf1339d6229a5b22ac1632ca4250
 490d = 's&#101;c-w&#101;st' + '&#64;' + 'sc&#97;cr' + '&#46;' + '&#111;rg';
 document.getElementById('cloakdf1339d6229a5b22ac1632ca4250490d').innerHTML 
 += '<a ' + path + '\'' + prefix + ':' + addydf1339d6229a5b22ac1632ca4250490
 d + '\'>'+addy_textdf1339d6229a5b22ac1632ca4250490d+'<\/a>';
		</script> if
  requiring refreshments by 9th June. <a href="https://www.scacr.org/news-ev
 ents/calendar/951/monthly-event-ringing-at-two-towers-in-the-district?tmpl=
 component">This event was imported from: https://www.scacr.org/news-events/
 calendar/951/monthly-event-ringing-at-two-towers-in-the-district?tmpl=compo
 nent</a>CONTACT:This email address is being protected from spambots. You need JavaScript enabled to view it.
				document.getElementById('cloak414d5b1238470e2ec695bd32148405b9').innerHTML = '';
				var prefix = '&#109;a' + 'i&#108;' + '&#116;o';
				var path = 'hr' + 'ef' + '=';
				var addy414d5b1238470e2ec695bd32148405b9 = 's&#101;c-w&#101;st' + '&#64;';
				addy414d5b1238470e2ec695bd32148405b9 = addy414d5b1238470e2ec695bd32148405b9 + 'sc&#97;cr' + '&#46;' + '&#111;rg';
				var addy_text414d5b1238470e2ec695bd32148405b9 = 's&#101;c-w&#101;st' + '&#64;' + 'sc&#97;cr' + '&#46;' + '&#111;rg';document.getElementById('cloak414d5b1238470e2ec695bd32148405b9').innerHTML += '<a ' + path + '\'' + prefix + ':' + addy414d5b1238470e2ec695bd32148405b9 + '\'>'+addy_text414d5b1238470e2ec695bd32148405b9+'';
		
X-EXTRAINFO:Parking for STEDHAM is by the village green.  There are no toilet facilitie
 s at the church.\nParking for MIDHURST is at the Grange Leisure Centre whic
 h is free for two hours but you must obtain a ticket from the machine! \nPl
 ease email This email address is being protected from spambots. You need Ja
 vaScript enabled to view it.
				document.getElementById('cloakb041b838f096
 d69b1c69653f860ec29d').innerHTML = '';
				var prefix = '&#109;a' + 'i&#108
 ;' + '&#116;o';
				var path = 'hr' + 'ef' + '=';
				var addyb041b838f096d
 69b1c69653f860ec29d = 's&#101;c-w&#101;st' + '&#64;';
				addyb041b838f096d
 69b1c69653f860ec29d = addyb041b838f096d69b1c69653f860ec29d + 'sc&#97;cr' + 
 '&#46;' + '&#111;rg';
				var addy_textb041b838f096d69b1c69653f860ec29d = '
 s&#101;c-w&#101;st' + '&#64;' + 'sc&#97;cr' + '&#46;' + '&#111;rg';document
 .getElementById('cloakb041b838f096d69b1c69653f860ec29d').innerHTML += '<a '
  + path + '\'' + prefix + ':' + addyb041b838f096d69b1c69653f860ec29d + '\'>
 '+addy_textb041b838f096d69b1c69653f860ec29d+'';
		 if requiring refreshment
 s by 9th June.
DTSTAMP:20260419T225828
DTSTART;TZID=Europe/London:20220611T150000
DTEND;TZID=Europe/London:20220611T173000
SEQUENCE:0
TRANSP:OPAQUE
END:VEVENT
END:VCALENDAR