BEGIN:VCALENDAR
VERSION:2.0
PRODID:-//jEvents 2.0 for Joomla//EN
CALSCALE:GREGORIAN
METHOD:PUBLISH
BEGIN:VTIMEZONE
TZID:Europe/London
BEGIN:STANDARD
DTSTART:20211031T010000
RDATE:20220327T020000
TZOFFSETFROM:+0100
TZOFFSETTO:+0000
TZNAME:Europe/London GMT
END:STANDARD
BEGIN:STANDARD
DTSTART:20221030T010000
RDATE:20230326T020000
TZOFFSETFROM:+0100
TZOFFSETTO:+0000
TZNAME:Europe/London GMT
END:STANDARD
BEGIN:STANDARD
DTSTART:20231029T010000
RDATE:20240331T020000
TZOFFSETFROM:+0100
TZOFFSETTO:+0000
TZNAME:Europe/London GMT
END:STANDARD
BEGIN:STANDARD
DTSTART:20241027T010000
RDATE:20250330T020000
TZOFFSETFROM:+0100
TZOFFSETTO:+0000
TZNAME:Europe/London GMT
END:STANDARD
BEGIN:STANDARD
DTSTART:20251026T010000
RDATE:20260329T020000
TZOFFSETFROM:+0100
TZOFFSETTO:+0000
TZNAME:Europe/London GMT
END:STANDARD
BEGIN:STANDARD
DTSTART:20261025T010000
RDATE:20270328T020000
TZOFFSETFROM:+0100
TZOFFSETTO:+0000
TZNAME:Europe/London GMT
END:STANDARD
BEGIN:STANDARD
DTSTART:20271031T010000
RDATE:20280326T020000
TZOFFSETFROM:+0100
TZOFFSETTO:+0000
TZNAME:Europe/London GMT
END:STANDARD
BEGIN:STANDARD
DTSTART:20281029T010000
RDATE:20290325T020000
TZOFFSETFROM:+0100
TZOFFSETTO:+0000
TZNAME:Europe/London GMT
END:STANDARD
BEGIN:STANDARD
DTSTART:20291028T010000
RDATE:20300331T020000
TZOFFSETFROM:+0100
TZOFFSETTO:+0000
TZNAME:Europe/London GMT
END:STANDARD
BEGIN:STANDARD
DTSTART:20301027T010000
RDATE:20310330T020000
TZOFFSETFROM:+0100
TZOFFSETTO:+0000
TZNAME:Europe/London GMT
END:STANDARD
BEGIN:DAYLIGHT
DTSTART:20210503T110000
RDATE:20211031T010000
TZOFFSETFROM:+0000
TZOFFSETTO:+0100
TZNAME:Europe/London BST
END:DAYLIGHT
BEGIN:DAYLIGHT
DTSTART:20220327T020000
RDATE:20221030T010000
TZOFFSETFROM:+0000
TZOFFSETTO:+0100
TZNAME:Europe/London BST
END:DAYLIGHT
BEGIN:DAYLIGHT
DTSTART:20230326T020000
RDATE:20231029T010000
TZOFFSETFROM:+0000
TZOFFSETTO:+0100
TZNAME:Europe/London BST
END:DAYLIGHT
BEGIN:DAYLIGHT
DTSTART:20240331T020000
RDATE:20241027T010000
TZOFFSETFROM:+0000
TZOFFSETTO:+0100
TZNAME:Europe/London BST
END:DAYLIGHT
BEGIN:DAYLIGHT
DTSTART:20250330T020000
RDATE:20251026T010000
TZOFFSETFROM:+0000
TZOFFSETTO:+0100
TZNAME:Europe/London BST
END:DAYLIGHT
BEGIN:DAYLIGHT
DTSTART:20260329T020000
RDATE:20261025T010000
TZOFFSETFROM:+0000
TZOFFSETTO:+0100
TZNAME:Europe/London BST
END:DAYLIGHT
BEGIN:DAYLIGHT
DTSTART:20270328T020000
RDATE:20271031T010000
TZOFFSETFROM:+0000
TZOFFSETTO:+0100
TZNAME:Europe/London BST
END:DAYLIGHT
BEGIN:DAYLIGHT
DTSTART:20280326T020000
RDATE:20281029T010000
TZOFFSETFROM:+0000
TZOFFSETTO:+0100
TZNAME:Europe/London BST
END:DAYLIGHT
BEGIN:DAYLIGHT
DTSTART:20290325T020000
RDATE:20291028T010000
TZOFFSETFROM:+0000
TZOFFSETTO:+0100
TZNAME:Europe/London BST
END:DAYLIGHT
BEGIN:DAYLIGHT
DTSTART:20300331T020000
RDATE:20301027T010000
TZOFFSETFROM:+0000
TZOFFSETTO:+0100
TZNAME:Europe/London BST
END:DAYLIGHT
END:VTIMEZONE
BEGIN:VEVENT
UID:3395c589dbcbab4ad52e7681a9fd8162
CATEGORIES:Other Event
CREATED:20220430T115742
SUMMARY:Codgers
LOCATION:Washington/Storrington
URL;VALUE=URI:https://www.scacr.org/news-events/calendar/949/codgers?tmpl=component
DESCRIPTION:11.00am-12.15pm Washington (https://dove.cccbr.org.uk/detail.php?tower=1482
 0) S Mary (GF;T). 6, 9–2–5 (485 kg) in G. coffee/biscuits available!\n2.15p
 m to 3.30pm Storrington (https://dove.cccbr.org.uk/detail.php?tower=16169) 
 S Mary (GF;T). 6, 9–1–7 (473 kg) in A \nPlease see the attached file 'Codge
 rs meeting 4 May 2022 Risk Assessment.pdf (images/jevents/codgers_meeting_4
 _may_2022_risk_assessment.pdf)' for any risks associated with this meeting.
 \n This event was imported from: https://www.scacr.org/news-events/calendar
 /949/codgers?tmpl=component (https://www.scacr.org/news-events/calendar/949
 /codgers?tmpl=component)
X-ALT-DESC;FMTTYPE=text/html:<p>11.00am-12.15pm<a href="https://dove.cccbr.org.uk/detail.php?tower=14820
 "> Washington</a>&nbsp;S Mary (GF;T). 6, 9–2–5 (485 kg) in G.&nbsp;coffee/b
 iscuits available!</p><p>2.15pm to 3.30pm&nbsp;<a href="https://dove.cccbr.
 org.uk/detail.php?tower=16169">Storrington</a>&nbsp;S Mary (GF;T). 6, 9–1–7
  (473 kg) in A&nbsp;</p><p>Please see the attached file '<a href="https://w
 ww.scacr.org/images/jevents/codgers_meeting_4_may_2022_risk_assessment.pdf"
 >Codgers meeting 4 May 2022 Risk Assessment.pdf</a>' for any risks associat
 ed with this meeting.</p> <a href="https://www.scacr.org/news-events/calend
 ar/949/codgers?tmpl=component">This event was imported from: https://www.sc
 acr.org/news-events/calendar/949/codgers?tmpl=component</a>CONTACT:This email address is being protected from spambots. You need JavaScript enabled to view it.
				document.getElementById('cloak6f9dc81f85fc018b081663b141310153').innerHTML = '';
				var prefix = '&#109;a' + 'i&#108;' + '&#116;o';
				var path = 'hr' + 'ef' + '=';
				var addy6f9dc81f85fc018b081663b141310153 = 'c&#111;dg&#101;rs' + '&#64;';
				addy6f9dc81f85fc018b081663b141310153 = addy6f9dc81f85fc018b081663b141310153 + 'sc&#97;cr' + '&#46;' + '&#111;rg';
				var addy_text6f9dc81f85fc018b081663b141310153 = 'c&#111;dg&#101;rs' + '&#64;' + 'sc&#97;cr' + '&#46;' + '&#111;rg';document.getElementById('cloak6f9dc81f85fc018b081663b141310153').innerHTML += '<a ' + path + '\'' + prefix + ':' + addy6f9dc81f85fc018b081663b141310153 + '\'>'+addy_text6f9dc81f85fc018b081663b141310153+'';
		
DTSTAMP:20260421T222720
DTSTART;TZID=Europe/London:20220504T110000
DTEND;TZID=Europe/London:20220504T153000
SEQUENCE:0
TRANSP:OPAQUE
END:VEVENT
END:VCALENDAR