BEGIN:VCALENDAR
VERSION:2.0
PRODID:-//jEvents 2.0 for Joomla//EN
CALSCALE:GREGORIAN
METHOD:PUBLISH
BEGIN:VTIMEZONE
TZID:Europe/London
BEGIN:STANDARD
DTSTART:20211031T010000
RDATE:20220327T020000
TZOFFSETFROM:+0100
TZOFFSETTO:+0000
TZNAME:Europe/London GMT
END:STANDARD
BEGIN:STANDARD
DTSTART:20221030T010000
RDATE:20230326T020000
TZOFFSETFROM:+0100
TZOFFSETTO:+0000
TZNAME:Europe/London GMT
END:STANDARD
BEGIN:STANDARD
DTSTART:20231029T010000
RDATE:20240331T020000
TZOFFSETFROM:+0100
TZOFFSETTO:+0000
TZNAME:Europe/London GMT
END:STANDARD
BEGIN:STANDARD
DTSTART:20241027T010000
RDATE:20250330T020000
TZOFFSETFROM:+0100
TZOFFSETTO:+0000
TZNAME:Europe/London GMT
END:STANDARD
BEGIN:STANDARD
DTSTART:20251026T010000
RDATE:20260329T020000
TZOFFSETFROM:+0100
TZOFFSETTO:+0000
TZNAME:Europe/London GMT
END:STANDARD
BEGIN:STANDARD
DTSTART:20261025T010000
RDATE:20270328T020000
TZOFFSETFROM:+0100
TZOFFSETTO:+0000
TZNAME:Europe/London GMT
END:STANDARD
BEGIN:STANDARD
DTSTART:20271031T010000
RDATE:20280326T020000
TZOFFSETFROM:+0100
TZOFFSETTO:+0000
TZNAME:Europe/London GMT
END:STANDARD
BEGIN:STANDARD
DTSTART:20281029T010000
RDATE:20290325T020000
TZOFFSETFROM:+0100
TZOFFSETTO:+0000
TZNAME:Europe/London GMT
END:STANDARD
BEGIN:STANDARD
DTSTART:20291028T010000
RDATE:20300331T020000
TZOFFSETFROM:+0100
TZOFFSETTO:+0000
TZNAME:Europe/London GMT
END:STANDARD
BEGIN:STANDARD
DTSTART:20301027T010000
RDATE:20310330T020000
TZOFFSETFROM:+0100
TZOFFSETTO:+0000
TZNAME:Europe/London GMT
END:STANDARD
BEGIN:DAYLIGHT
DTSTART:20210520T100000
RDATE:20211031T010000
TZOFFSETFROM:+0000
TZOFFSETTO:+0100
TZNAME:Europe/London BST
END:DAYLIGHT
BEGIN:DAYLIGHT
DTSTART:20220327T020000
RDATE:20221030T010000
TZOFFSETFROM:+0000
TZOFFSETTO:+0100
TZNAME:Europe/London BST
END:DAYLIGHT
BEGIN:DAYLIGHT
DTSTART:20230326T020000
RDATE:20231029T010000
TZOFFSETFROM:+0000
TZOFFSETTO:+0100
TZNAME:Europe/London BST
END:DAYLIGHT
BEGIN:DAYLIGHT
DTSTART:20240331T020000
RDATE:20241027T010000
TZOFFSETFROM:+0000
TZOFFSETTO:+0100
TZNAME:Europe/London BST
END:DAYLIGHT
BEGIN:DAYLIGHT
DTSTART:20250330T020000
RDATE:20251026T010000
TZOFFSETFROM:+0000
TZOFFSETTO:+0100
TZNAME:Europe/London BST
END:DAYLIGHT
BEGIN:DAYLIGHT
DTSTART:20260329T020000
RDATE:20261025T010000
TZOFFSETFROM:+0000
TZOFFSETTO:+0100
TZNAME:Europe/London BST
END:DAYLIGHT
BEGIN:DAYLIGHT
DTSTART:20270328T020000
RDATE:20271031T010000
TZOFFSETFROM:+0000
TZOFFSETTO:+0100
TZNAME:Europe/London BST
END:DAYLIGHT
BEGIN:DAYLIGHT
DTSTART:20280326T020000
RDATE:20281029T010000
TZOFFSETFROM:+0000
TZOFFSETTO:+0100
TZNAME:Europe/London BST
END:DAYLIGHT
BEGIN:DAYLIGHT
DTSTART:20290325T020000
RDATE:20291028T010000
TZOFFSETFROM:+0000
TZOFFSETTO:+0100
TZNAME:Europe/London BST
END:DAYLIGHT
BEGIN:DAYLIGHT
DTSTART:20300331T020000
RDATE:20301027T010000
TZOFFSETFROM:+0000
TZOFFSETTO:+0100
TZNAME:Europe/London BST
END:DAYLIGHT
END:VTIMEZONE
BEGIN:VEVENT
UID:f1b8f433325b1e51938b6eb20f44f835
CATEGORIES:South
CREATED:20220320T174700
SUMMARY:Basic Eight Bell Practice
LOCATION:Shoreham-by-Sea
URL;VALUE=URI:https://www.scacr.org/news-events/calendar/930/basic-eight-bell-practice?tm
 pl=component
DESCRIPTION:<p>Shoreham is a first floor ring of eight bells.&nbsp; Parking&nbsp;is ava
 ilable in the roads around the church although this could be a busy shoppin
 g day.&nbsp;</p><p>It would be great to welcome as many ringers as possible
  to join in with basic ringing on eight bells from rounds to Grandsire Trip
 les.</p><p>Please let Richard Neal Southern District Secretary (<span id="c
 loak621de7bbce4ee696bfd05beea7b3d1bb">This email address is being protected
  from spambots. You need JavaScript enabled to view it.</span><script type=
 'text/javascript'>
				document.getElementById('cloak621de7bbce4ee696bfd05b
 eea7b3d1bb').innerHTML = '';
				var prefix = '&#109;a' + 'i&#108;' + '&#11
 6;o';
				var path = 'hr' + 'ef' + '=';
				var addy621de7bbce4ee696bfd05be
 ea7b3d1bb = 's&#101;c-s&#111;&#117;th' + '&#64;';
				addy621de7bbce4ee696b
 fd05beea7b3d1bb = addy621de7bbce4ee696bfd05beea7b3d1bb + 'sc&#97;cr' + '&#4
 6;' + '&#111;rg';
				var addy_text621de7bbce4ee696bfd05beea7b3d1bb = 'm&#9
 7;&#105;lt&#111;:';document.getElementById('cloak621de7bbce4ee696bfd05beea7
 b3d1bb').innerHTML += '<a ' + path + '\'' + prefix + ':' + addy621de7bbce4e
 e696bfd05beea7b3d1bb + '\'>'+addy_text621de7bbce4ee696bfd05beea7b3d1bb+'<\/
 a>';
		</script><span id="cloakb246012fdb81ca6b4d665fc975c3fa33">This email
  address is being protected from spambots. You need JavaScript enabled to v
 iew it.</span><script type='text/javascript'>
				document.getElementById('
 cloakb246012fdb81ca6b4d665fc975c3fa33').innerHTML = '';
				var prefix = '&
 #109;a' + 'i&#108;' + '&#116;o';
				var path = 'hr' + 'ef' + '=';
				var 
 addyb246012fdb81ca6b4d665fc975c3fa33 = 's&#101;c-s&#111;&#117;th' + '&#64;'
 ;
				addyb246012fdb81ca6b4d665fc975c3fa33 = addyb246012fdb81ca6b4d665fc975
 c3fa33 + 'sc&#97;cr' + '&#46;' + '&#111;rg';
				var addy_textb246012fdb81c
 a6b4d665fc975c3fa33 = 's&#101;c-s&#111;&#117;th' + '&#64;' + 'sc&#97;cr' + 
 '&#46;' + '&#111;rg';document.getElementById('cloakb246012fdb81ca6b4d665fc9
 75c3fa33').innerHTML += '<a ' + path + '\'' + prefix + ':' + addyb246012fdb
 81ca6b4d665fc975c3fa33 + '\'>'+addy_textb246012fdb81ca6b4d665fc975c3fa33+'<
 \/a>';
		</script>) know if you will be attending</p> <a href="https://www.
 scacr.org/news-events/calendar/930/basic-eight-bell-practice?tmpl=component
 ">This event was imported from: https://www.scacr.org/news-events/calendar/
 930/basic-eight-bell-practice?tmpl=component</a>CONTACT:Richard Neal (District Secretary)  This email address is being protected from spambots. You need JavaScript enabled to view it.
				document.getElementById('cloakc024834dcb69c531500561f0aa80ec6e').innerHTML = '';
				var prefix = '&#109;a' + 'i&#108;' + '&#116;o';
				var path = 'hr' + 'ef' + '=';
				var addyc024834dcb69c531500561f0aa80ec6e = 's&#101;c-s&#111;&#117;th' + '&#64;';
				addyc024834dcb69c531500561f0aa80ec6e = addyc024834dcb69c531500561f0aa80ec6e + 'sc&#97;cr' + '&#46;' + '&#111;rg';
				var addy_textc024834dcb69c531500561f0aa80ec6e = 's&#101;c-s&#111;&#117;th' + '&#64;' + 'sc&#97;cr' + '&#46;' + '&#111;rg';document.getElementById('cloakc024834dcb69c531500561f0aa80ec6e').innerHTML += '<a ' + path + '\'' + prefix + ':' + addyc024834dcb69c531500561f0aa80ec6e + '\'>'+addy_textc024834dcb69c531500561f0aa80ec6e+'';
		
DTSTAMP:20260421T222659
DTSTART;TZID=Europe/London:20220521T100000
DTEND;TZID=Europe/London:20220521T120000
SEQUENCE:0
TRANSP:OPAQUE
END:VEVENT
END:VCALENDAR