BEGIN:VCALENDAR
VERSION:2.0
PRODID:-//jEvents 2.0 for Joomla//EN
CALSCALE:GREGORIAN
METHOD:PUBLISH
BEGIN:VTIMEZONE
TZID:Europe/London
BEGIN:STANDARD
DTSTART:20210306T193000
RDATE:20210328T020000
TZOFFSETFROM:+0100
TZOFFSETTO:+0000
TZNAME:Europe/London GMT
END:STANDARD
BEGIN:STANDARD
DTSTART:20211031T010000
RDATE:20220327T020000
TZOFFSETFROM:+0100
TZOFFSETTO:+0000
TZNAME:Europe/London GMT
END:STANDARD
BEGIN:STANDARD
DTSTART:20221030T010000
RDATE:20230326T020000
TZOFFSETFROM:+0100
TZOFFSETTO:+0000
TZNAME:Europe/London GMT
END:STANDARD
BEGIN:STANDARD
DTSTART:20231029T010000
RDATE:20240331T020000
TZOFFSETFROM:+0100
TZOFFSETTO:+0000
TZNAME:Europe/London GMT
END:STANDARD
BEGIN:STANDARD
DTSTART:20241027T010000
RDATE:20250330T020000
TZOFFSETFROM:+0100
TZOFFSETTO:+0000
TZNAME:Europe/London GMT
END:STANDARD
BEGIN:STANDARD
DTSTART:20251026T010000
RDATE:20260329T020000
TZOFFSETFROM:+0100
TZOFFSETTO:+0000
TZNAME:Europe/London GMT
END:STANDARD
BEGIN:STANDARD
DTSTART:20261025T010000
RDATE:20270328T020000
TZOFFSETFROM:+0100
TZOFFSETTO:+0000
TZNAME:Europe/London GMT
END:STANDARD
BEGIN:STANDARD
DTSTART:20271031T010000
RDATE:20280326T020000
TZOFFSETFROM:+0100
TZOFFSETTO:+0000
TZNAME:Europe/London GMT
END:STANDARD
BEGIN:STANDARD
DTSTART:20281029T010000
RDATE:20290325T020000
TZOFFSETFROM:+0100
TZOFFSETTO:+0000
TZNAME:Europe/London GMT
END:STANDARD
BEGIN:STANDARD
DTSTART:20291028T010000
RDATE:20300331T020000
TZOFFSETFROM:+0100
TZOFFSETTO:+0000
TZNAME:Europe/London GMT
END:STANDARD
BEGIN:STANDARD
DTSTART:20301027T010000
RDATE:20310330T020000
TZOFFSETFROM:+0100
TZOFFSETTO:+0000
TZNAME:Europe/London GMT
END:STANDARD
BEGIN:DAYLIGHT
DTSTART:20210328T020000
RDATE:20211031T010000
TZOFFSETFROM:+0000
TZOFFSETTO:+0100
TZNAME:Europe/London BST
END:DAYLIGHT
BEGIN:DAYLIGHT
DTSTART:20220327T020000
RDATE:20221030T010000
TZOFFSETFROM:+0000
TZOFFSETTO:+0100
TZNAME:Europe/London BST
END:DAYLIGHT
BEGIN:DAYLIGHT
DTSTART:20230326T020000
RDATE:20231029T010000
TZOFFSETFROM:+0000
TZOFFSETTO:+0100
TZNAME:Europe/London BST
END:DAYLIGHT
BEGIN:DAYLIGHT
DTSTART:20240331T020000
RDATE:20241027T010000
TZOFFSETFROM:+0000
TZOFFSETTO:+0100
TZNAME:Europe/London BST
END:DAYLIGHT
BEGIN:DAYLIGHT
DTSTART:20250330T020000
RDATE:20251026T010000
TZOFFSETFROM:+0000
TZOFFSETTO:+0100
TZNAME:Europe/London BST
END:DAYLIGHT
BEGIN:DAYLIGHT
DTSTART:20260329T020000
RDATE:20261025T010000
TZOFFSETFROM:+0000
TZOFFSETTO:+0100
TZNAME:Europe/London BST
END:DAYLIGHT
BEGIN:DAYLIGHT
DTSTART:20270328T020000
RDATE:20271031T010000
TZOFFSETFROM:+0000
TZOFFSETTO:+0100
TZNAME:Europe/London BST
END:DAYLIGHT
BEGIN:DAYLIGHT
DTSTART:20280326T020000
RDATE:20281029T010000
TZOFFSETFROM:+0000
TZOFFSETTO:+0100
TZNAME:Europe/London BST
END:DAYLIGHT
BEGIN:DAYLIGHT
DTSTART:20290325T020000
RDATE:20291028T010000
TZOFFSETFROM:+0000
TZOFFSETTO:+0100
TZNAME:Europe/London BST
END:DAYLIGHT
BEGIN:DAYLIGHT
DTSTART:20300331T020000
RDATE:20301027T010000
TZOFFSETFROM:+0000
TZOFFSETTO:+0100
TZNAME:Europe/London BST
END:DAYLIGHT
END:VTIMEZONE
BEGIN:VEVENT
UID:2240a96b9d6d327960f7d6323194780a
CATEGORIES:North
CREATED:20211209T090824
SUMMARY:Advanced 8-Bell Practice
LOCATION:Lower Beeding (confirmed\, NOTE CHANGE OF VENUE)
URL;VALUE=URI:https://www.scacr.org/news-events/calendar/893/advanced-8-bell-practice?tmp
 l=component
DESCRIPTION:STOP PRESS: CHANGE OF LOCATION: NOW AT LOWER BEEDING\nAdvanced 7/8-Bell Pra
 ctice - from Steadman Triples to Surprise Major.  "Methods of the Month" ar
 e Cambridge and Lessness Surprise Major - other methods will be rung! Come 
 along to have a go at something new, get some extra practice in, or ring so
 mething you wouldn't have the opportunity to do at your own tower.  Plasee 
 sign up (https://forms.gle/WjZ59unkTbBv4BwJ9) in advance (at least 24 hours
  before; if we don't have enough, we'll cancel). \nPlease note that under-1
 6s must be accompanied by a parent/guardian (or nominated adult), and have 
 a completed "permission to ring church bells" form (documents/safeguarding/
 permission-to-ring-church-bells.pdf) signed by their parent/guardian.  \nTh
 is practice will be held at a tower with a well-ventilated ringing room - t
 he ringing room at Slaugham is open to the main body of the church. Anyone 
 not ringing may be asked to sit in the church. Attendees are encouraged to 
 take a lateral flow test beforehand, and to use hand sanitiser before ringi
 ng; facemasks are optional. Bring an extra layer, in case of draughts!  .\n
 Sign-up here  (https://forms.gle/WjZ59unkTbBv4BwJ9)\n This event was import
 ed from: https://www.scacr.org/news-events/calendar/893/advanced-8-bell-pra
 ctice?tmpl=component (https://www.scacr.org/news-events/calendar/893/advanc
 ed-8-bell-practice?tmpl=component)
X-ALT-DESC;FMTTYPE=text/html:<p>STOP PRESS: CHANGE OF LOCATION: NOW AT LOWER BEEDING</p><p>Advanced 7/8-
 Bell Practice - from Steadman Triples to Surprise Major.&nbsp; <strong>"Met
 hods of the Month" are Cambridge and Lessness Surprise Major</strong> - oth
 er methods will be rung! Come along to have a go at something new, get some
  extra practice in, or ring something you wouldn't have the opportunity to 
 do at your own tower.&nbsp;&nbsp;<strong>Plasee&nbsp;<a href="https://forms
 .gle/WjZ59unkTbBv4BwJ9">sign up</a>&nbsp;in advance&nbsp;</strong>(at least
  24 hours before; if we don't have enough, we'll cancel).&nbsp;</p><p>Pleas
 e note that <strong>under-16s must be accompanied by a parent/guardian</str
 ong> (or nominated adult), and have a completed <a href="https://www.scacr.
 org/documents/safeguarding/permission-to-ring-church-bells.pdf">"permission
  to ring church bells" form</a> signed by their parent/guardian.&nbsp;&nbsp
 ;</p><p>This practice will be held at a tower with a well-ventilated ringin
 g room - the ringing room at Slaugham is open to the main body of the churc
 h. Anyone not ringing may be asked to sit in the church. Attendees are enco
 uraged to take a lateral flow test beforehand, and to use hand sanitiser be
 fore ringing; facemasks are optional. Bring an extra layer, in case of drau
 ghts!&nbsp; .</p><p><a href="https://forms.gle/WjZ59unkTbBv4BwJ9"><strong>S
 ign-up here</strong>&nbsp;</a></p> <a href="https://www.scacr.org/news-even
 ts/calendar/893/advanced-8-bell-practice?tmpl=component">This event was imp
 orted from: https://www.scacr.org/news-events/calendar/893/advanced-8-bell-
 practice?tmpl=component</a>CONTACT:This email address is being protected from spambots. You need JavaScript enabled to view it.
				document.getElementById('cloak9dfba91528b3a0202766e668c24bda15').innerHTML = '';
				var prefix = '&#109;a' + 'i&#108;' + '&#116;o';
				var path = 'hr' + 'ef' + '=';
				var addy9dfba91528b3a0202766e668c24bda15 = 's&#101;c-n&#111;rth' + '&#64;';
				addy9dfba91528b3a0202766e668c24bda15 = addy9dfba91528b3a0202766e668c24bda15 + 'sc&#97;cr' + '&#46;' + '&#111;rg';
				var addy_text9dfba91528b3a0202766e668c24bda15 = 's&#101;c-n&#111;rth' + '&#64;' + 'sc&#97;cr' + '&#46;' + '&#111;rg';document.getElementById('cloak9dfba91528b3a0202766e668c24bda15').innerHTML += '<a ' + path + '\'' + prefix + ':' + addy9dfba91528b3a0202766e668c24bda15 + '\'>'+addy_text9dfba91528b3a0202766e668c24bda15+'';
		
DTSTAMP:20260420T115741
DTSTART;TZID=Europe/London:20220307T193000
DTEND;TZID=Europe/London:20220307T210000
SEQUENCE:0
TRANSP:OPAQUE
END:VEVENT
END:VCALENDAR