BEGIN:VCALENDAR
VERSION:2.0
PRODID:-//jEvents 2.0 for Joomla//EN
CALSCALE:GREGORIAN
METHOD:PUBLISH
BEGIN:VTIMEZONE
TZID:Europe/London
BEGIN:STANDARD
DTSTART:20201205T193000
RDATE:20210328T020000
TZOFFSETFROM:+0100
TZOFFSETTO:+0000
TZNAME:Europe/London GMT
END:STANDARD
BEGIN:STANDARD
DTSTART:20211031T010000
RDATE:20220327T020000
TZOFFSETFROM:+0100
TZOFFSETTO:+0000
TZNAME:Europe/London GMT
END:STANDARD
BEGIN:STANDARD
DTSTART:20221030T010000
RDATE:20230326T020000
TZOFFSETFROM:+0100
TZOFFSETTO:+0000
TZNAME:Europe/London GMT
END:STANDARD
BEGIN:STANDARD
DTSTART:20231029T010000
RDATE:20240331T020000
TZOFFSETFROM:+0100
TZOFFSETTO:+0000
TZNAME:Europe/London GMT
END:STANDARD
BEGIN:STANDARD
DTSTART:20241027T010000
RDATE:20250330T020000
TZOFFSETFROM:+0100
TZOFFSETTO:+0000
TZNAME:Europe/London GMT
END:STANDARD
BEGIN:STANDARD
DTSTART:20251026T010000
RDATE:20260329T020000
TZOFFSETFROM:+0100
TZOFFSETTO:+0000
TZNAME:Europe/London GMT
END:STANDARD
BEGIN:STANDARD
DTSTART:20261025T010000
RDATE:20270328T020000
TZOFFSETFROM:+0100
TZOFFSETTO:+0000
TZNAME:Europe/London GMT
END:STANDARD
BEGIN:STANDARD
DTSTART:20271031T010000
RDATE:20280326T020000
TZOFFSETFROM:+0100
TZOFFSETTO:+0000
TZNAME:Europe/London GMT
END:STANDARD
BEGIN:STANDARD
DTSTART:20281029T010000
RDATE:20290325T020000
TZOFFSETFROM:+0100
TZOFFSETTO:+0000
TZNAME:Europe/London GMT
END:STANDARD
BEGIN:STANDARD
DTSTART:20291028T010000
RDATE:20300331T020000
TZOFFSETFROM:+0100
TZOFFSETTO:+0000
TZNAME:Europe/London GMT
END:STANDARD
BEGIN:STANDARD
DTSTART:20301027T010000
RDATE:20310330T020000
TZOFFSETFROM:+0100
TZOFFSETTO:+0000
TZNAME:Europe/London GMT
END:STANDARD
BEGIN:DAYLIGHT
DTSTART:20210328T020000
RDATE:20211031T010000
TZOFFSETFROM:+0000
TZOFFSETTO:+0100
TZNAME:Europe/London BST
END:DAYLIGHT
BEGIN:DAYLIGHT
DTSTART:20220327T020000
RDATE:20221030T010000
TZOFFSETFROM:+0000
TZOFFSETTO:+0100
TZNAME:Europe/London BST
END:DAYLIGHT
BEGIN:DAYLIGHT
DTSTART:20230326T020000
RDATE:20231029T010000
TZOFFSETFROM:+0000
TZOFFSETTO:+0100
TZNAME:Europe/London BST
END:DAYLIGHT
BEGIN:DAYLIGHT
DTSTART:20240331T020000
RDATE:20241027T010000
TZOFFSETFROM:+0000
TZOFFSETTO:+0100
TZNAME:Europe/London BST
END:DAYLIGHT
BEGIN:DAYLIGHT
DTSTART:20250330T020000
RDATE:20251026T010000
TZOFFSETFROM:+0000
TZOFFSETTO:+0100
TZNAME:Europe/London BST
END:DAYLIGHT
BEGIN:DAYLIGHT
DTSTART:20260329T020000
RDATE:20261025T010000
TZOFFSETFROM:+0000
TZOFFSETTO:+0100
TZNAME:Europe/London BST
END:DAYLIGHT
BEGIN:DAYLIGHT
DTSTART:20270328T020000
RDATE:20271031T010000
TZOFFSETFROM:+0000
TZOFFSETTO:+0100
TZNAME:Europe/London BST
END:DAYLIGHT
BEGIN:DAYLIGHT
DTSTART:20280326T020000
RDATE:20281029T010000
TZOFFSETFROM:+0000
TZOFFSETTO:+0100
TZNAME:Europe/London BST
END:DAYLIGHT
BEGIN:DAYLIGHT
DTSTART:20290325T020000
RDATE:20291028T010000
TZOFFSETFROM:+0000
TZOFFSETTO:+0100
TZNAME:Europe/London BST
END:DAYLIGHT
BEGIN:DAYLIGHT
DTSTART:20300331T020000
RDATE:20301027T010000
TZOFFSETFROM:+0000
TZOFFSETTO:+0100
TZNAME:Europe/London BST
END:DAYLIGHT
END:VTIMEZONE
BEGIN:VEVENT
UID:3c6bba63a0c6e27eac576c4e4fb958f9
CATEGORIES:North
CREATED:20211113T173341
SUMMARY:Advanced Practice
LOCATION:Slaugham (confirmed)
URL;VALUE=URI:https://www.scacr.org/news-events/calendar/879/advanced-practice?tmpl=compo
 nent
DESCRIPTION:Advanced 7/8-Bell Practice - from Steadman Triples to Surprise Major, inclu
 ding Pickled Egg. Come aloang to have a go at something new, get some extra
  practise in, or ring something you wouldn't have the opportunity to do at 
 your own tower.  Plasee sign up (https://forms.gle/V4Ld5U8gxLZADzXf9) in ad
 vance (at least 24 hours before; if we don't have enough, we'll cancel). \n
 Please note that under-18s must be accompanied by an adult (parent, guardia
 n or other nominated adult).\nThis practice will be held at a tower with a 
 well-ventilated ringing room. Attendees are encouraged to take a lateral fl
 ow test beforehand, and to use hand sanitiser before ringing; facemasks are
  optional. Bring an extra layer, in case of draughts!  \nPlease note that t
 he ropes have new and have stretched, so the tail-ends are quite long.\nSig
 n up here (https://forms.gle/V4Ld5U8gxLZADzXf9)\n This event was imported f
 rom: https://www.scacr.org/news-events/calendar/879/advanced-practice?tmpl=
 component (https://www.scacr.org/news-events/calendar/879/advanced-practice
 ?tmpl=component)
X-ALT-DESC;FMTTYPE=text/html:<p>Advanced 7/8-Bell Practice - from Steadman Triples to Surprise Major, in
 cluding Pickled Egg. Come aloang to have a go at something new, get some ex
 tra practise in, or ring something you wouldn't have the opportunity to do 
 at your own tower.&nbsp;&nbsp;<strong>Plasee&nbsp;<a href="https://forms.gl
 e/V4Ld5U8gxLZADzXf9">sign up</a>&nbsp;in advance&nbsp;</strong>(at least 24
  hours before; if we don't have enough, we'll cancel).&nbsp;</p><p>Please n
 ote that under-18s must be accompanied by an adult (parent, guardian or oth
 er nominated adult).</p><p>This practice will be held at a tower with a wel
 l-ventilated ringing room. Attendees are encouraged to take a lateral flow 
 test beforehand, and to use hand sanitiser before ringing; facemasks are op
 tional. Bring an extra layer, in case of draughts!&nbsp;&nbsp;</p><p>Please
  note that the ropes have new and have stretched, so the tail-ends are quit
 e long.</p><p><a href="https://forms.gle/V4Ld5U8gxLZADzXf9"><strong>Sign up
  here</strong></a></p> <a href="https://www.scacr.org/news-events/calendar/
 879/advanced-practice?tmpl=component">This event was imported from: https:/
 /www.scacr.org/news-events/calendar/879/advanced-practice?tmpl=component</a
 >CONTACT:This email address is being protected from spambots. You need JavaScript enabled to view it.
				document.getElementById('cloakfc6c650b17219669de280c9666304c55').innerHTML = '';
				var prefix = '&#109;a' + 'i&#108;' + '&#116;o';
				var path = 'hr' + 'ef' + '=';
				var addyfc6c650b17219669de280c9666304c55 = 's&#101;c-n&#111;rth' + '&#64;';
				addyfc6c650b17219669de280c9666304c55 = addyfc6c650b17219669de280c9666304c55 + 'sc&#97;cr' + '&#46;' + '&#111;rg';
				var addy_textfc6c650b17219669de280c9666304c55 = 's&#101;c-n&#111;rth' + '&#64;' + 'sc&#97;cr' + '&#46;' + '&#111;rg';document.getElementById('cloakfc6c650b17219669de280c9666304c55').innerHTML += '<a ' + path + '\'' + prefix + ':' + addyfc6c650b17219669de280c9666304c55 + '\'>'+addy_textfc6c650b17219669de280c9666304c55+'';
		
DTSTAMP:20260420T115741
DTSTART;TZID=Europe/London:20211206T193000
DTEND;TZID=Europe/London:20211206T210000
SEQUENCE:0
TRANSP:OPAQUE
END:VEVENT
END:VCALENDAR