BEGIN:VCALENDAR
VERSION:2.0
PRODID:-//jEvents 2.0 for Joomla//EN
CALSCALE:GREGORIAN
METHOD:PUBLISH
BEGIN:VTIMEZONE
TZID:Europe/London
BEGIN:STANDARD
DTSTART:20201025T010000
RDATE:20210328T020000
TZOFFSETFROM:+0100
TZOFFSETTO:+0000
TZNAME:Europe/London GMT
END:STANDARD
BEGIN:STANDARD
DTSTART:20211031T010000
RDATE:20220327T020000
TZOFFSETFROM:+0100
TZOFFSETTO:+0000
TZNAME:Europe/London GMT
END:STANDARD
BEGIN:STANDARD
DTSTART:20221030T010000
RDATE:20230326T020000
TZOFFSETFROM:+0100
TZOFFSETTO:+0000
TZNAME:Europe/London GMT
END:STANDARD
BEGIN:STANDARD
DTSTART:20231029T010000
RDATE:20240331T020000
TZOFFSETFROM:+0100
TZOFFSETTO:+0000
TZNAME:Europe/London GMT
END:STANDARD
BEGIN:STANDARD
DTSTART:20241027T010000
RDATE:20250330T020000
TZOFFSETFROM:+0100
TZOFFSETTO:+0000
TZNAME:Europe/London GMT
END:STANDARD
BEGIN:STANDARD
DTSTART:20251026T010000
RDATE:20260329T020000
TZOFFSETFROM:+0100
TZOFFSETTO:+0000
TZNAME:Europe/London GMT
END:STANDARD
BEGIN:STANDARD
DTSTART:20261025T010000
RDATE:20270328T020000
TZOFFSETFROM:+0100
TZOFFSETTO:+0000
TZNAME:Europe/London GMT
END:STANDARD
BEGIN:STANDARD
DTSTART:20271031T010000
RDATE:20280326T020000
TZOFFSETFROM:+0100
TZOFFSETTO:+0000
TZNAME:Europe/London GMT
END:STANDARD
BEGIN:STANDARD
DTSTART:20281029T010000
RDATE:20290325T020000
TZOFFSETFROM:+0100
TZOFFSETTO:+0000
TZNAME:Europe/London GMT
END:STANDARD
BEGIN:STANDARD
DTSTART:20291028T010000
RDATE:20300331T020000
TZOFFSETFROM:+0100
TZOFFSETTO:+0000
TZNAME:Europe/London GMT
END:STANDARD
BEGIN:STANDARD
DTSTART:20301027T010000
RDATE:20310330T020000
TZOFFSETFROM:+0100
TZOFFSETTO:+0000
TZNAME:Europe/London GMT
END:STANDARD
BEGIN:DAYLIGHT
DTSTART:20201024T193000
RDATE:20201025T010000
TZOFFSETFROM:+0000
TZOFFSETTO:+0100
TZNAME:Europe/London BST
END:DAYLIGHT
BEGIN:DAYLIGHT
DTSTART:20210328T020000
RDATE:20211031T010000
TZOFFSETFROM:+0000
TZOFFSETTO:+0100
TZNAME:Europe/London BST
END:DAYLIGHT
BEGIN:DAYLIGHT
DTSTART:20220327T020000
RDATE:20221030T010000
TZOFFSETFROM:+0000
TZOFFSETTO:+0100
TZNAME:Europe/London BST
END:DAYLIGHT
BEGIN:DAYLIGHT
DTSTART:20230326T020000
RDATE:20231029T010000
TZOFFSETFROM:+0000
TZOFFSETTO:+0100
TZNAME:Europe/London BST
END:DAYLIGHT
BEGIN:DAYLIGHT
DTSTART:20240331T020000
RDATE:20241027T010000
TZOFFSETFROM:+0000
TZOFFSETTO:+0100
TZNAME:Europe/London BST
END:DAYLIGHT
BEGIN:DAYLIGHT
DTSTART:20250330T020000
RDATE:20251026T010000
TZOFFSETFROM:+0000
TZOFFSETTO:+0100
TZNAME:Europe/London BST
END:DAYLIGHT
BEGIN:DAYLIGHT
DTSTART:20260329T020000
RDATE:20261025T010000
TZOFFSETFROM:+0000
TZOFFSETTO:+0100
TZNAME:Europe/London BST
END:DAYLIGHT
BEGIN:DAYLIGHT
DTSTART:20270328T020000
RDATE:20271031T010000
TZOFFSETFROM:+0000
TZOFFSETTO:+0100
TZNAME:Europe/London BST
END:DAYLIGHT
BEGIN:DAYLIGHT
DTSTART:20280326T020000
RDATE:20281029T010000
TZOFFSETFROM:+0000
TZOFFSETTO:+0100
TZNAME:Europe/London BST
END:DAYLIGHT
BEGIN:DAYLIGHT
DTSTART:20290325T020000
RDATE:20291028T010000
TZOFFSETFROM:+0000
TZOFFSETTO:+0100
TZNAME:Europe/London BST
END:DAYLIGHT
BEGIN:DAYLIGHT
DTSTART:20300331T020000
RDATE:20301027T010000
TZOFFSETFROM:+0000
TZOFFSETTO:+0100
TZNAME:Europe/London BST
END:DAYLIGHT
END:VTIMEZONE
BEGIN:VEVENT
UID:8a7ecbb6702731b6cc130aeb52adb14b
CATEGORIES:North
CREATED:20210920T222309
SUMMARY:10-Bell Practice - Rounds Onwards
LOCATION:Horsham
URL;VALUE=URI:https://www.scacr.org/news-events/calendar/859/10-bell-practice-rounds-onwa
 rds?tmpl=component
DESCRIPTION:<p>All welcome for a rounds-onwards 10-bell practice! Come along to try som
 ething new, have a go at something you wouldn't get the opporunity to do at
  your own tower, or just get some extra practise in with some friendly and 
 supportive helpers.&nbsp;&nbsp;<strong><a href="https://forms.gle/hLpfyBoxH
 5ZZSR439">Sign up</a> in advance&nbsp;</strong>(at least 24 hours before; i
 f we don't have enough, we'll cancel).</p><p>Please note that under-18s mus
 t be accompanied by an adult (parent, guardian or other nominated adult).</
 p><p>This practice will be held at a tower with a well-ventilated ringing r
 oom. Attendees are encouraged to take a lateral flow test beforehand, and t
 o use hand sanitiser before ringing; facemasks are optional.</p><p><strong>
 <a href="https://forms.gle/hLpfyBoxH5ZZSR439">Sign up here</a></strong></p>
  <a href="https://www.scacr.org/news-events/calendar/859/10-bell-practice-r
 ounds-onwards?tmpl=component">This event was imported from: https://www.sca
 cr.org/news-events/calendar/859/10-bell-practice-rounds-onwards?tmpl=compon
 ent</a>CONTACT:This email address is being protected from spambots. You need JavaScript enabled to view it.
				document.getElementById('cloakeaf8c6ec7148e962a05127fdb2528a9b').innerHTML = '';
				var prefix = '&#109;a' + 'i&#108;' + '&#116;o';
				var path = 'hr' + 'ef' + '=';
				var addyeaf8c6ec7148e962a05127fdb2528a9b = 's&#101;c-n&#111;rth' + '&#64;';
				addyeaf8c6ec7148e962a05127fdb2528a9b = addyeaf8c6ec7148e962a05127fdb2528a9b + 'sc&#97;cr' + '&#46;' + '&#111;rg';
				var addy_texteaf8c6ec7148e962a05127fdb2528a9b = 's&#101;c-n&#111;rth' + '&#64;' + 'sc&#97;cr' + '&#46;' + '&#111;rg';document.getElementById('cloakeaf8c6ec7148e962a05127fdb2528a9b').innerHTML += '<a ' + path + '\'' + prefix + ':' + addyeaf8c6ec7148e962a05127fdb2528a9b + '\'>'+addy_texteaf8c6ec7148e962a05127fdb2528a9b+'';
		
DTSTAMP:20260419T184317
DTSTART;TZID=Europe/London:20211025T193000
DTEND;TZID=Europe/London:20211025T210000
SEQUENCE:0
TRANSP:OPAQUE
END:VEVENT
END:VCALENDAR