BEGIN:VCALENDAR
VERSION:2.0
PRODID:-//jEvents 2.0 for Joomla//EN
CALSCALE:GREGORIAN
METHOD:PUBLISH
BEGIN:VTIMEZONE
TZID:Europe/London
BEGIN:STANDARD
DTSTART:20201025T010000
RDATE:20210328T020000
TZOFFSETFROM:+0100
TZOFFSETTO:+0000
TZNAME:Europe/London GMT
END:STANDARD
BEGIN:STANDARD
DTSTART:20211031T010000
RDATE:20220327T020000
TZOFFSETFROM:+0100
TZOFFSETTO:+0000
TZNAME:Europe/London GMT
END:STANDARD
BEGIN:STANDARD
DTSTART:20221030T010000
RDATE:20230326T020000
TZOFFSETFROM:+0100
TZOFFSETTO:+0000
TZNAME:Europe/London GMT
END:STANDARD
BEGIN:STANDARD
DTSTART:20231029T010000
RDATE:20240331T020000
TZOFFSETFROM:+0100
TZOFFSETTO:+0000
TZNAME:Europe/London GMT
END:STANDARD
BEGIN:STANDARD
DTSTART:20241027T010000
RDATE:20250330T020000
TZOFFSETFROM:+0100
TZOFFSETTO:+0000
TZNAME:Europe/London GMT
END:STANDARD
BEGIN:STANDARD
DTSTART:20251026T010000
RDATE:20260329T020000
TZOFFSETFROM:+0100
TZOFFSETTO:+0000
TZNAME:Europe/London GMT
END:STANDARD
BEGIN:STANDARD
DTSTART:20261025T010000
RDATE:20270328T020000
TZOFFSETFROM:+0100
TZOFFSETTO:+0000
TZNAME:Europe/London GMT
END:STANDARD
BEGIN:STANDARD
DTSTART:20271031T010000
RDATE:20280326T020000
TZOFFSETFROM:+0100
TZOFFSETTO:+0000
TZNAME:Europe/London GMT
END:STANDARD
BEGIN:STANDARD
DTSTART:20281029T010000
RDATE:20290325T020000
TZOFFSETFROM:+0100
TZOFFSETTO:+0000
TZNAME:Europe/London GMT
END:STANDARD
BEGIN:STANDARD
DTSTART:20291028T010000
RDATE:20300331T020000
TZOFFSETFROM:+0100
TZOFFSETTO:+0000
TZNAME:Europe/London GMT
END:STANDARD
BEGIN:STANDARD
DTSTART:20301027T010000
RDATE:20310330T020000
TZOFFSETFROM:+0100
TZOFFSETTO:+0000
TZNAME:Europe/London GMT
END:STANDARD
BEGIN:DAYLIGHT
DTSTART:20201017T193000
RDATE:20201025T010000
TZOFFSETFROM:+0000
TZOFFSETTO:+0100
TZNAME:Europe/London BST
END:DAYLIGHT
BEGIN:DAYLIGHT
DTSTART:20210328T020000
RDATE:20211031T010000
TZOFFSETFROM:+0000
TZOFFSETTO:+0100
TZNAME:Europe/London BST
END:DAYLIGHT
BEGIN:DAYLIGHT
DTSTART:20220327T020000
RDATE:20221030T010000
TZOFFSETFROM:+0000
TZOFFSETTO:+0100
TZNAME:Europe/London BST
END:DAYLIGHT
BEGIN:DAYLIGHT
DTSTART:20230326T020000
RDATE:20231029T010000
TZOFFSETFROM:+0000
TZOFFSETTO:+0100
TZNAME:Europe/London BST
END:DAYLIGHT
BEGIN:DAYLIGHT
DTSTART:20240331T020000
RDATE:20241027T010000
TZOFFSETFROM:+0000
TZOFFSETTO:+0100
TZNAME:Europe/London BST
END:DAYLIGHT
BEGIN:DAYLIGHT
DTSTART:20250330T020000
RDATE:20251026T010000
TZOFFSETFROM:+0000
TZOFFSETTO:+0100
TZNAME:Europe/London BST
END:DAYLIGHT
BEGIN:DAYLIGHT
DTSTART:20260329T020000
RDATE:20261025T010000
TZOFFSETFROM:+0000
TZOFFSETTO:+0100
TZNAME:Europe/London BST
END:DAYLIGHT
BEGIN:DAYLIGHT
DTSTART:20270328T020000
RDATE:20271031T010000
TZOFFSETFROM:+0000
TZOFFSETTO:+0100
TZNAME:Europe/London BST
END:DAYLIGHT
BEGIN:DAYLIGHT
DTSTART:20280326T020000
RDATE:20281029T010000
TZOFFSETFROM:+0000
TZOFFSETTO:+0100
TZNAME:Europe/London BST
END:DAYLIGHT
BEGIN:DAYLIGHT
DTSTART:20290325T020000
RDATE:20291028T010000
TZOFFSETFROM:+0000
TZOFFSETTO:+0100
TZNAME:Europe/London BST
END:DAYLIGHT
BEGIN:DAYLIGHT
DTSTART:20300331T020000
RDATE:20301027T010000
TZOFFSETFROM:+0000
TZOFFSETTO:+0100
TZNAME:Europe/London BST
END:DAYLIGHT
END:VTIMEZONE
BEGIN:VEVENT
UID:1ed0c9f3a001fe6fdfff3e853149a83e
CATEGORIES:North
CREATED:20210920T222251
SUMMARY:Minor Methods Practice
LOCATION:Ardingly (confirmed)
URL;VALUE=URI:https://www.scacr.org/news-events/calendar/858/minor-methods-practice?tmpl=
 component
DESCRIPTION:Minor methods practice - from Plain Bob Minor to Surprise. Come aloang to h
 ave a go at something new, get some extra practice in, or ring something yo
 u wouldn't have the opportunity to do at your own tower.  Plasee sign up (h
 ttps://forms.gle/iV77A74rbfvaYMkK7) in advance (at least 24 hours before; i
 f we don't have enough, we'll cancel). \nPlease note that under-18s must be
  accompanied by an adult (parent, guardian or other nominated adult).\nThis
  practice will be held at a tower with a well-ventilated ringing room - the
  ringing room at Ardingly is open to the main body of the church. Attendees
  are encouraged to take a lateral flow test beforehand, and to use hand san
 itiser before ringing; facemasks are optional. Bring an extra layer, in cas
 e of draughts!  \nSign up here (https://forms.gle/iV77A74rbfvaYMkK7)\n This
  event was imported from: https://www.scacr.org/news-events/calendar/858/mi
 nor-methods-practice?tmpl=component (https://www.scacr.org/news-events/cale
 ndar/858/minor-methods-practice?tmpl=component)
X-ALT-DESC;FMTTYPE=text/html:<p>Minor methods practice - from Plain Bob Minor to Surprise. Come aloang t
 o have a go at something new, get some extra practice in, or ring something
  you wouldn't have the opportunity to do at your own tower.&nbsp;&nbsp;<str
 ong>Plasee <a href="https://forms.gle/iV77A74rbfvaYMkK7">sign up</a> in adv
 ance&nbsp;</strong>(at least 24 hours before; if we don't have enough, we'l
 l cancel).&nbsp;</p><p>Please note that under-18s must be accompanied by an
  adult (parent, guardian or other nominated adult).</p><p>This practice wil
 l be held at a tower with a well-ventilated ringing room - the ringing room
  at Ardingly is open to the main body of the church. Attendees are encourag
 ed to take a lateral flow test beforehand, and to use hand sanitiser before
  ringing; facemasks are optional. Bring an extra layer, in case of draughts
 !&nbsp;&nbsp;</p><p><a href="https://forms.gle/iV77A74rbfvaYMkK7"><strong>S
 ign up here</strong></a></p> <a href="https://www.scacr.org/news-events/cal
 endar/858/minor-methods-practice?tmpl=component">This event was imported fr
 om: https://www.scacr.org/news-events/calendar/858/minor-methods-practice?t
 mpl=component</a>CONTACT:This email address is being protected from spambots. You need JavaScript enabled to view it.
				document.getElementById('cloakaf08c23dae5cedcfa2eb2a8c3ea291ac').innerHTML = '';
				var prefix = '&#109;a' + 'i&#108;' + '&#116;o';
				var path = 'hr' + 'ef' + '=';
				var addyaf08c23dae5cedcfa2eb2a8c3ea291ac = 's&#101;c-n&#111;rth' + '&#64;';
				addyaf08c23dae5cedcfa2eb2a8c3ea291ac = addyaf08c23dae5cedcfa2eb2a8c3ea291ac + 'sc&#97;cr' + '&#46;' + '&#111;rg';
				var addy_textaf08c23dae5cedcfa2eb2a8c3ea291ac = 's&#101;c-n&#111;rth' + '&#64;' + 'sc&#97;cr' + '&#46;' + '&#111;rg';document.getElementById('cloakaf08c23dae5cedcfa2eb2a8c3ea291ac').innerHTML += '<a ' + path + '\'' + prefix + ':' + addyaf08c23dae5cedcfa2eb2a8c3ea291ac + '\'>'+addy_textaf08c23dae5cedcfa2eb2a8c3ea291ac+'';
		
DTSTAMP:20260425T105515
DTSTART;TZID=Europe/London:20211018T193000
DTEND;TZID=Europe/London:20211018T210000
SEQUENCE:0
TRANSP:OPAQUE
END:VEVENT
END:VCALENDAR