BEGIN:VCALENDAR
VERSION:2.0
PRODID:-//jEvents 2.0 for Joomla//EN
CALSCALE:GREGORIAN
METHOD:PUBLISH
BEGIN:VTIMEZONE
TZID:Europe/London
BEGIN:STANDARD
DTSTART:20201025T010000
RDATE:20210328T020000
TZOFFSETFROM:+0100
TZOFFSETTO:+0000
TZNAME:Europe/London GMT
END:STANDARD
BEGIN:STANDARD
DTSTART:20211031T010000
RDATE:20220327T020000
TZOFFSETFROM:+0100
TZOFFSETTO:+0000
TZNAME:Europe/London GMT
END:STANDARD
BEGIN:STANDARD
DTSTART:20221030T010000
RDATE:20230326T020000
TZOFFSETFROM:+0100
TZOFFSETTO:+0000
TZNAME:Europe/London GMT
END:STANDARD
BEGIN:STANDARD
DTSTART:20231029T010000
RDATE:20240331T020000
TZOFFSETFROM:+0100
TZOFFSETTO:+0000
TZNAME:Europe/London GMT
END:STANDARD
BEGIN:STANDARD
DTSTART:20241027T010000
RDATE:20250330T020000
TZOFFSETFROM:+0100
TZOFFSETTO:+0000
TZNAME:Europe/London GMT
END:STANDARD
BEGIN:STANDARD
DTSTART:20251026T010000
RDATE:20260329T020000
TZOFFSETFROM:+0100
TZOFFSETTO:+0000
TZNAME:Europe/London GMT
END:STANDARD
BEGIN:STANDARD
DTSTART:20261025T010000
RDATE:20270328T020000
TZOFFSETFROM:+0100
TZOFFSETTO:+0000
TZNAME:Europe/London GMT
END:STANDARD
BEGIN:STANDARD
DTSTART:20271031T010000
RDATE:20280326T020000
TZOFFSETFROM:+0100
TZOFFSETTO:+0000
TZNAME:Europe/London GMT
END:STANDARD
BEGIN:STANDARD
DTSTART:20281029T010000
RDATE:20290325T020000
TZOFFSETFROM:+0100
TZOFFSETTO:+0000
TZNAME:Europe/London GMT
END:STANDARD
BEGIN:STANDARD
DTSTART:20291028T010000
RDATE:20300331T020000
TZOFFSETFROM:+0100
TZOFFSETTO:+0000
TZNAME:Europe/London GMT
END:STANDARD
BEGIN:STANDARD
DTSTART:20301027T010000
RDATE:20310330T020000
TZOFFSETFROM:+0100
TZOFFSETTO:+0000
TZNAME:Europe/London GMT
END:STANDARD
BEGIN:DAYLIGHT
DTSTART:20201003T193000
RDATE:20201025T010000
TZOFFSETFROM:+0000
TZOFFSETTO:+0100
TZNAME:Europe/London BST
END:DAYLIGHT
BEGIN:DAYLIGHT
DTSTART:20210328T020000
RDATE:20211031T010000
TZOFFSETFROM:+0000
TZOFFSETTO:+0100
TZNAME:Europe/London BST
END:DAYLIGHT
BEGIN:DAYLIGHT
DTSTART:20220327T020000
RDATE:20221030T010000
TZOFFSETFROM:+0000
TZOFFSETTO:+0100
TZNAME:Europe/London BST
END:DAYLIGHT
BEGIN:DAYLIGHT
DTSTART:20230326T020000
RDATE:20231029T010000
TZOFFSETFROM:+0000
TZOFFSETTO:+0100
TZNAME:Europe/London BST
END:DAYLIGHT
BEGIN:DAYLIGHT
DTSTART:20240331T020000
RDATE:20241027T010000
TZOFFSETFROM:+0000
TZOFFSETTO:+0100
TZNAME:Europe/London BST
END:DAYLIGHT
BEGIN:DAYLIGHT
DTSTART:20250330T020000
RDATE:20251026T010000
TZOFFSETFROM:+0000
TZOFFSETTO:+0100
TZNAME:Europe/London BST
END:DAYLIGHT
BEGIN:DAYLIGHT
DTSTART:20260329T020000
RDATE:20261025T010000
TZOFFSETFROM:+0000
TZOFFSETTO:+0100
TZNAME:Europe/London BST
END:DAYLIGHT
BEGIN:DAYLIGHT
DTSTART:20270328T020000
RDATE:20271031T010000
TZOFFSETFROM:+0000
TZOFFSETTO:+0100
TZNAME:Europe/London BST
END:DAYLIGHT
BEGIN:DAYLIGHT
DTSTART:20280326T020000
RDATE:20281029T010000
TZOFFSETFROM:+0000
TZOFFSETTO:+0100
TZNAME:Europe/London BST
END:DAYLIGHT
BEGIN:DAYLIGHT
DTSTART:20290325T020000
RDATE:20291028T010000
TZOFFSETFROM:+0000
TZOFFSETTO:+0100
TZNAME:Europe/London BST
END:DAYLIGHT
BEGIN:DAYLIGHT
DTSTART:20300331T020000
RDATE:20301027T010000
TZOFFSETFROM:+0000
TZOFFSETTO:+0100
TZNAME:Europe/London BST
END:DAYLIGHT
END:VTIMEZONE
BEGIN:VEVENT
UID:6a5e158c3cfe0e8b2f09f76b1cef8df6
CATEGORIES:North
CREATED:20210920T222110
SUMMARY:8-Bell Advanced Practice - Bolney
LOCATION:Bolney
URL;VALUE=URI:https://www.scacr.org/news-events/calendar/856/8-bell-advanced-practice-bol
 ney?tmpl=component
DESCRIPTION:Join us for the first Northern District post-lockdown Monday night practice
 !  No need to register in advance, just come along.\nThis is an 8-bell Adva
 nced practice - Stedman Triples and Surprise Major.\nThis practice will be 
 held at a tower with a ground floor, well-ventilated ringing room. Attendee
 s are encouraged to take a lateral flow test beforehand, and to use hand sa
 nitiser before ringing; facemasks are optional. Numbers inside the ringing 
 room itself will be limited.\n This event was imported from: https://www.sc
 acr.org/news-events/calendar/856/8-bell-advanced-practice-bolney?tmpl=compo
 nent (https://www.scacr.org/news-events/calendar/856/8-bell-advanced-practi
 ce-bolney?tmpl=component)
X-ALT-DESC;FMTTYPE=text/html:<p>Join us for the first Northern District post-lockdown Monday night pract
 ice!&nbsp; No need to register in advance, just come along.</p><p>This is a
 n 8-bell Advanced practice - Stedman Triples and Surprise Major.</p><p>This
  practice will be held at a tower with a ground floor, well-ventilated ring
 ing room. Attendees are encouraged to take a lateral flow test beforehand, 
 and to use hand sanitiser before ringing; facemasks are optional. Numbers i
 nside the ringing room itself will be limited.</p> <a href="https://www.sca
 cr.org/news-events/calendar/856/8-bell-advanced-practice-bolney?tmpl=compon
 ent">This event was imported from: https://www.scacr.org/news-events/calend
 ar/856/8-bell-advanced-practice-bolney?tmpl=component</a>CONTACT:This email address is being protected from spambots. You need JavaScript enabled to view it.
				document.getElementById('cloakdcafa6d31cbc8c7c161d8dd54eccddbc').innerHTML = '';
				var prefix = '&#109;a' + 'i&#108;' + '&#116;o';
				var path = 'hr' + 'ef' + '=';
				var addydcafa6d31cbc8c7c161d8dd54eccddbc = 's&#101;c-n&#111;rth' + '&#64;';
				addydcafa6d31cbc8c7c161d8dd54eccddbc = addydcafa6d31cbc8c7c161d8dd54eccddbc + 'sc&#97;cr' + '&#46;' + '&#111;rg';
				var addy_textdcafa6d31cbc8c7c161d8dd54eccddbc = 's&#101;c-n&#111;rth' + '&#64;' + 'sc&#97;cr' + '&#46;' + '&#111;rg';document.getElementById('cloakdcafa6d31cbc8c7c161d8dd54eccddbc').innerHTML += '<a ' + path + '\'' + prefix + ':' + addydcafa6d31cbc8c7c161d8dd54eccddbc + '\'>'+addy_textdcafa6d31cbc8c7c161d8dd54eccddbc+'';
		
DTSTAMP:20260420T112813
DTSTART;TZID=Europe/London:20211004T193000
DTEND;TZID=Europe/London:20211004T210000
SEQUENCE:0
TRANSP:OPAQUE
END:VEVENT
END:VCALENDAR