BEGIN:VCALENDAR
VERSION:2.0
PRODID:-//jEvents 2.0 for Joomla//EN
CALSCALE:GREGORIAN
METHOD:PUBLISH
BEGIN:VTIMEZONE
TZID:Europe/London
BEGIN:STANDARD
DTSTART:20201025T010000
RDATE:20210328T020000
TZOFFSETFROM:+0100
TZOFFSETTO:+0000
TZNAME:Europe/London GMT
END:STANDARD
BEGIN:STANDARD
DTSTART:20211031T010000
RDATE:20220327T020000
TZOFFSETFROM:+0100
TZOFFSETTO:+0000
TZNAME:Europe/London GMT
END:STANDARD
BEGIN:STANDARD
DTSTART:20221030T010000
RDATE:20230326T020000
TZOFFSETFROM:+0100
TZOFFSETTO:+0000
TZNAME:Europe/London GMT
END:STANDARD
BEGIN:STANDARD
DTSTART:20231029T010000
RDATE:20240331T020000
TZOFFSETFROM:+0100
TZOFFSETTO:+0000
TZNAME:Europe/London GMT
END:STANDARD
BEGIN:STANDARD
DTSTART:20241027T010000
RDATE:20250330T020000
TZOFFSETFROM:+0100
TZOFFSETTO:+0000
TZNAME:Europe/London GMT
END:STANDARD
BEGIN:STANDARD
DTSTART:20251026T010000
RDATE:20260329T020000
TZOFFSETFROM:+0100
TZOFFSETTO:+0000
TZNAME:Europe/London GMT
END:STANDARD
BEGIN:STANDARD
DTSTART:20261025T010000
RDATE:20270328T020000
TZOFFSETFROM:+0100
TZOFFSETTO:+0000
TZNAME:Europe/London GMT
END:STANDARD
BEGIN:STANDARD
DTSTART:20271031T010000
RDATE:20280326T020000
TZOFFSETFROM:+0100
TZOFFSETTO:+0000
TZNAME:Europe/London GMT
END:STANDARD
BEGIN:STANDARD
DTSTART:20281029T010000
RDATE:20290325T020000
TZOFFSETFROM:+0100
TZOFFSETTO:+0000
TZNAME:Europe/London GMT
END:STANDARD
BEGIN:STANDARD
DTSTART:20291028T010000
RDATE:20300331T020000
TZOFFSETFROM:+0100
TZOFFSETTO:+0000
TZNAME:Europe/London GMT
END:STANDARD
BEGIN:STANDARD
DTSTART:20301027T010000
RDATE:20310330T020000
TZOFFSETFROM:+0100
TZOFFSETTO:+0000
TZNAME:Europe/London GMT
END:STANDARD
BEGIN:DAYLIGHT
DTSTART:20201008T150000
RDATE:20201025T010000
TZOFFSETFROM:+0000
TZOFFSETTO:+0100
TZNAME:Europe/London BST
END:DAYLIGHT
BEGIN:DAYLIGHT
DTSTART:20210328T020000
RDATE:20211031T010000
TZOFFSETFROM:+0000
TZOFFSETTO:+0100
TZNAME:Europe/London BST
END:DAYLIGHT
BEGIN:DAYLIGHT
DTSTART:20220327T020000
RDATE:20221030T010000
TZOFFSETFROM:+0000
TZOFFSETTO:+0100
TZNAME:Europe/London BST
END:DAYLIGHT
BEGIN:DAYLIGHT
DTSTART:20230326T020000
RDATE:20231029T010000
TZOFFSETFROM:+0000
TZOFFSETTO:+0100
TZNAME:Europe/London BST
END:DAYLIGHT
BEGIN:DAYLIGHT
DTSTART:20240331T020000
RDATE:20241027T010000
TZOFFSETFROM:+0000
TZOFFSETTO:+0100
TZNAME:Europe/London BST
END:DAYLIGHT
BEGIN:DAYLIGHT
DTSTART:20250330T020000
RDATE:20251026T010000
TZOFFSETFROM:+0000
TZOFFSETTO:+0100
TZNAME:Europe/London BST
END:DAYLIGHT
BEGIN:DAYLIGHT
DTSTART:20260329T020000
RDATE:20261025T010000
TZOFFSETFROM:+0000
TZOFFSETTO:+0100
TZNAME:Europe/London BST
END:DAYLIGHT
BEGIN:DAYLIGHT
DTSTART:20270328T020000
RDATE:20271031T010000
TZOFFSETFROM:+0000
TZOFFSETTO:+0100
TZNAME:Europe/London BST
END:DAYLIGHT
BEGIN:DAYLIGHT
DTSTART:20280326T020000
RDATE:20281029T010000
TZOFFSETFROM:+0000
TZOFFSETTO:+0100
TZNAME:Europe/London BST
END:DAYLIGHT
BEGIN:DAYLIGHT
DTSTART:20290325T020000
RDATE:20291028T010000
TZOFFSETFROM:+0000
TZOFFSETTO:+0100
TZNAME:Europe/London BST
END:DAYLIGHT
BEGIN:DAYLIGHT
DTSTART:20300331T020000
RDATE:20301027T010000
TZOFFSETFROM:+0000
TZOFFSETTO:+0100
TZNAME:Europe/London BST
END:DAYLIGHT
END:VTIMEZONE
BEGIN:VEVENT
UID:1eacebfe523c7f286e9a3e504f5cd6d9
CATEGORIES:North
CREATED:20210920T220818
SUMMARY:CANCELLED Ringing with coffee & cake
LOCATION:CANCELLED
URL;VALUE=URI:https://www.scacr.org/news-events/calendar/853/cancelled-ringing-with-coffe
 e-cake?tmpl=component
DESCRIPTION:EVENT CANCELLED due to tower unavailability and petrol issues.\nAll welcome
 ! Rounds onwards ringing, with coffee and cake.\nThis event will be held at
  a ground floor ringing room with good ventilation.  We encourage attendees
  to take a lateral flow test in advance, and to use hand sanitiser before r
 inging; facemasks are optional. \n This event was imported from: https://ww
 w.scacr.org/news-events/calendar/853/cancelled-ringing-with-coffee-cake?tmp
 l=component (https://www.scacr.org/news-events/calendar/853/cancelled-ringi
 ng-with-coffee-cake?tmpl=component)
X-ALT-DESC;FMTTYPE=text/html:<p>EVENT CANCELLED due to tower unavailability and petrol issues.</p><p>All
  welcome! Rounds onwards ringing, with coffee and cake.</p><p>This event wi
 ll be held at a ground floor ringing room with good ventilation.&nbsp; We e
 ncourage attendees to take a lateral flow test in advance, and to use hand 
 sanitiser before ringing; facemasks are optional.&nbsp;</p> <a href="https:
 //www.scacr.org/news-events/calendar/853/cancelled-ringing-with-coffee-cake
 ?tmpl=component">This event was imported from: https://www.scacr.org/news-e
 vents/calendar/853/cancelled-ringing-with-coffee-cake?tmpl=component</a>CONTACT:This email address is being protected from spambots. You need JavaScript enabled to view it.
				document.getElementById('cloak5e5f15ab370e88650c9b8fe6a254df45').innerHTML = '';
				var prefix = '&#109;a' + 'i&#108;' + '&#116;o';
				var path = 'hr' + 'ef' + '=';
				var addy5e5f15ab370e88650c9b8fe6a254df45 = 's&#101;c-n&#111;rth' + '&#64;';
				addy5e5f15ab370e88650c9b8fe6a254df45 = addy5e5f15ab370e88650c9b8fe6a254df45 + 'sc&#97;cr' + '&#46;' + '&#111;rg';
				var addy_text5e5f15ab370e88650c9b8fe6a254df45 = 's&#101;c-n&#111;rth' + '&#64;' + 'sc&#97;cr' + '&#46;' + '&#111;rg';document.getElementById('cloak5e5f15ab370e88650c9b8fe6a254df45').innerHTML += '<a ' + path + '\'' + prefix + ':' + addy5e5f15ab370e88650c9b8fe6a254df45 + '\'>'+addy_text5e5f15ab370e88650c9b8fe6a254df45+'';
		
DTSTAMP:20260420T130825
DTSTART;TZID=Europe/London:20211009T150000
DTEND;TZID=Europe/London:20211009T170000
SEQUENCE:0
TRANSP:OPAQUE
END:VEVENT
END:VCALENDAR