BEGIN:VCALENDAR
VERSION:2.0
PRODID:-//jEvents 2.0 for Joomla//EN
CALSCALE:GREGORIAN
METHOD:PUBLISH
BEGIN:VTIMEZONE
TZID:Europe/London
BEGIN:STANDARD
DTSTART:20201025T010000
RDATE:20210328T020000
TZOFFSETFROM:+0100
TZOFFSETTO:+0000
TZNAME:Europe/London GMT
END:STANDARD
BEGIN:STANDARD
DTSTART:20211031T010000
RDATE:20220327T020000
TZOFFSETFROM:+0100
TZOFFSETTO:+0000
TZNAME:Europe/London GMT
END:STANDARD
BEGIN:STANDARD
DTSTART:20221030T010000
RDATE:20230326T020000
TZOFFSETFROM:+0100
TZOFFSETTO:+0000
TZNAME:Europe/London GMT
END:STANDARD
BEGIN:STANDARD
DTSTART:20231029T010000
RDATE:20240331T020000
TZOFFSETFROM:+0100
TZOFFSETTO:+0000
TZNAME:Europe/London GMT
END:STANDARD
BEGIN:STANDARD
DTSTART:20241027T010000
RDATE:20250330T020000
TZOFFSETFROM:+0100
TZOFFSETTO:+0000
TZNAME:Europe/London GMT
END:STANDARD
BEGIN:STANDARD
DTSTART:20251026T010000
RDATE:20260329T020000
TZOFFSETFROM:+0100
TZOFFSETTO:+0000
TZNAME:Europe/London GMT
END:STANDARD
BEGIN:STANDARD
DTSTART:20261025T010000
RDATE:20270328T020000
TZOFFSETFROM:+0100
TZOFFSETTO:+0000
TZNAME:Europe/London GMT
END:STANDARD
BEGIN:STANDARD
DTSTART:20271031T010000
RDATE:20280326T020000
TZOFFSETFROM:+0100
TZOFFSETTO:+0000
TZNAME:Europe/London GMT
END:STANDARD
BEGIN:STANDARD
DTSTART:20281029T010000
RDATE:20290325T020000
TZOFFSETFROM:+0100
TZOFFSETTO:+0000
TZNAME:Europe/London GMT
END:STANDARD
BEGIN:STANDARD
DTSTART:20291028T010000
RDATE:20300331T020000
TZOFFSETFROM:+0100
TZOFFSETTO:+0000
TZNAME:Europe/London GMT
END:STANDARD
BEGIN:STANDARD
DTSTART:20301027T010000
RDATE:20310330T020000
TZOFFSETFROM:+0100
TZOFFSETTO:+0000
TZNAME:Europe/London GMT
END:STANDARD
BEGIN:DAYLIGHT
DTSTART:20200820T120000
RDATE:20201025T010000
TZOFFSETFROM:+0000
TZOFFSETTO:+0100
TZNAME:Europe/London BST
END:DAYLIGHT
BEGIN:DAYLIGHT
DTSTART:20210328T020000
RDATE:20211031T010000
TZOFFSETFROM:+0000
TZOFFSETTO:+0100
TZNAME:Europe/London BST
END:DAYLIGHT
BEGIN:DAYLIGHT
DTSTART:20220327T020000
RDATE:20221030T010000
TZOFFSETFROM:+0000
TZOFFSETTO:+0100
TZNAME:Europe/London BST
END:DAYLIGHT
BEGIN:DAYLIGHT
DTSTART:20230326T020000
RDATE:20231029T010000
TZOFFSETFROM:+0000
TZOFFSETTO:+0100
TZNAME:Europe/London BST
END:DAYLIGHT
BEGIN:DAYLIGHT
DTSTART:20240331T020000
RDATE:20241027T010000
TZOFFSETFROM:+0000
TZOFFSETTO:+0100
TZNAME:Europe/London BST
END:DAYLIGHT
BEGIN:DAYLIGHT
DTSTART:20250330T020000
RDATE:20251026T010000
TZOFFSETFROM:+0000
TZOFFSETTO:+0100
TZNAME:Europe/London BST
END:DAYLIGHT
BEGIN:DAYLIGHT
DTSTART:20260329T020000
RDATE:20261025T010000
TZOFFSETFROM:+0000
TZOFFSETTO:+0100
TZNAME:Europe/London BST
END:DAYLIGHT
BEGIN:DAYLIGHT
DTSTART:20270328T020000
RDATE:20271031T010000
TZOFFSETFROM:+0000
TZOFFSETTO:+0100
TZNAME:Europe/London BST
END:DAYLIGHT
BEGIN:DAYLIGHT
DTSTART:20280326T020000
RDATE:20281029T010000
TZOFFSETFROM:+0000
TZOFFSETTO:+0100
TZNAME:Europe/London BST
END:DAYLIGHT
BEGIN:DAYLIGHT
DTSTART:20290325T020000
RDATE:20291028T010000
TZOFFSETFROM:+0000
TZOFFSETTO:+0100
TZNAME:Europe/London BST
END:DAYLIGHT
BEGIN:DAYLIGHT
DTSTART:20300331T020000
RDATE:20301027T010000
TZOFFSETFROM:+0000
TZOFFSETTO:+0100
TZNAME:Europe/London BST
END:DAYLIGHT
END:VTIMEZONE
BEGIN:VEVENT
UID:add06010c83c959ab53a76d958954f39
CATEGORIES:North
CREATED:20210803T214415
SUMMARY:Walk, ringing and cake
LOCATION:West Grinstead and Cowfold
URL;VALUE=URI:https://www.scacr.org/news-events/calendar/845/walk-ringing-and-cake?tmpl=c
 omponent
DESCRIPTION:All welcome at the second post-lockdown Northern District get-together! We'
 re looking forward to seeing people in-person...\nYou can join for all or p
 art of this event. If you don't fancy walking, feel free to drive or cycle 
 between towers. Ringing at both towers, picnic lunch at Cowfold and tea and
  cake at West Grinstead, and an optional walk between. \nTimings:\n\n - 12.
 15-1.30 pm - join Anne and Guy at West Grinstead church to walk over to Cow
 fold (3 miles, approx 1 1/4 hours), followed by lunch in Cowfold (there is 
 a pub and a Co-op in the village, or bring your own picnic and eat it in th
 e church/churchyard)\n - 2.00-2.45 pm - ringing at Cowfold\n - 2.45-4.15 pm
  - walk back to West Grinstead\n - 4.15-5.15 pm - ringing, tea/coffee and c
 ake at West Grinstead (please bring your own mug)The walk is flat but a bit
  rutted, with a few stiles, and only a few very short sections along roads.
   Dogs must be kept on a lead due to livestock in the fields.  Sturdy shoes
 /boots and long trousers are advised.  There are likely to be some people w
 ith cars at Cowfold who can give others a lift back to West Grinstead. \nCh
 ildren are very welcome to attend, but must be accompanied by a nominated a
 dult. \nBoth towers are ground floor rings, with plenty of air circulation.
  Hand sanitiser will be available, and facemasks are optional in the ringin
 g areas. \nThere is parking available at both towers, and Cowfold also has 
 a toilet. \nPlease note that the paths to both churches are uneven and can 
 be slippery when wet. Although Cowfold is a ground floor ringing room, ther
 e are two steps from the main church body.\nMany thanks to Stella, Anne and
  Susie for organising!\n This event was imported from: https://www.scacr.or
 g/news-events/calendar/845/walk-ringing-and-cake?tmpl=component (https://ww
 w.scacr.org/news-events/calendar/845/walk-ringing-and-cake?tmpl=component)
X-ALT-DESC;FMTTYPE=text/html:<p>All welcome at the second post-lockdown Northern District get-together! 
 We're looking forward to seeing people in-person...</p><p>You can join for 
 all or part of this event. If you don't fancy walking, feel free to drive o
 r cycle between towers. Ringing at both towers, picnic lunch at Cowfold and
  tea and cake at West Grinstead, and an optional walk between.&nbsp;</p><p>
 Timings:</p><ul><li>12.15-1.30 pm - join Anne and Guy at West Grinstead chu
 rch to walk over to Cowfold (3 miles, approx 1 1/4 hours), followed by lunc
 h in Cowfold (there is a pub and a Co-op in the village, or bring your own 
 picnic and eat it in the church/churchyard)</li><li>2.00-2.45 pm - ringing 
 at Cowfold</li><li>2.45-4.15 pm - walk back to West Grinstead</li><li>4.15-
 5.15 pm - ringing, tea/coffee and cake at West Grinstead (please bring your
  own mug)</li></ul><p>The walk is flat but a bit rutted, with a few stiles,
  and only a few very short sections along roads.&nbsp; Dogs must be kept on
  a lead due to livestock in the fields.&nbsp; Sturdy shoes/boots and long t
 rousers are advised.&nbsp; There are likely to be some people with cars at 
 Cowfold who can give others a lift back to West Grinstead.&nbsp;</p><p>Chil
 dren are very welcome to attend, but must be accompanied by a nominated adu
 lt.&nbsp;</p><p>Both towers are ground floor rings, with plenty of air circ
 ulation. Hand sanitiser will be available, and facemasks are optional in th
 e ringing areas.&nbsp;</p><p>There is parking available at both towers, and
  Cowfold also has a toilet.&nbsp;</p><p>Please note that the paths to both 
 churches are uneven and can be slippery when wet. Although Cowfold is a gro
 und floor ringing room, there are two steps from the main church body.</p><
 p>Many thanks to Stella, Anne and Susie for organising!</p> <a href="https:
 //www.scacr.org/news-events/calendar/845/walk-ringing-and-cake?tmpl=compone
 nt">This event was imported from: https://www.scacr.org/news-events/calenda
 r/845/walk-ringing-and-cake?tmpl=component</a>CONTACT:This email address is being protected from spambots. You need JavaScript enabled to view it.
				document.getElementById('cloak11caea3239340edeedf54dff6ead541d').innerHTML = '';
				var prefix = '&#109;a' + 'i&#108;' + '&#116;o';
				var path = 'hr' + 'ef' + '=';
				var addy11caea3239340edeedf54dff6ead541d = 's&#101;c-n&#111;rth' + '&#64;';
				addy11caea3239340edeedf54dff6ead541d = addy11caea3239340edeedf54dff6ead541d + 'sc&#97;cr' + '&#46;' + '&#111;rg';
				var addy_text11caea3239340edeedf54dff6ead541d = 's&#101;c-n&#111;rth' + '&#64;' + 'sc&#97;cr' + '&#46;' + '&#111;rg';document.getElementById('cloak11caea3239340edeedf54dff6ead541d').innerHTML += '<a ' + path + '\'' + prefix + ':' + addy11caea3239340edeedf54dff6ead541d + '\'>'+addy_text11caea3239340edeedf54dff6ead541d+'';
		
DTSTAMP:20260420T130823
DTSTART;TZID=Europe/London:20210821T120000
DTEND;TZID=Europe/London:20210821T173000
SEQUENCE:0
TRANSP:OPAQUE
END:VEVENT
END:VCALENDAR