BEGIN:VCALENDAR
VERSION:2.0
PRODID:-//jEvents 2.0 for Joomla//EN
CALSCALE:GREGORIAN
METHOD:PUBLISH
BEGIN:VTIMEZONE
TZID:Europe/London
BEGIN:STANDARD
DTSTART:20201025T010000
RDATE:20210328T020000
TZOFFSETFROM:+0100
TZOFFSETTO:+0000
TZNAME:Europe/London GMT
END:STANDARD
BEGIN:STANDARD
DTSTART:20211031T010000
RDATE:20220327T020000
TZOFFSETFROM:+0100
TZOFFSETTO:+0000
TZNAME:Europe/London GMT
END:STANDARD
BEGIN:STANDARD
DTSTART:20221030T010000
RDATE:20230326T020000
TZOFFSETFROM:+0100
TZOFFSETTO:+0000
TZNAME:Europe/London GMT
END:STANDARD
BEGIN:STANDARD
DTSTART:20231029T010000
RDATE:20240331T020000
TZOFFSETFROM:+0100
TZOFFSETTO:+0000
TZNAME:Europe/London GMT
END:STANDARD
BEGIN:STANDARD
DTSTART:20241027T010000
RDATE:20250330T020000
TZOFFSETFROM:+0100
TZOFFSETTO:+0000
TZNAME:Europe/London GMT
END:STANDARD
BEGIN:STANDARD
DTSTART:20251026T010000
RDATE:20260329T020000
TZOFFSETFROM:+0100
TZOFFSETTO:+0000
TZNAME:Europe/London GMT
END:STANDARD
BEGIN:STANDARD
DTSTART:20261025T010000
RDATE:20270328T020000
TZOFFSETFROM:+0100
TZOFFSETTO:+0000
TZNAME:Europe/London GMT
END:STANDARD
BEGIN:STANDARD
DTSTART:20271031T010000
RDATE:20280326T020000
TZOFFSETFROM:+0100
TZOFFSETTO:+0000
TZNAME:Europe/London GMT
END:STANDARD
BEGIN:STANDARD
DTSTART:20281029T010000
RDATE:20290325T020000
TZOFFSETFROM:+0100
TZOFFSETTO:+0000
TZNAME:Europe/London GMT
END:STANDARD
BEGIN:STANDARD
DTSTART:20291028T010000
RDATE:20300331T020000
TZOFFSETFROM:+0100
TZOFFSETTO:+0000
TZNAME:Europe/London GMT
END:STANDARD
BEGIN:STANDARD
DTSTART:20301027T010000
RDATE:20310330T020000
TZOFFSETFROM:+0100
TZOFFSETTO:+0000
TZNAME:Europe/London GMT
END:STANDARD
BEGIN:DAYLIGHT
DTSTART:20200910T150000
RDATE:20201025T010000
TZOFFSETFROM:+0000
TZOFFSETTO:+0100
TZNAME:Europe/London BST
END:DAYLIGHT
BEGIN:DAYLIGHT
DTSTART:20210328T020000
RDATE:20211031T010000
TZOFFSETFROM:+0000
TZOFFSETTO:+0100
TZNAME:Europe/London BST
END:DAYLIGHT
BEGIN:DAYLIGHT
DTSTART:20220327T020000
RDATE:20221030T010000
TZOFFSETFROM:+0000
TZOFFSETTO:+0100
TZNAME:Europe/London BST
END:DAYLIGHT
BEGIN:DAYLIGHT
DTSTART:20230326T020000
RDATE:20231029T010000
TZOFFSETFROM:+0000
TZOFFSETTO:+0100
TZNAME:Europe/London BST
END:DAYLIGHT
BEGIN:DAYLIGHT
DTSTART:20240331T020000
RDATE:20241027T010000
TZOFFSETFROM:+0000
TZOFFSETTO:+0100
TZNAME:Europe/London BST
END:DAYLIGHT
BEGIN:DAYLIGHT
DTSTART:20250330T020000
RDATE:20251026T010000
TZOFFSETFROM:+0000
TZOFFSETTO:+0100
TZNAME:Europe/London BST
END:DAYLIGHT
BEGIN:DAYLIGHT
DTSTART:20260329T020000
RDATE:20261025T010000
TZOFFSETFROM:+0000
TZOFFSETTO:+0100
TZNAME:Europe/London BST
END:DAYLIGHT
BEGIN:DAYLIGHT
DTSTART:20270328T020000
RDATE:20271031T010000
TZOFFSETFROM:+0000
TZOFFSETTO:+0100
TZNAME:Europe/London BST
END:DAYLIGHT
BEGIN:DAYLIGHT
DTSTART:20280326T020000
RDATE:20281029T010000
TZOFFSETFROM:+0000
TZOFFSETTO:+0100
TZNAME:Europe/London BST
END:DAYLIGHT
BEGIN:DAYLIGHT
DTSTART:20290325T020000
RDATE:20291028T010000
TZOFFSETFROM:+0000
TZOFFSETTO:+0100
TZNAME:Europe/London BST
END:DAYLIGHT
BEGIN:DAYLIGHT
DTSTART:20300331T020000
RDATE:20301027T010000
TZOFFSETFROM:+0000
TZOFFSETTO:+0100
TZNAME:Europe/London BST
END:DAYLIGHT
END:VTIMEZONE
BEGIN:VEVENT
UID:0091d686bb45c43d0a1160de3479f293
CATEGORIES:West
CREATED:20210716T162048
SUMMARY:Ring and refreshments 
LOCATION:Wisborough Green
URL;VALUE=URI:https://www.scacr.org/news-events/calendar/844/ring-and-refreshments?tmpl=c
 omponent
DESCRIPTION:An afternoon get-together on Wisborough Green's ground floor 6 bell ring wi
 th tea and cake provided.  This is a small Tower so masks should be worn wh
 ilst ringing.\nPlease register with Moya (This email address is being prote
 cted from spambots. You need JavaScript enabled to view it.
				document.ge
 tElementById('cloak584aace6d0d54e1a31c3cd805dfb49fe').innerHTML = '';
				v
 ar prefix = '&#109;a' + 'i&#108;' + '&#116;o';
				var path = 'hr' + 'ef' +
  '=';
				var addy584aace6d0d54e1a31c3cd805dfb49fe = 's&#101;c-w&#101;st' +
  '&#64;';
				addy584aace6d0d54e1a31c3cd805dfb49fe = addy584aace6d0d54e1a31
 c3cd805dfb49fe + 'sc&#97;cr' + '&#46;' + '&#111;rg';
				var addy_text584aa
 ce6d0d54e1a31c3cd805dfb49fe = 's&#101;c-w&#101;st' + '&#64;' + 'sc&#97;cr' 
 + '&#46;' + '&#111;rg';document.getElementById('cloak584aace6d0d54e1a31c3cd
 805dfb49fe').innerHTML += '<a ' + path + '\'' + prefix + ':' + addy584aace6
 d0d54e1a31c3cd805dfb49fe + '\'>'+addy_text584aace6d0d54e1a31c3cd805dfb49fe+
 '';
		 or 01903-266980) if you intend coming for catering purposes.\nMany t
 hanks\n This event was imported from: https://www.scacr.org/news-events/cal
 endar/844/ring-and-refreshments?tmpl=component (https://www.scacr.org/news-
 events/calendar/844/ring-and-refreshments?tmpl=component)
X-ALT-DESC;FMTTYPE=text/html:<p>An afternoon get-together on Wisborough Green's ground floor 6 bell ring
  with tea and cake provided.&nbsp; This is a small Tower so masks should be
  worn whilst ringing.</p><p>Please register with Moya (<span id="cloak584aa
 ce6d0d54e1a31c3cd805dfb49fe">This email address is being protected from spa
 mbots. You need JavaScript enabled to view it.</span><script type='text/jav
 ascript'>
				document.getElementById('cloak584aace6d0d54e1a31c3cd805dfb49f
 e').innerHTML = '';
				var prefix = '&#109;a' + 'i&#108;' + '&#116;o';
			
 	var path = 'hr' + 'ef' + '=';
				var addy584aace6d0d54e1a31c3cd805dfb49fe
  = 's&#101;c-w&#101;st' + '&#64;';
				addy584aace6d0d54e1a31c3cd805dfb49fe
  = addy584aace6d0d54e1a31c3cd805dfb49fe + 'sc&#97;cr' + '&#46;' + '&#111;rg
 ';
				var addy_text584aace6d0d54e1a31c3cd805dfb49fe = 's&#101;c-w&#101;st'
  + '&#64;' + 'sc&#97;cr' + '&#46;' + '&#111;rg';document.getElementById('cl
 oak584aace6d0d54e1a31c3cd805dfb49fe').innerHTML += '<a ' + path + '\'' + pr
 efix + ':' + addy584aace6d0d54e1a31c3cd805dfb49fe + '\'>'+addy_text584aace6
 d0d54e1a31c3cd805dfb49fe+'<\/a>';
		</script> or 01903-266980) if you inten
 d coming for catering purposes.</p><p>Many thanks</p> <a href="https://www.
 scacr.org/news-events/calendar/844/ring-and-refreshments?tmpl=component">Th
 is event was imported from: https://www.scacr.org/news-events/calendar/844/
 ring-and-refreshments?tmpl=component</a>CONTACT:Moya - This email address is being protected from spambots. You need JavaScript enabled to view it.
				document.getElementById('cloakb87824c639a6f530c87612c303898ac5').innerHTML = '';
				var prefix = '&#109;a' + 'i&#108;' + '&#116;o';
				var path = 'hr' + 'ef' + '=';
				var addyb87824c639a6f530c87612c303898ac5 = 's&#101;c-w&#101;st' + '&#64;';
				addyb87824c639a6f530c87612c303898ac5 = addyb87824c639a6f530c87612c303898ac5 + 'sc&#97;cr' + '&#46;' + '&#111;rg';
				var addy_textb87824c639a6f530c87612c303898ac5 = 's&#101;c-w&#101;st' + '&#64;' + 'sc&#97;cr' + '&#46;' + '&#111;rg';document.getElementById('cloakb87824c639a6f530c87612c303898ac5').innerHTML += '<a ' + path + '\'' + prefix + ':' + addyb87824c639a6f530c87612c303898ac5 + '\'>'+addy_textb87824c639a6f530c87612c303898ac5+'';
		 
DTSTAMP:20260419T131325
DTSTART;TZID=Europe/London:20210911T150000
DTEND;TZID=Europe/London:20210911T163000
SEQUENCE:0
TRANSP:OPAQUE
END:VEVENT
END:VCALENDAR