BEGIN:VCALENDAR
VERSION:2.0
PRODID:-//jEvents 2.0 for Joomla//EN
CALSCALE:GREGORIAN
METHOD:PUBLISH
BEGIN:VTIMEZONE
TZID:Europe/London
BEGIN:STANDARD
DTSTART:20201025T010000
RDATE:20210328T020000
TZOFFSETFROM:+0100
TZOFFSETTO:+0000
TZNAME:Europe/London GMT
END:STANDARD
BEGIN:STANDARD
DTSTART:20211031T010000
RDATE:20220327T020000
TZOFFSETFROM:+0100
TZOFFSETTO:+0000
TZNAME:Europe/London GMT
END:STANDARD
BEGIN:STANDARD
DTSTART:20221030T010000
RDATE:20230326T020000
TZOFFSETFROM:+0100
TZOFFSETTO:+0000
TZNAME:Europe/London GMT
END:STANDARD
BEGIN:STANDARD
DTSTART:20231029T010000
RDATE:20240331T020000
TZOFFSETFROM:+0100
TZOFFSETTO:+0000
TZNAME:Europe/London GMT
END:STANDARD
BEGIN:STANDARD
DTSTART:20241027T010000
RDATE:20250330T020000
TZOFFSETFROM:+0100
TZOFFSETTO:+0000
TZNAME:Europe/London GMT
END:STANDARD
BEGIN:STANDARD
DTSTART:20251026T010000
RDATE:20260329T020000
TZOFFSETFROM:+0100
TZOFFSETTO:+0000
TZNAME:Europe/London GMT
END:STANDARD
BEGIN:STANDARD
DTSTART:20261025T010000
RDATE:20270328T020000
TZOFFSETFROM:+0100
TZOFFSETTO:+0000
TZNAME:Europe/London GMT
END:STANDARD
BEGIN:STANDARD
DTSTART:20271031T010000
RDATE:20280326T020000
TZOFFSETFROM:+0100
TZOFFSETTO:+0000
TZNAME:Europe/London GMT
END:STANDARD
BEGIN:STANDARD
DTSTART:20281029T010000
RDATE:20290325T020000
TZOFFSETFROM:+0100
TZOFFSETTO:+0000
TZNAME:Europe/London GMT
END:STANDARD
BEGIN:STANDARD
DTSTART:20291028T010000
RDATE:20300331T020000
TZOFFSETFROM:+0100
TZOFFSETTO:+0000
TZNAME:Europe/London GMT
END:STANDARD
BEGIN:STANDARD
DTSTART:20301027T010000
RDATE:20310330T020000
TZOFFSETFROM:+0100
TZOFFSETTO:+0000
TZNAME:Europe/London GMT
END:STANDARD
BEGIN:DAYLIGHT
DTSTART:20200916T193000
RDATE:20201025T010000
TZOFFSETFROM:+0000
TZOFFSETTO:+0100
TZNAME:Europe/London BST
END:DAYLIGHT
BEGIN:DAYLIGHT
DTSTART:20210328T020000
RDATE:20211031T010000
TZOFFSETFROM:+0000
TZOFFSETTO:+0100
TZNAME:Europe/London BST
END:DAYLIGHT
BEGIN:DAYLIGHT
DTSTART:20220327T020000
RDATE:20221030T010000
TZOFFSETFROM:+0000
TZOFFSETTO:+0100
TZNAME:Europe/London BST
END:DAYLIGHT
BEGIN:DAYLIGHT
DTSTART:20230326T020000
RDATE:20231029T010000
TZOFFSETFROM:+0000
TZOFFSETTO:+0100
TZNAME:Europe/London BST
END:DAYLIGHT
BEGIN:DAYLIGHT
DTSTART:20240331T020000
RDATE:20241027T010000
TZOFFSETFROM:+0000
TZOFFSETTO:+0100
TZNAME:Europe/London BST
END:DAYLIGHT
BEGIN:DAYLIGHT
DTSTART:20250330T020000
RDATE:20251026T010000
TZOFFSETFROM:+0000
TZOFFSETTO:+0100
TZNAME:Europe/London BST
END:DAYLIGHT
BEGIN:DAYLIGHT
DTSTART:20260329T020000
RDATE:20261025T010000
TZOFFSETFROM:+0000
TZOFFSETTO:+0100
TZNAME:Europe/London BST
END:DAYLIGHT
BEGIN:DAYLIGHT
DTSTART:20270328T020000
RDATE:20271031T010000
TZOFFSETFROM:+0000
TZOFFSETTO:+0100
TZNAME:Europe/London BST
END:DAYLIGHT
BEGIN:DAYLIGHT
DTSTART:20280326T020000
RDATE:20281029T010000
TZOFFSETFROM:+0000
TZOFFSETTO:+0100
TZNAME:Europe/London BST
END:DAYLIGHT
BEGIN:DAYLIGHT
DTSTART:20290325T020000
RDATE:20291028T010000
TZOFFSETFROM:+0000
TZOFFSETTO:+0100
TZNAME:Europe/London BST
END:DAYLIGHT
BEGIN:DAYLIGHT
DTSTART:20300331T020000
RDATE:20301027T010000
TZOFFSETFROM:+0000
TZOFFSETTO:+0100
TZNAME:Europe/London BST
END:DAYLIGHT
END:VTIMEZONE
BEGIN:VEVENT
UID:f23a90c03c984806ead19e8d5508e0d4
CATEGORIES:West
CREATED:20210716T161433
SUMMARY:Evening Novice Practice
LOCATION:Arundel BN18 9AT
URL;VALUE=URI:https://www.scacr.org/news-events/calendar/840/evening-novice-practice?tmpl
 =component
DESCRIPTION:<p>An evening ringing on Arundel's 8 easy going bells to practice call chan
 ges, plain hunt and basic methods.</p><p>It would help if you could registe
 r your interest with Moya (<span id="cloakf772b120d42de0c24d124585eeb383c3"
 >This email address is being protected from spambots. You need JavaScript e
 nabled to view it.</span><script type='text/javascript'>
				document.getEl
 ementById('cloakf772b120d42de0c24d124585eeb383c3').innerHTML = '';
				var 
 prefix = '&#109;a' + 'i&#108;' + '&#116;o';
				var path = 'hr' + 'ef' + '=
 ';
				var addyf772b120d42de0c24d124585eeb383c3 = 's&#101;c-w&#101;st' + '&
 #64;';
				addyf772b120d42de0c24d124585eeb383c3 = addyf772b120d42de0c24d124
 585eeb383c3 + 'sc&#97;cr' + '&#46;' + '&#111;rg';
				var addy_textf772b120
 d42de0c24d124585eeb383c3 = 's&#101;c-w&#101;st' + '&#64;' + 'sc&#97;cr' + '
 &#46;' + '&#111;rg';document.getElementById('cloakf772b120d42de0c24d124585e
 eb383c3').innerHTML += '<a ' + path + '\'' + prefix + ':' + addyf772b120d42
 de0c24d124585eeb383c3 + '\'>'+addy_textf772b120d42de0c24d124585eeb383c3+'<\
 /a>';
		</script> or 01903-266980) so we can get an idea of numbers wishing
  to attend, as may have to limit how many.</p><p>There is no car park at th
 e church, so park on the road to the west of the church, be aware of restri
 ctions.</p> <a href="https://www.scacr.org/news-events/calendar/840/evening
 -novice-practice?tmpl=component">This event was imported from: https://www.
 scacr.org/news-events/calendar/840/evening-novice-practice?tmpl=component</
 a>CONTACT:Moya - This email address is being protected from spambots. You need JavaScript enabled to view it.
				document.getElementById('cloakdb32494977806201a416e74dd4362f9a').innerHTML = '';
				var prefix = '&#109;a' + 'i&#108;' + '&#116;o';
				var path = 'hr' + 'ef' + '=';
				var addydb32494977806201a416e74dd4362f9a = 's&#101;c-w&#101;st' + '&#64;';
				addydb32494977806201a416e74dd4362f9a = addydb32494977806201a416e74dd4362f9a + 'sc&#97;cr' + '&#46;' + '&#111;rg';
				var addy_textdb32494977806201a416e74dd4362f9a = 's&#101;c-w&#101;st' + '&#64;' + 'sc&#97;cr' + '&#46;' + '&#111;rg';document.getElementById('cloakdb32494977806201a416e74dd4362f9a').innerHTML += '<a ' + path + '\'' + prefix + ':' + addydb32494977806201a416e74dd4362f9a + '\'>'+addy_textdb32494977806201a416e74dd4362f9a+'';
		 
DTSTAMP:20260420T195503
DTSTART;TZID=Europe/London:20210917T193000
DTEND;TZID=Europe/London:20210917T210000
SEQUENCE:0
TRANSP:OPAQUE
END:VEVENT
END:VCALENDAR