BEGIN:VCALENDAR
VERSION:2.0
PRODID:-//jEvents 2.0 for Joomla//EN
CALSCALE:GREGORIAN
METHOD:PUBLISH
BEGIN:VTIMEZONE
TZID:Europe/London
BEGIN:STANDARD
DTSTART:20201025T010000
RDATE:20210328T020000
TZOFFSETFROM:+0100
TZOFFSETTO:+0000
TZNAME:Europe/London GMT
END:STANDARD
BEGIN:STANDARD
DTSTART:20211031T010000
RDATE:20220327T020000
TZOFFSETFROM:+0100
TZOFFSETTO:+0000
TZNAME:Europe/London GMT
END:STANDARD
BEGIN:STANDARD
DTSTART:20221030T010000
RDATE:20230326T020000
TZOFFSETFROM:+0100
TZOFFSETTO:+0000
TZNAME:Europe/London GMT
END:STANDARD
BEGIN:STANDARD
DTSTART:20231029T010000
RDATE:20240331T020000
TZOFFSETFROM:+0100
TZOFFSETTO:+0000
TZNAME:Europe/London GMT
END:STANDARD
BEGIN:STANDARD
DTSTART:20241027T010000
RDATE:20250330T020000
TZOFFSETFROM:+0100
TZOFFSETTO:+0000
TZNAME:Europe/London GMT
END:STANDARD
BEGIN:STANDARD
DTSTART:20251026T010000
RDATE:20260329T020000
TZOFFSETFROM:+0100
TZOFFSETTO:+0000
TZNAME:Europe/London GMT
END:STANDARD
BEGIN:STANDARD
DTSTART:20261025T010000
RDATE:20270328T020000
TZOFFSETFROM:+0100
TZOFFSETTO:+0000
TZNAME:Europe/London GMT
END:STANDARD
BEGIN:STANDARD
DTSTART:20271031T010000
RDATE:20280326T020000
TZOFFSETFROM:+0100
TZOFFSETTO:+0000
TZNAME:Europe/London GMT
END:STANDARD
BEGIN:STANDARD
DTSTART:20281029T010000
RDATE:20290325T020000
TZOFFSETFROM:+0100
TZOFFSETTO:+0000
TZNAME:Europe/London GMT
END:STANDARD
BEGIN:STANDARD
DTSTART:20291028T010000
RDATE:20300331T020000
TZOFFSETFROM:+0100
TZOFFSETTO:+0000
TZNAME:Europe/London GMT
END:STANDARD
BEGIN:STANDARD
DTSTART:20301027T010000
RDATE:20310330T020000
TZOFFSETFROM:+0100
TZOFFSETTO:+0000
TZNAME:Europe/London GMT
END:STANDARD
BEGIN:DAYLIGHT
DTSTART:20200819T193000
RDATE:20201025T010000
TZOFFSETFROM:+0000
TZOFFSETTO:+0100
TZNAME:Europe/London BST
END:DAYLIGHT
BEGIN:DAYLIGHT
DTSTART:20210328T020000
RDATE:20211031T010000
TZOFFSETFROM:+0000
TZOFFSETTO:+0100
TZNAME:Europe/London BST
END:DAYLIGHT
BEGIN:DAYLIGHT
DTSTART:20220327T020000
RDATE:20221030T010000
TZOFFSETFROM:+0000
TZOFFSETTO:+0100
TZNAME:Europe/London BST
END:DAYLIGHT
BEGIN:DAYLIGHT
DTSTART:20230326T020000
RDATE:20231029T010000
TZOFFSETFROM:+0000
TZOFFSETTO:+0100
TZNAME:Europe/London BST
END:DAYLIGHT
BEGIN:DAYLIGHT
DTSTART:20240331T020000
RDATE:20241027T010000
TZOFFSETFROM:+0000
TZOFFSETTO:+0100
TZNAME:Europe/London BST
END:DAYLIGHT
BEGIN:DAYLIGHT
DTSTART:20250330T020000
RDATE:20251026T010000
TZOFFSETFROM:+0000
TZOFFSETTO:+0100
TZNAME:Europe/London BST
END:DAYLIGHT
BEGIN:DAYLIGHT
DTSTART:20260329T020000
RDATE:20261025T010000
TZOFFSETFROM:+0000
TZOFFSETTO:+0100
TZNAME:Europe/London BST
END:DAYLIGHT
BEGIN:DAYLIGHT
DTSTART:20270328T020000
RDATE:20271031T010000
TZOFFSETFROM:+0000
TZOFFSETTO:+0100
TZNAME:Europe/London BST
END:DAYLIGHT
BEGIN:DAYLIGHT
DTSTART:20280326T020000
RDATE:20281029T010000
TZOFFSETFROM:+0000
TZOFFSETTO:+0100
TZNAME:Europe/London BST
END:DAYLIGHT
BEGIN:DAYLIGHT
DTSTART:20290325T020000
RDATE:20291028T010000
TZOFFSETFROM:+0000
TZOFFSETTO:+0100
TZNAME:Europe/London BST
END:DAYLIGHT
BEGIN:DAYLIGHT
DTSTART:20300331T020000
RDATE:20301027T010000
TZOFFSETFROM:+0000
TZOFFSETTO:+0100
TZNAME:Europe/London BST
END:DAYLIGHT
END:VTIMEZONE
BEGIN:VEVENT
UID:04d393afac3ccb1bc8f3cfc9e294962c
CATEGORIES:West
CREATED:20210716T161406
SUMMARY:CANCELLED - Evening Novice Practice
LOCATION:Arundel BN18 9AT
URL;VALUE=URI:https://www.scacr.org/news-events/calendar/839/cancelled-evening-novice-pra
 ctice?tmpl=component
DESCRIPTION:<h3><strong>Unfortunately this has had to be cancelled due to an outdoor Sh
 akespeare play being performed in the Castle grounds</strong></h3><p><em>An
  evening ringing on Arundel's 8 easy going bells to practice call changes, 
 plain hunt and basic methods.</em></p><p><em>It would help if you could reg
 ister your interest with Moya (<span id="cloakfcb4dff5ce2f527dc9c612a5ce16e
 859">This email address is being protected from spambots. You need JavaScri
 pt enabled to view it.</span><script type='text/javascript'>
				document.g
 etElementById('cloakfcb4dff5ce2f527dc9c612a5ce16e859').innerHTML = '';
				
 var prefix = '&#109;a' + 'i&#108;' + '&#116;o';
				var path = 'hr' + 'ef' 
 + '=';
				var addyfcb4dff5ce2f527dc9c612a5ce16e859 = 's&#101;c-w&#101;st' 
 + '&#64;';
				addyfcb4dff5ce2f527dc9c612a5ce16e859 = addyfcb4dff5ce2f527dc
 9c612a5ce16e859 + 'sc&#97;cr' + '&#46;' + '&#111;rg';
				var addy_textfcb4
 dff5ce2f527dc9c612a5ce16e859 = 's&#101;c-w&#101;st' + '&#64;' + 'sc&#97;cr'
  + '&#46;' + '&#111;rg';document.getElementById('cloakfcb4dff5ce2f527dc9c61
 2a5ce16e859').innerHTML += '<a ' + path + '\'' + prefix + ':' + addyfcb4dff
 5ce2f527dc9c612a5ce16e859 + '\'>'+addy_textfcb4dff5ce2f527dc9c612a5ce16e859
 +'<\/a>';
		</script> or 01903-266980) so we can get an idea of numbers wis
 hing to attend, as may have to limit how many.</em></p><p><em>There is no c
 ar park at the church, so park on the road to the west of the church, be aw
 are of restrictions.</em></p> <a href="https://www.scacr.org/news-events/ca
 lendar/839/cancelled-evening-novice-practice?tmpl=component">This event was
  imported from: https://www.scacr.org/news-events/calendar/839/cancelled-ev
 ening-novice-practice?tmpl=component</a>CONTACT:Moya - This email address is being protected from spambots. You need JavaScript enabled to view it.
				document.getElementById('cloak7d61d8eaf118f7edaf97775e76edae48').innerHTML = '';
				var prefix = '&#109;a' + 'i&#108;' + '&#116;o';
				var path = 'hr' + 'ef' + '=';
				var addy7d61d8eaf118f7edaf97775e76edae48 = 's&#101;c-w&#101;st' + '&#64;';
				addy7d61d8eaf118f7edaf97775e76edae48 = addy7d61d8eaf118f7edaf97775e76edae48 + 'sc&#97;cr' + '&#46;' + '&#111;rg';
				var addy_text7d61d8eaf118f7edaf97775e76edae48 = 's&#101;c-w&#101;st' + '&#64;' + 'sc&#97;cr' + '&#46;' + '&#111;rg';document.getElementById('cloak7d61d8eaf118f7edaf97775e76edae48').innerHTML += '<a ' + path + '\'' + prefix + ':' + addy7d61d8eaf118f7edaf97775e76edae48 + '\'>'+addy_text7d61d8eaf118f7edaf97775e76edae48+'';
		 
DTSTAMP:20260419T202703
DTSTART;TZID=Europe/London:20210820T193000
DTEND;TZID=Europe/London:20210820T210000
SEQUENCE:0
TRANSP:OPAQUE
END:VEVENT
END:VCALENDAR