BEGIN:VCALENDAR
VERSION:2.0
PRODID:-//jEvents 2.0 for Joomla//EN
CALSCALE:GREGORIAN
METHOD:PUBLISH
BEGIN:VTIMEZONE
TZID:Europe/London
BEGIN:STANDARD
DTSTART:20201025T010000
RDATE:20210328T020000
TZOFFSETFROM:+0100
TZOFFSETTO:+0000
TZNAME:Europe/London GMT
END:STANDARD
BEGIN:STANDARD
DTSTART:20211031T010000
RDATE:20220327T020000
TZOFFSETFROM:+0100
TZOFFSETTO:+0000
TZNAME:Europe/London GMT
END:STANDARD
BEGIN:STANDARD
DTSTART:20221030T010000
RDATE:20230326T020000
TZOFFSETFROM:+0100
TZOFFSETTO:+0000
TZNAME:Europe/London GMT
END:STANDARD
BEGIN:STANDARD
DTSTART:20231029T010000
RDATE:20240331T020000
TZOFFSETFROM:+0100
TZOFFSETTO:+0000
TZNAME:Europe/London GMT
END:STANDARD
BEGIN:STANDARD
DTSTART:20241027T010000
RDATE:20250330T020000
TZOFFSETFROM:+0100
TZOFFSETTO:+0000
TZNAME:Europe/London GMT
END:STANDARD
BEGIN:STANDARD
DTSTART:20251026T010000
RDATE:20260329T020000
TZOFFSETFROM:+0100
TZOFFSETTO:+0000
TZNAME:Europe/London GMT
END:STANDARD
BEGIN:STANDARD
DTSTART:20261025T010000
RDATE:20270328T020000
TZOFFSETFROM:+0100
TZOFFSETTO:+0000
TZNAME:Europe/London GMT
END:STANDARD
BEGIN:STANDARD
DTSTART:20271031T010000
RDATE:20280326T020000
TZOFFSETFROM:+0100
TZOFFSETTO:+0000
TZNAME:Europe/London GMT
END:STANDARD
BEGIN:STANDARD
DTSTART:20281029T010000
RDATE:20290325T020000
TZOFFSETFROM:+0100
TZOFFSETTO:+0000
TZNAME:Europe/London GMT
END:STANDARD
BEGIN:STANDARD
DTSTART:20291028T010000
RDATE:20300331T020000
TZOFFSETFROM:+0100
TZOFFSETTO:+0000
TZNAME:Europe/London GMT
END:STANDARD
BEGIN:STANDARD
DTSTART:20301027T010000
RDATE:20310330T020000
TZOFFSETFROM:+0100
TZOFFSETTO:+0000
TZNAME:Europe/London GMT
END:STANDARD
BEGIN:DAYLIGHT
DTSTART:20200730T094500
RDATE:20201025T010000
TZOFFSETFROM:+0000
TZOFFSETTO:+0100
TZNAME:Europe/London BST
END:DAYLIGHT
BEGIN:DAYLIGHT
DTSTART:20210328T020000
RDATE:20211031T010000
TZOFFSETFROM:+0000
TZOFFSETTO:+0100
TZNAME:Europe/London BST
END:DAYLIGHT
BEGIN:DAYLIGHT
DTSTART:20220327T020000
RDATE:20221030T010000
TZOFFSETFROM:+0000
TZOFFSETTO:+0100
TZNAME:Europe/London BST
END:DAYLIGHT
BEGIN:DAYLIGHT
DTSTART:20230326T020000
RDATE:20231029T010000
TZOFFSETFROM:+0000
TZOFFSETTO:+0100
TZNAME:Europe/London BST
END:DAYLIGHT
BEGIN:DAYLIGHT
DTSTART:20240331T020000
RDATE:20241027T010000
TZOFFSETFROM:+0000
TZOFFSETTO:+0100
TZNAME:Europe/London BST
END:DAYLIGHT
BEGIN:DAYLIGHT
DTSTART:20250330T020000
RDATE:20251026T010000
TZOFFSETFROM:+0000
TZOFFSETTO:+0100
TZNAME:Europe/London BST
END:DAYLIGHT
BEGIN:DAYLIGHT
DTSTART:20260329T020000
RDATE:20261025T010000
TZOFFSETFROM:+0000
TZOFFSETTO:+0100
TZNAME:Europe/London BST
END:DAYLIGHT
BEGIN:DAYLIGHT
DTSTART:20270328T020000
RDATE:20271031T010000
TZOFFSETFROM:+0000
TZOFFSETTO:+0100
TZNAME:Europe/London BST
END:DAYLIGHT
BEGIN:DAYLIGHT
DTSTART:20280326T020000
RDATE:20281029T010000
TZOFFSETFROM:+0000
TZOFFSETTO:+0100
TZNAME:Europe/London BST
END:DAYLIGHT
BEGIN:DAYLIGHT
DTSTART:20290325T020000
RDATE:20291028T010000
TZOFFSETFROM:+0000
TZOFFSETTO:+0100
TZNAME:Europe/London BST
END:DAYLIGHT
BEGIN:DAYLIGHT
DTSTART:20300331T020000
RDATE:20301027T010000
TZOFFSETFROM:+0000
TZOFFSETTO:+0100
TZNAME:Europe/London BST
END:DAYLIGHT
END:VTIMEZONE
BEGIN:VEVENT
UID:3c132a69940540cb353a6bae76f45f29
CATEGORIES:Association Event
CREATED:20210623T094219
SUMMARY:Change Ringing Handbell Morning
LOCATION:Zoom and Ringing Room
URL;VALUE=URI:https://www.scacr.org/news-events/calendar/835/change-ringing-handbell-morn
 ing?tmpl=component
DESCRIPTION:<p>Following-on from the previously successful Handbell mornings,&nbsp;anot
 her event will be held on 31st July 2021.</p><p>This event is open to all, 
 especially:</p><ul><li>Handbell groups in Sussex and near by</li><li>Those 
 who enjoy change ringing on handbells but do not have a regular practice</l
 i><li>Those who want to have a go</li></ul><p>On the day, there will be thr
 ee focus groups:</p><ul><li>Plain Hunting to Plain Bob</li><li>Plain Bob to
  Treble Bob</li><li>Beyond Treble Bob</li></ul><p>If you are not used to th
 e technology, please contact Hamish and he will arrange a familiarization s
 ession.</p><p>If you would like to join in please email Hamish McNaughton a
 t <span id="cloak896c255992947ac5cab8560b1f86d5a5">This email address is be
 ing protected from spambots. You need JavaScript enabled to view it.</span>
 <script type='text/javascript'>
				document.getElementById('cloak896c25599
 2947ac5cab8560b1f86d5a5').innerHTML = '';
				var prefix = '&#109;a' + 'i&#
 108;' + '&#116;o';
				var path = 'hr' + 'ef' + '=';
				var addy896c255992
 947ac5cab8560b1f86d5a5 = 'h&#97;m&#105;sh' + '&#64;';
				addy896c255992947
 ac5cab8560b1f86d5a5 = addy896c255992947ac5cab8560b1f86d5a5 + 'w&#97;ndl&#10
 1;ys' + '&#46;' + '&#117;k';
				var addy_text896c255992947ac5cab8560b1f86d
 5a5 = 'h&#97;m&#105;sh' + '&#64;' + 'w&#97;ndl&#101;ys' + '&#46;' + '&#117;
 k';document.getElementById('cloak896c255992947ac5cab8560b1f86d5a5').innerHT
 ML += '<a ' + path + '\'' + prefix + ':' + addy896c255992947ac5cab8560b1f86
 d5a5 + '\'>'+addy_text896c255992947ac5cab8560b1f86d5a5+'<\/a>';
		</script>
  stating which of the focus groups you would like to join. Information rega
 rding logging into Zoom and the Ringing Rooms will be supplied to those wis
 hing to attend.</p><p><a href="images/jevents/2021-07_handbell_poster.pdf">
 [ Poster download ]</a></p> <a href="https://www.scacr.org/news-events/cale
 ndar/835/change-ringing-handbell-morning?tmpl=component">This event was imp
 orted from: https://www.scacr.org/news-events/calendar/835/change-ringing-h
 andbell-morning?tmpl=component</a>
X-ALT-DESC;FMTTYPE=text/html:<p>Following-on from the previously successful Handbell mornings,&nbsp;anot
 her event will be held on 31st July 2021.</p><p>This event is open to all, 
 especially:</p><ul><li>Handbell groups in Sussex and near by</li><li>Those 
 who enjoy change ringing on handbells but do not have a regular practice</l
 i><li>Those who want to have a go</li></ul><p>On the day, there will be thr
 ee focus groups:</p><ul><li>Plain Hunting to Plain Bob</li><li>Plain Bob to
  Treble Bob</li><li>Beyond Treble Bob</li></ul><p>If you are not used to th
 e technology, please contact Hamish and he will arrange a familiarization s
 ession.</p><p>If you would like to join in please email Hamish McNaughton a
 t <span id="cloak896c255992947ac5cab8560b1f86d5a5">This email address is be
 ing protected from spambots. You need JavaScript enabled to view it.</span>
 <script type='text/javascript'>
				document.getElementById('cloak896c25599
 2947ac5cab8560b1f86d5a5').innerHTML = '';
				var prefix = '&#109;a' + 'i&#
 108;' + '&#116;o';
				var path = 'hr' + 'ef' + '=';
				var addy896c255992
 947ac5cab8560b1f86d5a5 = 'h&#97;m&#105;sh' + '&#64;';
				addy896c255992947
 ac5cab8560b1f86d5a5 = addy896c255992947ac5cab8560b1f86d5a5 + 'w&#97;ndl&#10
 1;ys' + '&#46;' + '&#117;k';
				var addy_text896c255992947ac5cab8560b1f86d
 5a5 = 'h&#97;m&#105;sh' + '&#64;' + 'w&#97;ndl&#101;ys' + '&#46;' + '&#117;
 k';document.getElementById('cloak896c255992947ac5cab8560b1f86d5a5').innerHT
 ML += '<a ' + path + '\'' + prefix + ':' + addy896c255992947ac5cab8560b1f86
 d5a5 + '\'>'+addy_text896c255992947ac5cab8560b1f86d5a5+'<\/a>';
		</script>
  stating which of the focus groups you would like to join. Information rega
 rding logging into Zoom and the Ringing Rooms will be supplied to those wis
 hing to attend.</p><p><a href="https://www.scacr.org/images/jevents/2021-07
 _handbell_poster.pdf">[ Poster download ]</a></p> <a href="https://www.scac
 r.org/news-events/calendar/835/change-ringing-handbell-morning?tmpl=compone
 nt">This event was imported from: https://www.scacr.org/news-events/calenda
 r/835/change-ringing-handbell-morning?tmpl=component</a>CONTACT:This email address is being protected from spambots. You need JavaScript enabled to view it.
				document.getElementById('cloak51a05f6cdfce1de94de21eb849da977b').innerHTML = '';
				var prefix = '&#109;a' + 'i&#108;' + '&#116;o';
				var path = 'hr' + 'ef' + '=';
				var addy51a05f6cdfce1de94de21eb849da977b = 'h&#97;m&#105;sh' + '&#64;';
				addy51a05f6cdfce1de94de21eb849da977b = addy51a05f6cdfce1de94de21eb849da977b + 'w&#97;ndl&#101;ys' + '&#46;' + '&#117;k';
				var addy_text51a05f6cdfce1de94de21eb849da977b = 'h&#97;m&#105;sh' + '&#64;' + 'w&#97;ndl&#101;ys' + '&#46;' + '&#117;k';document.getElementById('cloak51a05f6cdfce1de94de21eb849da977b').innerHTML += '<a ' + path + '\'' + prefix + ':' + addy51a05f6cdfce1de94de21eb849da977b + '\'>'+addy_text51a05f6cdfce1de94de21eb849da977b+'';
		
DTSTAMP:20260419T235656
DTSTART;TZID=Europe/London:20210731T094500
DTEND;TZID=Europe/London:20210731T124000
SEQUENCE:0
TRANSP:OPAQUE
END:VEVENT
END:VCALENDAR