BEGIN:VCALENDAR
VERSION:2.0
PRODID:-//jEvents 2.0 for Joomla//EN
CALSCALE:GREGORIAN
METHOD:PUBLISH
BEGIN:VTIMEZONE
TZID:Europe/London
BEGIN:STANDARD
DTSTART:20201025T010000
RDATE:20210328T020000
TZOFFSETFROM:+0100
TZOFFSETTO:+0000
TZNAME:Europe/London GMT
END:STANDARD
BEGIN:STANDARD
DTSTART:20211031T010000
RDATE:20220327T020000
TZOFFSETFROM:+0100
TZOFFSETTO:+0000
TZNAME:Europe/London GMT
END:STANDARD
BEGIN:STANDARD
DTSTART:20221030T010000
RDATE:20230326T020000
TZOFFSETFROM:+0100
TZOFFSETTO:+0000
TZNAME:Europe/London GMT
END:STANDARD
BEGIN:STANDARD
DTSTART:20231029T010000
RDATE:20240331T020000
TZOFFSETFROM:+0100
TZOFFSETTO:+0000
TZNAME:Europe/London GMT
END:STANDARD
BEGIN:STANDARD
DTSTART:20241027T010000
RDATE:20250330T020000
TZOFFSETFROM:+0100
TZOFFSETTO:+0000
TZNAME:Europe/London GMT
END:STANDARD
BEGIN:STANDARD
DTSTART:20251026T010000
RDATE:20260329T020000
TZOFFSETFROM:+0100
TZOFFSETTO:+0000
TZNAME:Europe/London GMT
END:STANDARD
BEGIN:STANDARD
DTSTART:20261025T010000
RDATE:20270328T020000
TZOFFSETFROM:+0100
TZOFFSETTO:+0000
TZNAME:Europe/London GMT
END:STANDARD
BEGIN:STANDARD
DTSTART:20271031T010000
RDATE:20280326T020000
TZOFFSETFROM:+0100
TZOFFSETTO:+0000
TZNAME:Europe/London GMT
END:STANDARD
BEGIN:STANDARD
DTSTART:20281029T010000
RDATE:20290325T020000
TZOFFSETFROM:+0100
TZOFFSETTO:+0000
TZNAME:Europe/London GMT
END:STANDARD
BEGIN:STANDARD
DTSTART:20291028T010000
RDATE:20300331T020000
TZOFFSETFROM:+0100
TZOFFSETTO:+0000
TZNAME:Europe/London GMT
END:STANDARD
BEGIN:STANDARD
DTSTART:20301027T010000
RDATE:20310330T020000
TZOFFSETFROM:+0100
TZOFFSETTO:+0000
TZNAME:Europe/London GMT
END:STANDARD
BEGIN:DAYLIGHT
DTSTART:20200625T103000
RDATE:20201025T010000
TZOFFSETFROM:+0000
TZOFFSETTO:+0100
TZNAME:Europe/London BST
END:DAYLIGHT
BEGIN:DAYLIGHT
DTSTART:20210328T020000
RDATE:20211031T010000
TZOFFSETFROM:+0000
TZOFFSETTO:+0100
TZNAME:Europe/London BST
END:DAYLIGHT
BEGIN:DAYLIGHT
DTSTART:20220327T020000
RDATE:20221030T010000
TZOFFSETFROM:+0000
TZOFFSETTO:+0100
TZNAME:Europe/London BST
END:DAYLIGHT
BEGIN:DAYLIGHT
DTSTART:20230326T020000
RDATE:20231029T010000
TZOFFSETFROM:+0000
TZOFFSETTO:+0100
TZNAME:Europe/London BST
END:DAYLIGHT
BEGIN:DAYLIGHT
DTSTART:20240331T020000
RDATE:20241027T010000
TZOFFSETFROM:+0000
TZOFFSETTO:+0100
TZNAME:Europe/London BST
END:DAYLIGHT
BEGIN:DAYLIGHT
DTSTART:20250330T020000
RDATE:20251026T010000
TZOFFSETFROM:+0000
TZOFFSETTO:+0100
TZNAME:Europe/London BST
END:DAYLIGHT
BEGIN:DAYLIGHT
DTSTART:20260329T020000
RDATE:20261025T010000
TZOFFSETFROM:+0000
TZOFFSETTO:+0100
TZNAME:Europe/London BST
END:DAYLIGHT
BEGIN:DAYLIGHT
DTSTART:20270328T020000
RDATE:20271031T010000
TZOFFSETFROM:+0000
TZOFFSETTO:+0100
TZNAME:Europe/London BST
END:DAYLIGHT
BEGIN:DAYLIGHT
DTSTART:20280326T020000
RDATE:20281029T010000
TZOFFSETFROM:+0000
TZOFFSETTO:+0100
TZNAME:Europe/London BST
END:DAYLIGHT
BEGIN:DAYLIGHT
DTSTART:20290325T020000
RDATE:20291028T010000
TZOFFSETFROM:+0000
TZOFFSETTO:+0100
TZNAME:Europe/London BST
END:DAYLIGHT
BEGIN:DAYLIGHT
DTSTART:20300331T020000
RDATE:20301027T010000
TZOFFSETFROM:+0000
TZOFFSETTO:+0100
TZNAME:Europe/London BST
END:DAYLIGHT
END:VTIMEZONE
BEGIN:VEVENT
UID:0cd18a6e5a0881a3ac717011057c54f7
CATEGORIES:East
CREATED:20210511T173544
SUMMARY:Eastern district walk and get-together
LOCATION:Eastbourne Sea front
URL;VALUE=URI:https://www.scacr.org/news-events/calendar/820/eastern-district-walk-and-ge
 t-together?tmpl=component
DESCRIPTION:Saturday 26 June 2021, meet at 10:30\nEastern district walk and get-togethe
 r Meet at the Sea Cadet centre (BN22 7LA), where there is parking by the Fi
 shermen's Club (pay and display) or along Royal Parade, in Beach Road or ad
 jacent roads. Then walk along the (Lower) Promenade all the way to Holywell
  (about 4Km or 2.5 miles). Along the way we are following part of the "Fran
 kish Woman" trail, (a Towner Gallery event, including several sculptures of
  items found buried in an Anglo-Saxon cemetery). At Holywell there is a tea
  chalet/cafe, either the Italian Gardens or beach (for a possible picnic), 
 and you can walk along the beach a short way to see the recently restored "
 Holy Well". If anyone is interested, and would like to walk further, there 
 is another artwork in Whitbread Hollow, about 1K further on along Downland 
 tracks on the slopes towards Beachy Head.    Non-walkers are welcome to mee
 t up at Holywell, and parking should be possible nearby. There is also a fr
 equent bus service back to town and (a little less frequent), to the Royal 
 Parade starting point. Or, of course, there is the option of walking back.T
 imings (estimated after the start!): Sea Cadet centre leave at 10:30, Holyw
 ell arrive 11.30-12.0. We would arrange (if wanted) the walk further on at 
 the time , but would likely be at 1.0, returning to Holywell by about 2.0.T
 his would all be subject to amendment or curtailment due to the weather!!!M
 ore information email This email address is being protected from spambots. 
 You need JavaScript enabled to view it.
				document.getElementById('cloak9
 9e407beb609a82ccc3b48aedb53295b').innerHTML = '';
				var prefix = '&#109;a
 ' + 'i&#108;' + '&#116;o';
				var path = 'hr' + 'ef' + '=';
				var addy99
 e407beb609a82ccc3b48aedb53295b = 'n&#105;ckc&#97;ntb&#101;lls' + '&#64;';
	
 			addy99e407beb609a82ccc3b48aedb53295b = addy99e407beb609a82ccc3b48aedb532
 95b + '&#111;&#117;tl&#111;&#111;k' + '&#46;' + 'c&#111;m';
				var addy_te
 xt99e407beb609a82ccc3b48aedb53295b = 'n&#105;ckc&#97;ntb&#101;lls' + '&#64;
 ' + '&#111;&#117;tl&#111;&#111;k' + '&#46;' + 'c&#111;m';document.getElemen
 tById('cloak99e407beb609a82ccc3b48aedb53295b').innerHTML += '<a ' + path + 
 '\'' + prefix + ':' + addy99e407beb609a82ccc3b48aedb53295b + '\'>'+addy_tex
 t99e407beb609a82ccc3b48aedb53295b+'';
		 This event was imported from: http
 s://www.scacr.org/news-events/calendar/820/eastern-district-walk-and-get-to
 gether?tmpl=component (https://www.scacr.org/news-events/calendar/820/easte
 rn-district-walk-and-get-together?tmpl=component)
X-ALT-DESC;FMTTYPE=text/html:<p>Saturday 26 June 2021, meet at 10:30</p><div dir="auto">Eastern district
  walk and get-together&nbsp;Meet at the Sea Cadet centre (BN22 7LA), where 
 there is parking by the Fishermen's Club (pay and display) or along Royal P
 arade, in Beach Road or adjacent roads. Then walk along the (Lower) Promena
 de all the way to Holywell (about 4Km or 2.5 miles).&nbsp;<div>Along the wa
 y we are following part of the "Frankish Woman" trail, (a Towner Gallery ev
 ent, including several sculptures of items found buried in an Anglo-Saxon c
 emetery).&nbsp;</div><div>At Holywell there is a tea chalet/cafe, either th
 e Italian Gardens or beach (for a possible picnic), and you can walk along 
 the beach a short way to see the recently restored "Holy Well".&nbsp;</div>
 <div>If anyone is interested, and would like to walk further, there is anot
 her artwork in Whitbread Hollow, about 1K further on along Downland tracks 
 on the slopes towards Beachy Head.&nbsp; &nbsp;&nbsp;</div><div>Non-walkers
  are welcome to meet up at Holywell, and parking should be possible nearby.
  There is also a frequent bus service back to town and (a little less frequ
 ent), to the Royal Parade starting point. Or, of course, there is the optio
 n of walking back.</div><div>Timings (estimated after the start!): Sea Cade
 t centre leave at 10:30, Holywell arrive 11.30-12.0. We would arrange (if w
 anted) the walk further on at the time , but would likely be at 1.0, return
 ing to Holywell by about 2.0.</div><div>This would all be subject to amendm
 ent or curtailment due to the weather!!!</div><div dir="auto">More informat
 ion email <span id="cloak99e407beb609a82ccc3b48aedb53295b">This email addre
 ss is being protected from spambots. You need JavaScript enabled to view it
 .</span><script type='text/javascript'>
				document.getElementById('cloak9
 9e407beb609a82ccc3b48aedb53295b').innerHTML = '';
				var prefix = '&#109;a
 ' + 'i&#108;' + '&#116;o';
				var path = 'hr' + 'ef' + '=';
				var addy99
 e407beb609a82ccc3b48aedb53295b = 'n&#105;ckc&#97;ntb&#101;lls' + '&#64;';
	
 			addy99e407beb609a82ccc3b48aedb53295b = addy99e407beb609a82ccc3b48aedb532
 95b + '&#111;&#117;tl&#111;&#111;k' + '&#46;' + 'c&#111;m';
				var addy_te
 xt99e407beb609a82ccc3b48aedb53295b = 'n&#105;ckc&#97;ntb&#101;lls' + '&#64;
 ' + '&#111;&#117;tl&#111;&#111;k' + '&#46;' + 'c&#111;m';document.getElemen
 tById('cloak99e407beb609a82ccc3b48aedb53295b').innerHTML += '<a ' + path + 
 '\'' + prefix + ':' + addy99e407beb609a82ccc3b48aedb53295b + '\'>'+addy_tex
 t99e407beb609a82ccc3b48aedb53295b+'<\/a>';
		</script></div></div> <a href=
 "https://www.scacr.org/news-events/calendar/820/eastern-district-walk-and-g
 et-together?tmpl=component">This event was imported from: https://www.scacr
 .org/news-events/calendar/820/eastern-district-walk-and-get-together?tmpl=c
 omponent</a>CONTACT:This email address is being protected from spambots. You need JavaScript enabled to view it.
				document.getElementById('cloakdaa4eb9c9301d385cd3c21517094a5c9').innerHTML = '';
				var prefix = '&#109;a' + 'i&#108;' + '&#116;o';
				var path = 'hr' + 'ef' + '=';
				var addydaa4eb9c9301d385cd3c21517094a5c9 = 's&#101;c-&#101;&#97;st' + '&#64;';
				addydaa4eb9c9301d385cd3c21517094a5c9 = addydaa4eb9c9301d385cd3c21517094a5c9 + 'sc&#97;cr' + '&#46;' + '&#111;rg';
				var addy_textdaa4eb9c9301d385cd3c21517094a5c9 = 's&#101;c-&#101;&#97;st' + '&#64;' + 'sc&#97;cr' + '&#46;' + '&#111;rg';document.getElementById('cloakdaa4eb9c9301d385cd3c21517094a5c9').innerHTML += '<a ' + path + '\'' + prefix + ':' + addydaa4eb9c9301d385cd3c21517094a5c9 + '\'>'+addy_textdaa4eb9c9301d385cd3c21517094a5c9+'';
		
DTSTAMP:20260419T161239
DTSTART;TZID=Europe/London:20210626T103000
SEQUENCE:0
TRANSP:OPAQUE
END:VEVENT
END:VCALENDAR