BEGIN:VCALENDAR
VERSION:2.0
PRODID:-//jEvents 2.0 for Joomla//EN
CALSCALE:GREGORIAN
METHOD:PUBLISH
BEGIN:VTIMEZONE
TZID:Europe/London
BEGIN:STANDARD
DTSTART:20201025T010000
RDATE:20210328T020000
TZOFFSETFROM:+0100
TZOFFSETTO:+0000
TZNAME:Europe/London GMT
END:STANDARD
BEGIN:STANDARD
DTSTART:20211031T010000
RDATE:20220327T020000
TZOFFSETFROM:+0100
TZOFFSETTO:+0000
TZNAME:Europe/London GMT
END:STANDARD
BEGIN:STANDARD
DTSTART:20221030T010000
RDATE:20230326T020000
TZOFFSETFROM:+0100
TZOFFSETTO:+0000
TZNAME:Europe/London GMT
END:STANDARD
BEGIN:STANDARD
DTSTART:20231029T010000
RDATE:20240331T020000
TZOFFSETFROM:+0100
TZOFFSETTO:+0000
TZNAME:Europe/London GMT
END:STANDARD
BEGIN:STANDARD
DTSTART:20241027T010000
RDATE:20250330T020000
TZOFFSETFROM:+0100
TZOFFSETTO:+0000
TZNAME:Europe/London GMT
END:STANDARD
BEGIN:STANDARD
DTSTART:20251026T010000
RDATE:20260329T020000
TZOFFSETFROM:+0100
TZOFFSETTO:+0000
TZNAME:Europe/London GMT
END:STANDARD
BEGIN:STANDARD
DTSTART:20261025T010000
RDATE:20270328T020000
TZOFFSETFROM:+0100
TZOFFSETTO:+0000
TZNAME:Europe/London GMT
END:STANDARD
BEGIN:STANDARD
DTSTART:20271031T010000
RDATE:20280326T020000
TZOFFSETFROM:+0100
TZOFFSETTO:+0000
TZNAME:Europe/London GMT
END:STANDARD
BEGIN:STANDARD
DTSTART:20281029T010000
RDATE:20290325T020000
TZOFFSETFROM:+0100
TZOFFSETTO:+0000
TZNAME:Europe/London GMT
END:STANDARD
BEGIN:STANDARD
DTSTART:20291028T010000
RDATE:20300331T020000
TZOFFSETFROM:+0100
TZOFFSETTO:+0000
TZNAME:Europe/London GMT
END:STANDARD
BEGIN:STANDARD
DTSTART:20301027T010000
RDATE:20310330T020000
TZOFFSETFROM:+0100
TZOFFSETTO:+0000
TZNAME:Europe/London GMT
END:STANDARD
BEGIN:DAYLIGHT
DTSTART:20200709T103000
RDATE:20201025T010000
TZOFFSETFROM:+0000
TZOFFSETTO:+0100
TZNAME:Europe/London BST
END:DAYLIGHT
BEGIN:DAYLIGHT
DTSTART:20210328T020000
RDATE:20211031T010000
TZOFFSETFROM:+0000
TZOFFSETTO:+0100
TZNAME:Europe/London BST
END:DAYLIGHT
BEGIN:DAYLIGHT
DTSTART:20220327T020000
RDATE:20221030T010000
TZOFFSETFROM:+0000
TZOFFSETTO:+0100
TZNAME:Europe/London BST
END:DAYLIGHT
BEGIN:DAYLIGHT
DTSTART:20230326T020000
RDATE:20231029T010000
TZOFFSETFROM:+0000
TZOFFSETTO:+0100
TZNAME:Europe/London BST
END:DAYLIGHT
BEGIN:DAYLIGHT
DTSTART:20240331T020000
RDATE:20241027T010000
TZOFFSETFROM:+0000
TZOFFSETTO:+0100
TZNAME:Europe/London BST
END:DAYLIGHT
BEGIN:DAYLIGHT
DTSTART:20250330T020000
RDATE:20251026T010000
TZOFFSETFROM:+0000
TZOFFSETTO:+0100
TZNAME:Europe/London BST
END:DAYLIGHT
BEGIN:DAYLIGHT
DTSTART:20260329T020000
RDATE:20261025T010000
TZOFFSETFROM:+0000
TZOFFSETTO:+0100
TZNAME:Europe/London BST
END:DAYLIGHT
BEGIN:DAYLIGHT
DTSTART:20270328T020000
RDATE:20271031T010000
TZOFFSETFROM:+0000
TZOFFSETTO:+0100
TZNAME:Europe/London BST
END:DAYLIGHT
BEGIN:DAYLIGHT
DTSTART:20280326T020000
RDATE:20281029T010000
TZOFFSETFROM:+0000
TZOFFSETTO:+0100
TZNAME:Europe/London BST
END:DAYLIGHT
BEGIN:DAYLIGHT
DTSTART:20290325T020000
RDATE:20291028T010000
TZOFFSETFROM:+0000
TZOFFSETTO:+0100
TZNAME:Europe/London BST
END:DAYLIGHT
BEGIN:DAYLIGHT
DTSTART:20300331T020000
RDATE:20301027T010000
TZOFFSETFROM:+0000
TZOFFSETTO:+0100
TZNAME:Europe/London BST
END:DAYLIGHT
END:VTIMEZONE
BEGIN:VEVENT
UID:b055a1a86182dfff06dba858f42245e1
CATEGORIES:West
CREATED:20210511T150102
SUMMARY:Morning Get Together (Coffee, Cake and chat)
LOCATION:Findon\, Worthing\, West Sussex
URL;VALUE=URI:https://www.scacr.org/news-events/calendar/819/morning-get-together-coffee-
 cake-and-chat?tmpl=component
DESCRIPTION:<p>Meet up in Findon Church for a coffee, chat and cake/biscuits.&nbsp; &nb
 sp;&nbsp;</p><p>Please register with Moya on <span id="cloakf823711da7f7765
 01c2da48ee6a1d6fe">This email address is being protected from spambots. You
  need JavaScript enabled to view it.</span><script type='text/javascript'>

 				document.getElementById('cloakf823711da7f776501c2da48ee6a1d6fe').innerH
 TML = '';
				var prefix = '&#109;a' + 'i&#108;' + '&#116;o';
				var path 
 = 'hr' + 'ef' + '=';
				var addyf823711da7f776501c2da48ee6a1d6fe = 's&#101
 ;c-w&#101;st' + '&#64;';
				addyf823711da7f776501c2da48ee6a1d6fe = addyf82
 3711da7f776501c2da48ee6a1d6fe + 'sc&#97;cr' + '&#46;' + '&#111;rg';
				var
  addy_textf823711da7f776501c2da48ee6a1d6fe = 's&#101;c-w&#101;st' + '&#64;'
  + 'sc&#97;cr' + '&#46;' + '&#111;rg';document.getElementById('cloakf823711
 da7f776501c2da48ee6a1d6fe').innerHTML += '<a ' + path + '\'' + prefix + ':'
  + addyf823711da7f776501c2da48ee6a1d6fe + '\'>'+addy_textf823711da7f776501c
 2da48ee6a1d6fe+'<\/a>';
		</script>&nbsp;or 01903-266980</p> <a href="https
 ://www.scacr.org/news-events/calendar/819/morning-get-together-coffee-cake-
 and-chat?tmpl=component">This event was imported from: https://www.scacr.or
 g/news-events/calendar/819/morning-get-together-coffee-cake-and-chat?tmpl=c
 omponent</a>CONTACT:This email address is being protected from spambots. You need JavaScript enabled to view it.
				document.getElementById('cloak99a89a367b3f3b1eb325d7d1de037c33').innerHTML = '';
				var prefix = '&#109;a' + 'i&#108;' + '&#116;o';
				var path = 'hr' + 'ef' + '=';
				var addy99a89a367b3f3b1eb325d7d1de037c33 = 's&#101;c-w&#101;st' + '&#64;';
				addy99a89a367b3f3b1eb325d7d1de037c33 = addy99a89a367b3f3b1eb325d7d1de037c33 + 'sc&#97;cr' + '&#46;' + '&#111;rg';
				var addy_text99a89a367b3f3b1eb325d7d1de037c33 = 's&#101;c-w&#101;st' + '&#64;' + 'sc&#97;cr' + '&#46;' + '&#111;rg';document.getElementById('cloak99a89a367b3f3b1eb325d7d1de037c33').innerHTML += '<a ' + path + '\'' + prefix + ':' + addy99a89a367b3f3b1eb325d7d1de037c33 + '\'>'+addy_text99a89a367b3f3b1eb325d7d1de037c33+'';
		
DTSTAMP:20260421T014934
DTSTART;TZID=Europe/London:20210710T103000
DTEND;TZID=Europe/London:20210710T120000
SEQUENCE:0
TRANSP:OPAQUE
END:VEVENT
END:VCALENDAR