BEGIN:VCALENDAR
VERSION:2.0
PRODID:-//jEvents 2.0 for Joomla//EN
CALSCALE:GREGORIAN
METHOD:PUBLISH
BEGIN:VTIMEZONE
TZID:Europe/London
BEGIN:STANDARD
DTSTART:20201025T010000
RDATE:20210328T020000
TZOFFSETFROM:+0100
TZOFFSETTO:+0000
TZNAME:Europe/London GMT
END:STANDARD
BEGIN:STANDARD
DTSTART:20211031T010000
RDATE:20220327T020000
TZOFFSETFROM:+0100
TZOFFSETTO:+0000
TZNAME:Europe/London GMT
END:STANDARD
BEGIN:STANDARD
DTSTART:20221030T010000
RDATE:20230326T020000
TZOFFSETFROM:+0100
TZOFFSETTO:+0000
TZNAME:Europe/London GMT
END:STANDARD
BEGIN:STANDARD
DTSTART:20231029T010000
RDATE:20240331T020000
TZOFFSETFROM:+0100
TZOFFSETTO:+0000
TZNAME:Europe/London GMT
END:STANDARD
BEGIN:STANDARD
DTSTART:20241027T010000
RDATE:20250330T020000
TZOFFSETFROM:+0100
TZOFFSETTO:+0000
TZNAME:Europe/London GMT
END:STANDARD
BEGIN:STANDARD
DTSTART:20251026T010000
RDATE:20260329T020000
TZOFFSETFROM:+0100
TZOFFSETTO:+0000
TZNAME:Europe/London GMT
END:STANDARD
BEGIN:STANDARD
DTSTART:20261025T010000
RDATE:20270328T020000
TZOFFSETFROM:+0100
TZOFFSETTO:+0000
TZNAME:Europe/London GMT
END:STANDARD
BEGIN:STANDARD
DTSTART:20271031T010000
RDATE:20280326T020000
TZOFFSETFROM:+0100
TZOFFSETTO:+0000
TZNAME:Europe/London GMT
END:STANDARD
BEGIN:STANDARD
DTSTART:20281029T010000
RDATE:20290325T020000
TZOFFSETFROM:+0100
TZOFFSETTO:+0000
TZNAME:Europe/London GMT
END:STANDARD
BEGIN:STANDARD
DTSTART:20291028T010000
RDATE:20300331T020000
TZOFFSETFROM:+0100
TZOFFSETTO:+0000
TZNAME:Europe/London GMT
END:STANDARD
BEGIN:STANDARD
DTSTART:20301027T010000
RDATE:20310330T020000
TZOFFSETFROM:+0100
TZOFFSETTO:+0000
TZNAME:Europe/London GMT
END:STANDARD
BEGIN:DAYLIGHT
DTSTART:20200611T153000
RDATE:20201025T010000
TZOFFSETFROM:+0000
TZOFFSETTO:+0100
TZNAME:Europe/London BST
END:DAYLIGHT
BEGIN:DAYLIGHT
DTSTART:20210328T020000
RDATE:20211031T010000
TZOFFSETFROM:+0000
TZOFFSETTO:+0100
TZNAME:Europe/London BST
END:DAYLIGHT
BEGIN:DAYLIGHT
DTSTART:20220327T020000
RDATE:20221030T010000
TZOFFSETFROM:+0000
TZOFFSETTO:+0100
TZNAME:Europe/London BST
END:DAYLIGHT
BEGIN:DAYLIGHT
DTSTART:20230326T020000
RDATE:20231029T010000
TZOFFSETFROM:+0000
TZOFFSETTO:+0100
TZNAME:Europe/London BST
END:DAYLIGHT
BEGIN:DAYLIGHT
DTSTART:20240331T020000
RDATE:20241027T010000
TZOFFSETFROM:+0000
TZOFFSETTO:+0100
TZNAME:Europe/London BST
END:DAYLIGHT
BEGIN:DAYLIGHT
DTSTART:20250330T020000
RDATE:20251026T010000
TZOFFSETFROM:+0000
TZOFFSETTO:+0100
TZNAME:Europe/London BST
END:DAYLIGHT
BEGIN:DAYLIGHT
DTSTART:20260329T020000
RDATE:20261025T010000
TZOFFSETFROM:+0000
TZOFFSETTO:+0100
TZNAME:Europe/London BST
END:DAYLIGHT
BEGIN:DAYLIGHT
DTSTART:20270328T020000
RDATE:20271031T010000
TZOFFSETFROM:+0000
TZOFFSETTO:+0100
TZNAME:Europe/London BST
END:DAYLIGHT
BEGIN:DAYLIGHT
DTSTART:20280326T020000
RDATE:20281029T010000
TZOFFSETFROM:+0000
TZOFFSETTO:+0100
TZNAME:Europe/London BST
END:DAYLIGHT
BEGIN:DAYLIGHT
DTSTART:20290325T020000
RDATE:20291028T010000
TZOFFSETFROM:+0000
TZOFFSETTO:+0100
TZNAME:Europe/London BST
END:DAYLIGHT
BEGIN:DAYLIGHT
DTSTART:20300331T020000
RDATE:20301027T010000
TZOFFSETFROM:+0000
TZOFFSETTO:+0100
TZNAME:Europe/London BST
END:DAYLIGHT
END:VTIMEZONE
BEGIN:VEVENT
UID:951e98b20e32b0de0afc523167a8b558
CATEGORIES:West
CREATED:20210511T145416
SUMMARY:Walk and Picnic
LOCATION:Lodsworth
URL;VALUE=URI:https://www.scacr.org/news-events/calendar/818/walk-and-picnic?tmpl=compone
 nt
DESCRIPTION:Meet up for a short circular walk lasting about an hour starting at Lodswor
 th Car Park (field beside church) ending with a picnic.  Bring your own foo
 d and drink or some to share if you wish and something to sit on..  Unfortu
 nately no ringing due to restriction.\nAll are welcome, including dogs and 
 family.\nLook forward to seeing you\n This event was imported from: https:/
 /www.scacr.org/news-events/calendar/818/walk-and-picnic?tmpl=component (htt
 ps://www.scacr.org/news-events/calendar/818/walk-and-picnic?tmpl=component)
X-ALT-DESC;FMTTYPE=text/html:<p>Meet up for a short circular walk lasting about an hour starting at Lods
 worth Car Park (field beside church) ending with a picnic.&nbsp; Bring your
  own food and drink or some to share if you wish and something to sit on..&
 nbsp; Unfortunately no ringing due to restriction.</p><p>All are welcome, i
 ncluding dogs and family.</p><p>Look forward to seeing you</p> <a href="htt
 ps://www.scacr.org/news-events/calendar/818/walk-and-picnic?tmpl=component"
 >This event was imported from: https://www.scacr.org/news-events/calendar/8
 18/walk-and-picnic?tmpl=component</a>CONTACT:This email address is being protected from spambots. You need JavaScript enabled to view it.
				document.getElementById('cloak2fc65a0d8209c714bd76c5df8ee9b1f3').innerHTML = '';
				var prefix = '&#109;a' + 'i&#108;' + '&#116;o';
				var path = 'hr' + 'ef' + '=';
				var addy2fc65a0d8209c714bd76c5df8ee9b1f3 = 's&#101;c-w&#101;st' + '&#64;';
				addy2fc65a0d8209c714bd76c5df8ee9b1f3 = addy2fc65a0d8209c714bd76c5df8ee9b1f3 + 'sc&#97;cr' + '&#46;' + '&#111;rg';
				var addy_text2fc65a0d8209c714bd76c5df8ee9b1f3 = 's&#101;c-w&#101;st' + '&#64;' + 'sc&#97;cr' + '&#46;' + '&#111;rg';document.getElementById('cloak2fc65a0d8209c714bd76c5df8ee9b1f3').innerHTML += '<a ' + path + '\'' + prefix + ':' + addy2fc65a0d8209c714bd76c5df8ee9b1f3 + '\'>'+addy_text2fc65a0d8209c714bd76c5df8ee9b1f3+'';
		
DTSTAMP:20260419T161240
DTSTART;TZID=Europe/London:20210612T153000
DTEND;TZID=Europe/London:20210612T170000
SEQUENCE:0
TRANSP:OPAQUE
END:VEVENT
END:VCALENDAR