BEGIN:VCALENDAR
VERSION:2.0
PRODID:-//jEvents 2.0 for Joomla//EN
CALSCALE:GREGORIAN
METHOD:PUBLISH
BEGIN:VTIMEZONE
TZID:Europe/London
BEGIN:STANDARD
DTSTART:20201025T010000
RDATE:20210328T020000
TZOFFSETFROM:+0100
TZOFFSETTO:+0000
TZNAME:Europe/London GMT
END:STANDARD
BEGIN:STANDARD
DTSTART:20211031T010000
RDATE:20220327T020000
TZOFFSETFROM:+0100
TZOFFSETTO:+0000
TZNAME:Europe/London GMT
END:STANDARD
BEGIN:STANDARD
DTSTART:20221030T010000
RDATE:20230326T020000
TZOFFSETFROM:+0100
TZOFFSETTO:+0000
TZNAME:Europe/London GMT
END:STANDARD
BEGIN:STANDARD
DTSTART:20231029T010000
RDATE:20240331T020000
TZOFFSETFROM:+0100
TZOFFSETTO:+0000
TZNAME:Europe/London GMT
END:STANDARD
BEGIN:STANDARD
DTSTART:20241027T010000
RDATE:20250330T020000
TZOFFSETFROM:+0100
TZOFFSETTO:+0000
TZNAME:Europe/London GMT
END:STANDARD
BEGIN:STANDARD
DTSTART:20251026T010000
RDATE:20260329T020000
TZOFFSETFROM:+0100
TZOFFSETTO:+0000
TZNAME:Europe/London GMT
END:STANDARD
BEGIN:STANDARD
DTSTART:20261025T010000
RDATE:20270328T020000
TZOFFSETFROM:+0100
TZOFFSETTO:+0000
TZNAME:Europe/London GMT
END:STANDARD
BEGIN:STANDARD
DTSTART:20271031T010000
RDATE:20280326T020000
TZOFFSETFROM:+0100
TZOFFSETTO:+0000
TZNAME:Europe/London GMT
END:STANDARD
BEGIN:STANDARD
DTSTART:20281029T010000
RDATE:20290325T020000
TZOFFSETFROM:+0100
TZOFFSETTO:+0000
TZNAME:Europe/London GMT
END:STANDARD
BEGIN:STANDARD
DTSTART:20291028T010000
RDATE:20300331T020000
TZOFFSETFROM:+0100
TZOFFSETTO:+0000
TZNAME:Europe/London GMT
END:STANDARD
BEGIN:STANDARD
DTSTART:20301027T010000
RDATE:20310330T020000
TZOFFSETFROM:+0100
TZOFFSETTO:+0000
TZNAME:Europe/London GMT
END:STANDARD
BEGIN:DAYLIGHT
DTSTART:20200521T094500
RDATE:20201025T010000
TZOFFSETFROM:+0000
TZOFFSETTO:+0100
TZNAME:Europe/London BST
END:DAYLIGHT
BEGIN:DAYLIGHT
DTSTART:20210328T020000
RDATE:20211031T010000
TZOFFSETFROM:+0000
TZOFFSETTO:+0100
TZNAME:Europe/London BST
END:DAYLIGHT
BEGIN:DAYLIGHT
DTSTART:20220327T020000
RDATE:20221030T010000
TZOFFSETFROM:+0000
TZOFFSETTO:+0100
TZNAME:Europe/London BST
END:DAYLIGHT
BEGIN:DAYLIGHT
DTSTART:20230326T020000
RDATE:20231029T010000
TZOFFSETFROM:+0000
TZOFFSETTO:+0100
TZNAME:Europe/London BST
END:DAYLIGHT
BEGIN:DAYLIGHT
DTSTART:20240331T020000
RDATE:20241027T010000
TZOFFSETFROM:+0000
TZOFFSETTO:+0100
TZNAME:Europe/London BST
END:DAYLIGHT
BEGIN:DAYLIGHT
DTSTART:20250330T020000
RDATE:20251026T010000
TZOFFSETFROM:+0000
TZOFFSETTO:+0100
TZNAME:Europe/London BST
END:DAYLIGHT
BEGIN:DAYLIGHT
DTSTART:20260329T020000
RDATE:20261025T010000
TZOFFSETFROM:+0000
TZOFFSETTO:+0100
TZNAME:Europe/London BST
END:DAYLIGHT
BEGIN:DAYLIGHT
DTSTART:20270328T020000
RDATE:20271031T010000
TZOFFSETFROM:+0000
TZOFFSETTO:+0100
TZNAME:Europe/London BST
END:DAYLIGHT
BEGIN:DAYLIGHT
DTSTART:20280326T020000
RDATE:20281029T010000
TZOFFSETFROM:+0000
TZOFFSETTO:+0100
TZNAME:Europe/London BST
END:DAYLIGHT
BEGIN:DAYLIGHT
DTSTART:20290325T020000
RDATE:20291028T010000
TZOFFSETFROM:+0000
TZOFFSETTO:+0100
TZNAME:Europe/London BST
END:DAYLIGHT
BEGIN:DAYLIGHT
DTSTART:20300331T020000
RDATE:20301027T010000
TZOFFSETFROM:+0000
TZOFFSETTO:+0100
TZNAME:Europe/London BST
END:DAYLIGHT
END:VTIMEZONE
BEGIN:VEVENT
UID:eeec8097f0275c223a8707c3f3e5c0b1
CATEGORIES:Association Event
CREATED:20210413T215004
SUMMARY:Change Ringing Handbell Morning
LOCATION:Zoom and Ringing Room
URL;VALUE=URI:https://www.scacr.org/news-events/calendar/814/change-ringing-handbell-morn
 ing?tmpl=component
DESCRIPTION:<p>Following-on from the previously successful Handbell mornings,&nbsp;anot
 her event will be held on 22nd May 2021.</p><p>This event is open to all, e
 specially:</p><ul><li>Handbell groups in Sussex and near by</li><li>Those w
 ho enjoy change ringing on handbells but do not have a regular practice</li
 ><li>Those who want to have a go</li></ul><p>On the day, there will be thre
 e focus groups:</p><ul><li>Plain Hunting to Plain Bob</li><li>Plain Bob to 
 Treble Bob</li><li>Beyond Treble Bob</li></ul><p>If you are not used to the
  technology, please contact Hamish and he will arrange a familiarization se
 ssion.</p><p>If you would like to join in please email Hamish McNaughton at
  <span id="cloakd253549f2562b9cf04e79fdf8b014f26">This email address is bei
 ng protected from spambots. You need JavaScript enabled to view it.</span><
 script type='text/javascript'>
				document.getElementById('cloakd253549f25
 62b9cf04e79fdf8b014f26').innerHTML = '';
				var prefix = '&#109;a' + 'i&#1
 08;' + '&#116;o';
				var path = 'hr' + 'ef' + '=';
				var addyd253549f256
 2b9cf04e79fdf8b014f26 = 'h&#97;m&#105;sh' + '&#64;';
				addyd253549f2562b9
 cf04e79fdf8b014f26 = addyd253549f2562b9cf04e79fdf8b014f26 + 'w&#97;ndl&#101
 ;ys' + '&#46;' + '&#117;k';
				var addy_textd253549f2562b9cf04e79fdf8b014f
 26 = 'h&#97;m&#105;sh' + '&#64;' + 'w&#97;ndl&#101;ys' + '&#46;' + '&#117;k
 ';document.getElementById('cloakd253549f2562b9cf04e79fdf8b014f26').innerHTM
 L += '<a ' + path + '\'' + prefix + ':' + addyd253549f2562b9cf04e79fdf8b014
 f26 + '\'>'+addy_textd253549f2562b9cf04e79fdf8b014f26+'<\/a>';
		</script> 
 stating which of the focus groups you would like to join. Information regar
 ding logging into Zoom and the Ringing Rooms will be supplied to those wish
 ing to attend.</p><p><a href="images/jevents/2021-05_handbell_poster.pdf">[
  Poster download ]</a></p> <a href="https://www.scacr.org/news-events/calen
 dar/814/change-ringing-handbell-morning?tmpl=component">This event was impo
 rted from: https://www.scacr.org/news-events/calendar/814/change-ringing-ha
 ndbell-morning?tmpl=component</a>
X-ALT-DESC;FMTTYPE=text/html:<p>Following-on from the previously successful Handbell mornings,&nbsp;anot
 her event will be held on 22nd May 2021.</p><p>This event is open to all, e
 specially:</p><ul><li>Handbell groups in Sussex and near by</li><li>Those w
 ho enjoy change ringing on handbells but do not have a regular practice</li
 ><li>Those who want to have a go</li></ul><p>On the day, there will be thre
 e focus groups:</p><ul><li>Plain Hunting to Plain Bob</li><li>Plain Bob to 
 Treble Bob</li><li>Beyond Treble Bob</li></ul><p>If you are not used to the
  technology, please contact Hamish and he will arrange a familiarization se
 ssion.</p><p>If you would like to join in please email Hamish McNaughton at
  <span id="cloakd253549f2562b9cf04e79fdf8b014f26">This email address is bei
 ng protected from spambots. You need JavaScript enabled to view it.</span><
 script type='text/javascript'>
				document.getElementById('cloakd253549f25
 62b9cf04e79fdf8b014f26').innerHTML = '';
				var prefix = '&#109;a' + 'i&#1
 08;' + '&#116;o';
				var path = 'hr' + 'ef' + '=';
				var addyd253549f256
 2b9cf04e79fdf8b014f26 = 'h&#97;m&#105;sh' + '&#64;';
				addyd253549f2562b9
 cf04e79fdf8b014f26 = addyd253549f2562b9cf04e79fdf8b014f26 + 'w&#97;ndl&#101
 ;ys' + '&#46;' + '&#117;k';
				var addy_textd253549f2562b9cf04e79fdf8b014f
 26 = 'h&#97;m&#105;sh' + '&#64;' + 'w&#97;ndl&#101;ys' + '&#46;' + '&#117;k
 ';document.getElementById('cloakd253549f2562b9cf04e79fdf8b014f26').innerHTM
 L += '<a ' + path + '\'' + prefix + ':' + addyd253549f2562b9cf04e79fdf8b014
 f26 + '\'>'+addy_textd253549f2562b9cf04e79fdf8b014f26+'<\/a>';
		</script> 
 stating which of the focus groups you would like to join. Information regar
 ding logging into Zoom and the Ringing Rooms will be supplied to those wish
 ing to attend.</p><p><a href="https://www.scacr.org/images/jevents/2021-05_
 handbell_poster.pdf">[ Poster download ]</a></p> <a href="https://www.scacr
 .org/news-events/calendar/814/change-ringing-handbell-morning?tmpl=componen
 t">This event was imported from: https://www.scacr.org/news-events/calendar
 /814/change-ringing-handbell-morning?tmpl=component</a>CONTACT:This email address is being protected from spambots. You need JavaScript enabled to view it.
				document.getElementById('cloakb73272e4b3a0495991066e47fe98e6c6').innerHTML = '';
				var prefix = '&#109;a' + 'i&#108;' + '&#116;o';
				var path = 'hr' + 'ef' + '=';
				var addyb73272e4b3a0495991066e47fe98e6c6 = 'h&#97;m&#105;sh' + '&#64;';
				addyb73272e4b3a0495991066e47fe98e6c6 = addyb73272e4b3a0495991066e47fe98e6c6 + 'w&#97;ndl&#101;ys' + '&#46;' + '&#117;k';
				var addy_textb73272e4b3a0495991066e47fe98e6c6 = 'h&#97;m&#105;sh' + '&#64;' + 'w&#97;ndl&#101;ys' + '&#46;' + '&#117;k';document.getElementById('cloakb73272e4b3a0495991066e47fe98e6c6').innerHTML += '<a ' + path + '\'' + prefix + ':' + addyb73272e4b3a0495991066e47fe98e6c6 + '\'>'+addy_textb73272e4b3a0495991066e47fe98e6c6+'';
		
DTSTAMP:20260420T175335
DTSTART;TZID=Europe/London:20210522T094500
DTEND;TZID=Europe/London:20210522T124000
SEQUENCE:0
TRANSP:OPAQUE
END:VEVENT
END:VCALENDAR