BEGIN:VCALENDAR
VERSION:2.0
PRODID:-//jEvents 2.0 for Joomla//EN
CALSCALE:GREGORIAN
METHOD:PUBLISH
BEGIN:VTIMEZONE
TZID:Europe/London
BEGIN:STANDARD
DTSTART:20201025T010000
RDATE:20210328T020000
TZOFFSETFROM:+0100
TZOFFSETTO:+0000
TZNAME:Europe/London GMT
END:STANDARD
BEGIN:STANDARD
DTSTART:20211031T010000
RDATE:20220327T020000
TZOFFSETFROM:+0100
TZOFFSETTO:+0000
TZNAME:Europe/London GMT
END:STANDARD
BEGIN:STANDARD
DTSTART:20221030T010000
RDATE:20230326T020000
TZOFFSETFROM:+0100
TZOFFSETTO:+0000
TZNAME:Europe/London GMT
END:STANDARD
BEGIN:STANDARD
DTSTART:20231029T010000
RDATE:20240331T020000
TZOFFSETFROM:+0100
TZOFFSETTO:+0000
TZNAME:Europe/London GMT
END:STANDARD
BEGIN:STANDARD
DTSTART:20241027T010000
RDATE:20250330T020000
TZOFFSETFROM:+0100
TZOFFSETTO:+0000
TZNAME:Europe/London GMT
END:STANDARD
BEGIN:STANDARD
DTSTART:20251026T010000
RDATE:20260329T020000
TZOFFSETFROM:+0100
TZOFFSETTO:+0000
TZNAME:Europe/London GMT
END:STANDARD
BEGIN:STANDARD
DTSTART:20261025T010000
RDATE:20270328T020000
TZOFFSETFROM:+0100
TZOFFSETTO:+0000
TZNAME:Europe/London GMT
END:STANDARD
BEGIN:STANDARD
DTSTART:20271031T010000
RDATE:20280326T020000
TZOFFSETFROM:+0100
TZOFFSETTO:+0000
TZNAME:Europe/London GMT
END:STANDARD
BEGIN:STANDARD
DTSTART:20281029T010000
RDATE:20290325T020000
TZOFFSETFROM:+0100
TZOFFSETTO:+0000
TZNAME:Europe/London GMT
END:STANDARD
BEGIN:STANDARD
DTSTART:20291028T010000
RDATE:20300331T020000
TZOFFSETFROM:+0100
TZOFFSETTO:+0000
TZNAME:Europe/London GMT
END:STANDARD
BEGIN:STANDARD
DTSTART:20301027T010000
RDATE:20310330T020000
TZOFFSETFROM:+0100
TZOFFSETTO:+0000
TZNAME:Europe/London GMT
END:STANDARD
BEGIN:DAYLIGHT
DTSTART:20200604T153000
RDATE:20201025T010000
TZOFFSETFROM:+0000
TZOFFSETTO:+0100
TZNAME:Europe/London BST
END:DAYLIGHT
BEGIN:DAYLIGHT
DTSTART:20210328T020000
RDATE:20211031T010000
TZOFFSETFROM:+0000
TZOFFSETTO:+0100
TZNAME:Europe/London BST
END:DAYLIGHT
BEGIN:DAYLIGHT
DTSTART:20220327T020000
RDATE:20221030T010000
TZOFFSETFROM:+0000
TZOFFSETTO:+0100
TZNAME:Europe/London BST
END:DAYLIGHT
BEGIN:DAYLIGHT
DTSTART:20230326T020000
RDATE:20231029T010000
TZOFFSETFROM:+0000
TZOFFSETTO:+0100
TZNAME:Europe/London BST
END:DAYLIGHT
BEGIN:DAYLIGHT
DTSTART:20240331T020000
RDATE:20241027T010000
TZOFFSETFROM:+0000
TZOFFSETTO:+0100
TZNAME:Europe/London BST
END:DAYLIGHT
BEGIN:DAYLIGHT
DTSTART:20250330T020000
RDATE:20251026T010000
TZOFFSETFROM:+0000
TZOFFSETTO:+0100
TZNAME:Europe/London BST
END:DAYLIGHT
BEGIN:DAYLIGHT
DTSTART:20260329T020000
RDATE:20261025T010000
TZOFFSETFROM:+0000
TZOFFSETTO:+0100
TZNAME:Europe/London BST
END:DAYLIGHT
BEGIN:DAYLIGHT
DTSTART:20270328T020000
RDATE:20271031T010000
TZOFFSETFROM:+0000
TZOFFSETTO:+0100
TZNAME:Europe/London BST
END:DAYLIGHT
BEGIN:DAYLIGHT
DTSTART:20280326T020000
RDATE:20281029T010000
TZOFFSETFROM:+0000
TZOFFSETTO:+0100
TZNAME:Europe/London BST
END:DAYLIGHT
BEGIN:DAYLIGHT
DTSTART:20290325T020000
RDATE:20291028T010000
TZOFFSETFROM:+0000
TZOFFSETTO:+0100
TZNAME:Europe/London BST
END:DAYLIGHT
BEGIN:DAYLIGHT
DTSTART:20300331T020000
RDATE:20301027T010000
TZOFFSETFROM:+0000
TZOFFSETTO:+0100
TZNAME:Europe/London BST
END:DAYLIGHT
END:VTIMEZONE
BEGIN:VEVENT
UID:a9fec0db6bf6412c239ac9e091979584
CATEGORIES:Association Event
CREATED:20210410T190645
SUMMARY:Novices' and "Moving On" Practice (Ringing Room)
LOCATION:Ringing Room and Zoom
URL;VALUE=URI:https://www.scacr.org/news-events/calendar/810/novices-and-moving-on-practi
 ce-ringing-room?tmpl=component
DESCRIPTION:Join the friendly and supportive Novices' Practice to have a go at Ringing 
 Room, and progress your skills from rounds and call changes up to ringing i
 nside to Plain Doubles methods, including Plain Bob, Grandsire, Reverse Can
 terbury, St Simon's and beyond...\nThe Novices' Practice is followed by the
  Moving On Practice - covering an introduction to and development of skills
  for ringing Minor, Triples and Major methods, e.g. St Clement's/Oxford/Ken
 t Treble Bob, Grandsire Triples, Plain Bob Major, Stedman Doubles/Triples. 
 Please do encourage your friends to join as learners or helpers! You do not
  need to commit to attend every week.\nYou'll need to fill in the Google fo
 rms for each practice in advance (deadline 5 pm the Thursday before) to joi
 n - contact Steph via This email address is being protected from spambots. 
 You need JavaScript enabled to view it.
				document.getElementById('cloak9
 62f54d71cf1c1d01a8e718eee2097a5').innerHTML = '';
				var prefix = '&#109;a
 ' + 'i&#108;' + '&#116;o';
				var path = 'hr' + 'ef' + '=';
				var addy96
 2f54d71cf1c1d01a8e718eee2097a5 = 's&#101;c-n&#111;rth' + '&#64;';
				addy9
 62f54d71cf1c1d01a8e718eee2097a5 = addy962f54d71cf1c1d01a8e718eee2097a5 + 's
 c&#97;cr' + '&#46;' + '&#111;rg';
				var addy_text962f54d71cf1c1d01a8e718e
 ee2097a5 = 's&#101;c-n&#111;rth' + '&#64;' + 'sc&#97;cr' + '&#46;' + '&#111
 ;rg';document.getElementById('cloak962f54d71cf1c1d01a8e718eee2097a5').inner
 HTML += '<a ' + path + '\'' + prefix + ':' + addy962f54d71cf1c1d01a8e718eee
 2097a5 + '\'>'+addy_text962f54d71cf1c1d01a8e718eee2097a5+'';
		 for details
 . Joining instructions will be sent a few hours in advance to those who hav
 e registered.  \nNote that the timings are slightly later than previously:\
 n\n - Meet for a chat from 3.30 pm (please join by 3.50 pm at the latest fo
 r the Novices' Practice)\n - 4.00-4.55 pm - Novices' Practice \n - 4.55-5.0
 5 pm - break \n - 5.05-6.00 pm - Moving On Practice This event was imported
  from: https://www.scacr.org/news-events/calendar/810/novices-and-moving-on
 -practice-ringing-room?tmpl=component (https://www.scacr.org/news-events/ca
 lendar/810/novices-and-moving-on-practice-ringing-room?tmpl=component)
X-ALT-DESC;FMTTYPE=text/html:<p>Join the friendly and supportive <strong>Novices' Practice</strong> to h
 ave a go at Ringing Room, and progress your skills from rounds and call cha
 nges up to ringing inside to Plain Doubles methods, including Plain Bob, Gr
 andsire, Reverse Canterbury, St Simon's and beyond...</p><div dir="auto">Th
 e Novices' Practice is followed by the&nbsp;<strong>Moving On</strong>&nbsp
 ;Practice - covering an introduction to and development of skills for ringi
 ng Minor, Triples and Major methods, e.g. St Clement's/Oxford/Kent Treble B
 ob, Grandsire Triples, Plain Bob Major, Stedman Doubles/Triples.</div><div>
 &nbsp;</div><p>Please do encourage your friends to join as learners or help
 ers! You do not need to commit to attend every week.</p><p><strong>You'll n
 eed to fill in the Google forms for each practice in advance (deadline 5 pm
  the Thursday before) to join - contact Steph via <span id="cloak962f54d71c
 f1c1d01a8e718eee2097a5">This email address is being protected from spambots
 . You need JavaScript enabled to view it.</span><script type='text/javascri
 pt'>
				document.getElementById('cloak962f54d71cf1c1d01a8e718eee2097a5').i
 nnerHTML = '';
				var prefix = '&#109;a' + 'i&#108;' + '&#116;o';
				var 
 path = 'hr' + 'ef' + '=';
				var addy962f54d71cf1c1d01a8e718eee2097a5 = 's
 &#101;c-n&#111;rth' + '&#64;';
				addy962f54d71cf1c1d01a8e718eee2097a5 = a
 ddy962f54d71cf1c1d01a8e718eee2097a5 + 'sc&#97;cr' + '&#46;' + '&#111;rg';
	
 			var addy_text962f54d71cf1c1d01a8e718eee2097a5 = 's&#101;c-n&#111;rth' + 
 '&#64;' + 'sc&#97;cr' + '&#46;' + '&#111;rg';document.getElementById('cloak
 962f54d71cf1c1d01a8e718eee2097a5').innerHTML += '<a ' + path + '\'' + prefi
 x + ':' + addy962f54d71cf1c1d01a8e718eee2097a5 + '\'>'+addy_text962f54d71cf
 1c1d01a8e718eee2097a5+'<\/a>';
		</script>&nbsp;for details. </strong>Joini
 ng instructions will be sent a few hours in advance to those who have regis
 tered.&nbsp;&nbsp;</p><p>Note that the timings are slightly later than prev
 iously:</p><ul><li>Meet for a chat from 3.30 pm (please join by 3.50 pm at 
 the latest for the Novices' Practice)</li><li>4.00-4.55 pm - Novices' Pract
 ice&nbsp;</li><li>4.55-5.05 pm - break&nbsp;</li><li>5.05-6.00 pm - Moving 
 On Practice</li></ul> <a href="https://www.scacr.org/news-events/calendar/8
 10/novices-and-moving-on-practice-ringing-room?tmpl=component">This event w
 as imported from: https://www.scacr.org/news-events/calendar/810/novices-an
 d-moving-on-practice-ringing-room?tmpl=component</a>CONTACT:This email address is being protected from spambots. You need JavaScript enabled to view it.
				document.getElementById('cloakfa948155328be9a8b915bd36fe49ecbd').innerHTML = '';
				var prefix = '&#109;a' + 'i&#108;' + '&#116;o';
				var path = 'hr' + 'ef' + '=';
				var addyfa948155328be9a8b915bd36fe49ecbd = 's&#101;c-n&#111;rth' + '&#64;';
				addyfa948155328be9a8b915bd36fe49ecbd = addyfa948155328be9a8b915bd36fe49ecbd + 'sc&#97;cr' + '&#46;' + '&#111;rg';
				var addy_textfa948155328be9a8b915bd36fe49ecbd = 's&#101;c-n&#111;rth' + '&#64;' + 'sc&#97;cr' + '&#46;' + '&#111;rg';document.getElementById('cloakfa948155328be9a8b915bd36fe49ecbd').innerHTML += '<a ' + path + '\'' + prefix + ':' + addyfa948155328be9a8b915bd36fe49ecbd + '\'>'+addy_textfa948155328be9a8b915bd36fe49ecbd+'';
		
DTSTAMP:20260419T131325
DTSTART;TZID=Europe/London:20210605T153000
DTEND;TZID=Europe/London:20210605T180000
SEQUENCE:0
TRANSP:OPAQUE
END:VEVENT
END:VCALENDAR