BEGIN:VCALENDAR
VERSION:2.0
PRODID:-//jEvents 2.0 for Joomla//EN
CALSCALE:GREGORIAN
METHOD:PUBLISH
BEGIN:VTIMEZONE
TZID:Europe/London
BEGIN:STANDARD
DTSTART:20201025T010000
RDATE:20210328T020000
TZOFFSETFROM:+0100
TZOFFSETTO:+0000
TZNAME:Europe/London GMT
END:STANDARD
BEGIN:STANDARD
DTSTART:20211031T010000
RDATE:20220327T020000
TZOFFSETFROM:+0100
TZOFFSETTO:+0000
TZNAME:Europe/London GMT
END:STANDARD
BEGIN:STANDARD
DTSTART:20221030T010000
RDATE:20230326T020000
TZOFFSETFROM:+0100
TZOFFSETTO:+0000
TZNAME:Europe/London GMT
END:STANDARD
BEGIN:STANDARD
DTSTART:20231029T010000
RDATE:20240331T020000
TZOFFSETFROM:+0100
TZOFFSETTO:+0000
TZNAME:Europe/London GMT
END:STANDARD
BEGIN:STANDARD
DTSTART:20241027T010000
RDATE:20250330T020000
TZOFFSETFROM:+0100
TZOFFSETTO:+0000
TZNAME:Europe/London GMT
END:STANDARD
BEGIN:STANDARD
DTSTART:20251026T010000
RDATE:20260329T020000
TZOFFSETFROM:+0100
TZOFFSETTO:+0000
TZNAME:Europe/London GMT
END:STANDARD
BEGIN:STANDARD
DTSTART:20261025T010000
RDATE:20270328T020000
TZOFFSETFROM:+0100
TZOFFSETTO:+0000
TZNAME:Europe/London GMT
END:STANDARD
BEGIN:STANDARD
DTSTART:20271031T010000
RDATE:20280326T020000
TZOFFSETFROM:+0100
TZOFFSETTO:+0000
TZNAME:Europe/London GMT
END:STANDARD
BEGIN:STANDARD
DTSTART:20281029T010000
RDATE:20290325T020000
TZOFFSETFROM:+0100
TZOFFSETTO:+0000
TZNAME:Europe/London GMT
END:STANDARD
BEGIN:STANDARD
DTSTART:20291028T010000
RDATE:20300331T020000
TZOFFSETFROM:+0100
TZOFFSETTO:+0000
TZNAME:Europe/London GMT
END:STANDARD
BEGIN:STANDARD
DTSTART:20301027T010000
RDATE:20310330T020000
TZOFFSETFROM:+0100
TZOFFSETTO:+0000
TZNAME:Europe/London GMT
END:STANDARD
BEGIN:DAYLIGHT
DTSTART:20200521T153000
RDATE:20201025T010000
TZOFFSETFROM:+0000
TZOFFSETTO:+0100
TZNAME:Europe/London BST
END:DAYLIGHT
BEGIN:DAYLIGHT
DTSTART:20210328T020000
RDATE:20211031T010000
TZOFFSETFROM:+0000
TZOFFSETTO:+0100
TZNAME:Europe/London BST
END:DAYLIGHT
BEGIN:DAYLIGHT
DTSTART:20220327T020000
RDATE:20221030T010000
TZOFFSETFROM:+0000
TZOFFSETTO:+0100
TZNAME:Europe/London BST
END:DAYLIGHT
BEGIN:DAYLIGHT
DTSTART:20230326T020000
RDATE:20231029T010000
TZOFFSETFROM:+0000
TZOFFSETTO:+0100
TZNAME:Europe/London BST
END:DAYLIGHT
BEGIN:DAYLIGHT
DTSTART:20240331T020000
RDATE:20241027T010000
TZOFFSETFROM:+0000
TZOFFSETTO:+0100
TZNAME:Europe/London BST
END:DAYLIGHT
BEGIN:DAYLIGHT
DTSTART:20250330T020000
RDATE:20251026T010000
TZOFFSETFROM:+0000
TZOFFSETTO:+0100
TZNAME:Europe/London BST
END:DAYLIGHT
BEGIN:DAYLIGHT
DTSTART:20260329T020000
RDATE:20261025T010000
TZOFFSETFROM:+0000
TZOFFSETTO:+0100
TZNAME:Europe/London BST
END:DAYLIGHT
BEGIN:DAYLIGHT
DTSTART:20270328T020000
RDATE:20271031T010000
TZOFFSETFROM:+0000
TZOFFSETTO:+0100
TZNAME:Europe/London BST
END:DAYLIGHT
BEGIN:DAYLIGHT
DTSTART:20280326T020000
RDATE:20281029T010000
TZOFFSETFROM:+0000
TZOFFSETTO:+0100
TZNAME:Europe/London BST
END:DAYLIGHT
BEGIN:DAYLIGHT
DTSTART:20290325T020000
RDATE:20291028T010000
TZOFFSETFROM:+0000
TZOFFSETTO:+0100
TZNAME:Europe/London BST
END:DAYLIGHT
BEGIN:DAYLIGHT
DTSTART:20300331T020000
RDATE:20301027T010000
TZOFFSETFROM:+0000
TZOFFSETTO:+0100
TZNAME:Europe/London BST
END:DAYLIGHT
END:VTIMEZONE
BEGIN:VEVENT
UID:83c57b04e2d00b03fab79dc8e1546377
CATEGORIES:Association Event
CREATED:20210410T190517
SUMMARY:Novices' and "Moving On" Practice (Ringing Room)
LOCATION:Ringing Room and Zoom
URL;VALUE=URI:https://www.scacr.org/news-events/calendar/808/novices-and-moving-on-practi
 ce-ringing-room?tmpl=component
DESCRIPTION:Join the friendly and supportive Novices' Practice to have a go at Ringing 
 Room, and progress your skills from rounds and call changes up to ringing i
 nside to Plain Doubles methods, including Plain Bob, Grandsire, Reverse Can
 terbury, St Simon's and beyond...\nThe Novices' Practice is followed by the
  Moving On Practice - covering an introduction to and development of skills
  for ringing Minor, Triples and Major methods, e.g. St Clement's/Oxford/Ken
 t Treble Bob, Grandsire Triples, Plain Bob Major, Stedman Doubles/Triples. 
 Please do encourage your friends to join as learners or helpers! You do not
  need to commit to attend every week.\nYou'll need to fill in the Google fo
 rms for each practice in advance (deadline 5 pm the Thursday before) to joi
 n - contact Steph via This email address is being protected from spambots. 
 You need JavaScript enabled to view it.
				document.getElementById('cloaka
 c2eb8b79890e0e7f46403c398f961e4').innerHTML = '';
				var prefix = '&#109;a
 ' + 'i&#108;' + '&#116;o';
				var path = 'hr' + 'ef' + '=';
				var addyac
 2eb8b79890e0e7f46403c398f961e4 = 's&#101;c-n&#111;rth' + '&#64;';
				addya
 c2eb8b79890e0e7f46403c398f961e4 = addyac2eb8b79890e0e7f46403c398f961e4 + 's
 c&#97;cr' + '&#46;' + '&#111;rg';
				var addy_textac2eb8b79890e0e7f46403c3
 98f961e4 = 's&#101;c-n&#111;rth' + '&#64;' + 'sc&#97;cr' + '&#46;' + '&#111
 ;rg';document.getElementById('cloakac2eb8b79890e0e7f46403c398f961e4').inner
 HTML += '<a ' + path + '\'' + prefix + ':' + addyac2eb8b79890e0e7f46403c398
 f961e4 + '\'>'+addy_textac2eb8b79890e0e7f46403c398f961e4+'';
		 for details
 . Joining instructions will be sent a few hours in advance to those who hav
 e registered.  \nNote that the timings are slightly later than previously:\
 n\n - Meet for a chat from 3.30 pm (please join by 3.50 pm at the latest fo
 r the Novices' Practice)\n - 4.00-4.55 pm - Novices' Practice \n - 4.55-5.0
 5 pm - break \n - 5.05-6.00 pm - Moving On Practice This event was imported
  from: https://www.scacr.org/news-events/calendar/808/novices-and-moving-on
 -practice-ringing-room?tmpl=component (https://www.scacr.org/news-events/ca
 lendar/808/novices-and-moving-on-practice-ringing-room?tmpl=component)
X-ALT-DESC;FMTTYPE=text/html:<p>Join the friendly and supportive <strong>Novices' Practice</strong> to h
 ave a go at Ringing Room, and progress your skills from rounds and call cha
 nges up to ringing inside to Plain Doubles methods, including Plain Bob, Gr
 andsire, Reverse Canterbury, St Simon's and beyond...</p><div dir="auto">Th
 e Novices' Practice is followed by the&nbsp;<strong>Moving On</strong>&nbsp
 ;Practice - covering an introduction to and development of skills for ringi
 ng Minor, Triples and Major methods, e.g. St Clement's/Oxford/Kent Treble B
 ob, Grandsire Triples, Plain Bob Major, Stedman Doubles/Triples.</div><div>
 &nbsp;</div><p>Please do encourage your friends to join as learners or help
 ers! You do not need to commit to attend every week.</p><p><strong>You'll n
 eed to fill in the Google forms for each practice in advance (deadline 5 pm
  the Thursday before) to join - contact Steph via <span id="cloakac2eb8b798
 90e0e7f46403c398f961e4">This email address is being protected from spambots
 . You need JavaScript enabled to view it.</span><script type='text/javascri
 pt'>
				document.getElementById('cloakac2eb8b79890e0e7f46403c398f961e4').i
 nnerHTML = '';
				var prefix = '&#109;a' + 'i&#108;' + '&#116;o';
				var 
 path = 'hr' + 'ef' + '=';
				var addyac2eb8b79890e0e7f46403c398f961e4 = 's
 &#101;c-n&#111;rth' + '&#64;';
				addyac2eb8b79890e0e7f46403c398f961e4 = a
 ddyac2eb8b79890e0e7f46403c398f961e4 + 'sc&#97;cr' + '&#46;' + '&#111;rg';
	
 			var addy_textac2eb8b79890e0e7f46403c398f961e4 = 's&#101;c-n&#111;rth' + 
 '&#64;' + 'sc&#97;cr' + '&#46;' + '&#111;rg';document.getElementById('cloak
 ac2eb8b79890e0e7f46403c398f961e4').innerHTML += '<a ' + path + '\'' + prefi
 x + ':' + addyac2eb8b79890e0e7f46403c398f961e4 + '\'>'+addy_textac2eb8b7989
 0e0e7f46403c398f961e4+'<\/a>';
		</script>&nbsp;for details. </strong>Joini
 ng instructions will be sent a few hours in advance to those who have regis
 tered.&nbsp;&nbsp;</p><p>Note that the timings are slightly later than prev
 iously:</p><ul><li>Meet for a chat from 3.30 pm (please join by 3.50 pm at 
 the latest for the Novices' Practice)</li><li>4.00-4.55 pm - Novices' Pract
 ice&nbsp;</li><li>4.55-5.05 pm - break&nbsp;</li><li>5.05-6.00 pm - Moving 
 On Practice</li></ul> <a href="https://www.scacr.org/news-events/calendar/8
 08/novices-and-moving-on-practice-ringing-room?tmpl=component">This event w
 as imported from: https://www.scacr.org/news-events/calendar/808/novices-an
 d-moving-on-practice-ringing-room?tmpl=component</a>CONTACT:This email address is being protected from spambots. You need JavaScript enabled to view it.
				document.getElementById('cloakf84a7a235724b8b91f5fe3551826b6ed').innerHTML = '';
				var prefix = '&#109;a' + 'i&#108;' + '&#116;o';
				var path = 'hr' + 'ef' + '=';
				var addyf84a7a235724b8b91f5fe3551826b6ed = 's&#101;c-n&#111;rth' + '&#64;';
				addyf84a7a235724b8b91f5fe3551826b6ed = addyf84a7a235724b8b91f5fe3551826b6ed + 'sc&#97;cr' + '&#46;' + '&#111;rg';
				var addy_textf84a7a235724b8b91f5fe3551826b6ed = 's&#101;c-n&#111;rth' + '&#64;' + 'sc&#97;cr' + '&#46;' + '&#111;rg';document.getElementById('cloakf84a7a235724b8b91f5fe3551826b6ed').innerHTML += '<a ' + path + '\'' + prefix + ':' + addyf84a7a235724b8b91f5fe3551826b6ed + '\'>'+addy_textf84a7a235724b8b91f5fe3551826b6ed+'';
		
DTSTAMP:20260421T004110
DTSTART;TZID=Europe/London:20210522T153000
DTEND;TZID=Europe/London:20210522T180000
SEQUENCE:0
TRANSP:OPAQUE
END:VEVENT
END:VCALENDAR