BEGIN:VCALENDAR
VERSION:2.0
PRODID:-//jEvents 2.0 for Joomla//EN
CALSCALE:GREGORIAN
METHOD:PUBLISH
BEGIN:VTIMEZONE
TZID:Europe/London
BEGIN:STANDARD
DTSTART:20200326T150000
RDATE:20200329T020000
TZOFFSETFROM:+0100
TZOFFSETTO:+0000
TZNAME:Europe/London GMT
END:STANDARD
BEGIN:STANDARD
DTSTART:20201025T010000
RDATE:20210328T020000
TZOFFSETFROM:+0100
TZOFFSETTO:+0000
TZNAME:Europe/London GMT
END:STANDARD
BEGIN:STANDARD
DTSTART:20211031T010000
RDATE:20220327T020000
TZOFFSETFROM:+0100
TZOFFSETTO:+0000
TZNAME:Europe/London GMT
END:STANDARD
BEGIN:STANDARD
DTSTART:20221030T010000
RDATE:20230326T020000
TZOFFSETFROM:+0100
TZOFFSETTO:+0000
TZNAME:Europe/London GMT
END:STANDARD
BEGIN:STANDARD
DTSTART:20231029T010000
RDATE:20240331T020000
TZOFFSETFROM:+0100
TZOFFSETTO:+0000
TZNAME:Europe/London GMT
END:STANDARD
BEGIN:STANDARD
DTSTART:20241027T010000
RDATE:20250330T020000
TZOFFSETFROM:+0100
TZOFFSETTO:+0000
TZNAME:Europe/London GMT
END:STANDARD
BEGIN:STANDARD
DTSTART:20251026T010000
RDATE:20260329T020000
TZOFFSETFROM:+0100
TZOFFSETTO:+0000
TZNAME:Europe/London GMT
END:STANDARD
BEGIN:STANDARD
DTSTART:20261025T010000
RDATE:20270328T020000
TZOFFSETFROM:+0100
TZOFFSETTO:+0000
TZNAME:Europe/London GMT
END:STANDARD
BEGIN:STANDARD
DTSTART:20271031T010000
RDATE:20280326T020000
TZOFFSETFROM:+0100
TZOFFSETTO:+0000
TZNAME:Europe/London GMT
END:STANDARD
BEGIN:STANDARD
DTSTART:20281029T010000
RDATE:20290325T020000
TZOFFSETFROM:+0100
TZOFFSETTO:+0000
TZNAME:Europe/London GMT
END:STANDARD
BEGIN:STANDARD
DTSTART:20291028T010000
RDATE:20300331T020000
TZOFFSETFROM:+0100
TZOFFSETTO:+0000
TZNAME:Europe/London GMT
END:STANDARD
BEGIN:STANDARD
DTSTART:20301027T010000
RDATE:20310330T020000
TZOFFSETFROM:+0100
TZOFFSETTO:+0000
TZNAME:Europe/London GMT
END:STANDARD
BEGIN:DAYLIGHT
DTSTART:20200329T020000
RDATE:20201025T010000
TZOFFSETFROM:+0000
TZOFFSETTO:+0100
TZNAME:Europe/London BST
END:DAYLIGHT
BEGIN:DAYLIGHT
DTSTART:20210328T020000
RDATE:20211031T010000
TZOFFSETFROM:+0000
TZOFFSETTO:+0100
TZNAME:Europe/London BST
END:DAYLIGHT
BEGIN:DAYLIGHT
DTSTART:20220327T020000
RDATE:20221030T010000
TZOFFSETFROM:+0000
TZOFFSETTO:+0100
TZNAME:Europe/London BST
END:DAYLIGHT
BEGIN:DAYLIGHT
DTSTART:20230326T020000
RDATE:20231029T010000
TZOFFSETFROM:+0000
TZOFFSETTO:+0100
TZNAME:Europe/London BST
END:DAYLIGHT
BEGIN:DAYLIGHT
DTSTART:20240331T020000
RDATE:20241027T010000
TZOFFSETFROM:+0000
TZOFFSETTO:+0100
TZNAME:Europe/London BST
END:DAYLIGHT
BEGIN:DAYLIGHT
DTSTART:20250330T020000
RDATE:20251026T010000
TZOFFSETFROM:+0000
TZOFFSETTO:+0100
TZNAME:Europe/London BST
END:DAYLIGHT
BEGIN:DAYLIGHT
DTSTART:20260329T020000
RDATE:20261025T010000
TZOFFSETFROM:+0000
TZOFFSETTO:+0100
TZNAME:Europe/London BST
END:DAYLIGHT
BEGIN:DAYLIGHT
DTSTART:20270328T020000
RDATE:20271031T010000
TZOFFSETFROM:+0000
TZOFFSETTO:+0100
TZNAME:Europe/London BST
END:DAYLIGHT
BEGIN:DAYLIGHT
DTSTART:20280326T020000
RDATE:20281029T010000
TZOFFSETFROM:+0000
TZOFFSETTO:+0100
TZNAME:Europe/London BST
END:DAYLIGHT
BEGIN:DAYLIGHT
DTSTART:20290325T020000
RDATE:20291028T010000
TZOFFSETFROM:+0000
TZOFFSETTO:+0100
TZNAME:Europe/London BST
END:DAYLIGHT
BEGIN:DAYLIGHT
DTSTART:20300331T020000
RDATE:20301027T010000
TZOFFSETFROM:+0000
TZOFFSETTO:+0100
TZNAME:Europe/London BST
END:DAYLIGHT
END:VTIMEZONE
BEGIN:VEVENT
UID:9c365b506e3bb78b6fa47b75d8252d68
CATEGORIES:Association Event
CREATED:20210310T182425
SUMMARY:Novices' and Minor Practice (Ringing Room)
LOCATION:Ringing Room and Zoom
URL;VALUE=URI:https://www.scacr.org/news-events/calendar/798/novices-and-minor-practice-r
 inging-room?tmpl=component
DESCRIPTION:<p><em>Note that this is the last practice before the Easter break.</em></p
 ><p>Join the friendly and supportive <strong>Novices' Practice</strong> to 
 have a go at Ringing Room, and progress your skills from rounds and call ch
 anges up to ringing inside to Plain Doubles methods.</p><div dir="auto">Wou
 ld you like to progress your knowledge and skills on doubles and minor meth
 ods over the coming weeks using RingingRoom and Zoom? Then the <strong>Movi
 ng on to Minor Practices&nbsp;</strong>are for you!&nbsp;As well as the Sat
 urday afternoon sessions, there will be some homework (writing methods out 
 and/or using Mobel/Abel).&nbsp;No previous knowledge of Ringing Room? Don't
  worry, register to join a Novices' Practice first to learn the basics and 
 have some fun!&nbsp;</div><div>&nbsp;</div><p>Please do encourage your frie
 nds to join as learners or helpers! You do not need to commit to attend eve
 ry week.</p><p><strong>You'll need to fill in the Google forms for each pra
 ctice in advance (deadline 5 pm the Thursday before) to join - contact Step
 h via <span id="cloak82b1317443983536a42c13776581013a">This email address i
 s being protected from spambots. You need JavaScript enabled to view it.</s
 pan><script type='text/javascript'>
				document.getElementById('cloak82b13
 17443983536a42c13776581013a').innerHTML = '';
				var prefix = '&#109;a' + 
 'i&#108;' + '&#116;o';
				var path = 'hr' + 'ef' + '=';
				var addy82b131
 7443983536a42c13776581013a = 's&#101;c-n&#111;rth' + '&#64;';
				addy82b13
 17443983536a42c13776581013a = addy82b1317443983536a42c13776581013a + 'sc&#9
 7;cr' + '&#46;' + '&#111;rg';
				var addy_text82b1317443983536a42c13776581
 013a = 's&#101;c-n&#111;rth' + '&#64;' + 'sc&#97;cr' + '&#46;' + '&#111;rg'
 ;document.getElementById('cloak82b1317443983536a42c13776581013a').innerHTML
  += '<a ' + path + '\'' + prefix + ':' + addy82b1317443983536a42c1377658101
 3a + '\'>'+addy_text82b1317443983536a42c13776581013a+'<\/a>';
		</script>&n
 bsp;for details. </strong>Joining instructions will be sent a few hours in 
 advance to those who have registered.&nbsp;&nbsp;</p><ul><li>Meet for a cha
 t from 3 pm (please join by 3.20 pm at the latest for the Novices' Practice
 )</li><li>3.30-4.30 pm - Novices' Practice&nbsp;</li><li>4.30-4.45 pm - bre
 ak&nbsp;</li><li>4.45-5.45 pm - Moving on to Minor Practice</li></ul> <a hr
 ef="https://www.scacr.org/news-events/calendar/798/novices-and-minor-practi
 ce-ringing-room?tmpl=component">This event was imported from: https://www.s
 cacr.org/news-events/calendar/798/novices-and-minor-practice-ringing-room?t
 mpl=component</a>CONTACT:This email address is being protected from spambots. You need JavaScript enabled to view it.
				document.getElementById('cloak0652d1f893d2d948208153cf8ae2758b').innerHTML = '';
				var prefix = '&#109;a' + 'i&#108;' + '&#116;o';
				var path = 'hr' + 'ef' + '=';
				var addy0652d1f893d2d948208153cf8ae2758b = 's&#101;c-n&#111;rth' + '&#64;';
				addy0652d1f893d2d948208153cf8ae2758b = addy0652d1f893d2d948208153cf8ae2758b + 'sc&#97;cr' + '&#46;' + '&#111;rg';
				var addy_text0652d1f893d2d948208153cf8ae2758b = 's&#101;c-n&#111;rth' + '&#64;' + 'sc&#97;cr' + '&#46;' + '&#111;rg';document.getElementById('cloak0652d1f893d2d948208153cf8ae2758b').innerHTML += '<a ' + path + '\'' + prefix + ':' + addy0652d1f893d2d948208153cf8ae2758b + '\'>'+addy_text0652d1f893d2d948208153cf8ae2758b+'';
		
DTSTAMP:20260421T125926
DTSTART;TZID=Europe/London:20210327T150000
DTEND;TZID=Europe/London:20210327T174500
SEQUENCE:0
TRANSP:OPAQUE
END:VEVENT
END:VCALENDAR