BEGIN:VCALENDAR
VERSION:2.0
PRODID:-//jEvents 2.0 for Joomla//EN
CALSCALE:GREGORIAN
METHOD:PUBLISH
BEGIN:VTIMEZONE
TZID:Europe/London
BEGIN:STANDARD
DTSTART:20200319T150000
RDATE:20200329T020000
TZOFFSETFROM:+0100
TZOFFSETTO:+0000
TZNAME:Europe/London GMT
END:STANDARD
BEGIN:STANDARD
DTSTART:20201025T010000
RDATE:20210328T020000
TZOFFSETFROM:+0100
TZOFFSETTO:+0000
TZNAME:Europe/London GMT
END:STANDARD
BEGIN:STANDARD
DTSTART:20211031T010000
RDATE:20220327T020000
TZOFFSETFROM:+0100
TZOFFSETTO:+0000
TZNAME:Europe/London GMT
END:STANDARD
BEGIN:STANDARD
DTSTART:20221030T010000
RDATE:20230326T020000
TZOFFSETFROM:+0100
TZOFFSETTO:+0000
TZNAME:Europe/London GMT
END:STANDARD
BEGIN:STANDARD
DTSTART:20231029T010000
RDATE:20240331T020000
TZOFFSETFROM:+0100
TZOFFSETTO:+0000
TZNAME:Europe/London GMT
END:STANDARD
BEGIN:STANDARD
DTSTART:20241027T010000
RDATE:20250330T020000
TZOFFSETFROM:+0100
TZOFFSETTO:+0000
TZNAME:Europe/London GMT
END:STANDARD
BEGIN:STANDARD
DTSTART:20251026T010000
RDATE:20260329T020000
TZOFFSETFROM:+0100
TZOFFSETTO:+0000
TZNAME:Europe/London GMT
END:STANDARD
BEGIN:STANDARD
DTSTART:20261025T010000
RDATE:20270328T020000
TZOFFSETFROM:+0100
TZOFFSETTO:+0000
TZNAME:Europe/London GMT
END:STANDARD
BEGIN:STANDARD
DTSTART:20271031T010000
RDATE:20280326T020000
TZOFFSETFROM:+0100
TZOFFSETTO:+0000
TZNAME:Europe/London GMT
END:STANDARD
BEGIN:STANDARD
DTSTART:20281029T010000
RDATE:20290325T020000
TZOFFSETFROM:+0100
TZOFFSETTO:+0000
TZNAME:Europe/London GMT
END:STANDARD
BEGIN:STANDARD
DTSTART:20291028T010000
RDATE:20300331T020000
TZOFFSETFROM:+0100
TZOFFSETTO:+0000
TZNAME:Europe/London GMT
END:STANDARD
BEGIN:STANDARD
DTSTART:20301027T010000
RDATE:20310330T020000
TZOFFSETFROM:+0100
TZOFFSETTO:+0000
TZNAME:Europe/London GMT
END:STANDARD
BEGIN:DAYLIGHT
DTSTART:20200329T020000
RDATE:20201025T010000
TZOFFSETFROM:+0000
TZOFFSETTO:+0100
TZNAME:Europe/London BST
END:DAYLIGHT
BEGIN:DAYLIGHT
DTSTART:20210328T020000
RDATE:20211031T010000
TZOFFSETFROM:+0000
TZOFFSETTO:+0100
TZNAME:Europe/London BST
END:DAYLIGHT
BEGIN:DAYLIGHT
DTSTART:20220327T020000
RDATE:20221030T010000
TZOFFSETFROM:+0000
TZOFFSETTO:+0100
TZNAME:Europe/London BST
END:DAYLIGHT
BEGIN:DAYLIGHT
DTSTART:20230326T020000
RDATE:20231029T010000
TZOFFSETFROM:+0000
TZOFFSETTO:+0100
TZNAME:Europe/London BST
END:DAYLIGHT
BEGIN:DAYLIGHT
DTSTART:20240331T020000
RDATE:20241027T010000
TZOFFSETFROM:+0000
TZOFFSETTO:+0100
TZNAME:Europe/London BST
END:DAYLIGHT
BEGIN:DAYLIGHT
DTSTART:20250330T020000
RDATE:20251026T010000
TZOFFSETFROM:+0000
TZOFFSETTO:+0100
TZNAME:Europe/London BST
END:DAYLIGHT
BEGIN:DAYLIGHT
DTSTART:20260329T020000
RDATE:20261025T010000
TZOFFSETFROM:+0000
TZOFFSETTO:+0100
TZNAME:Europe/London BST
END:DAYLIGHT
BEGIN:DAYLIGHT
DTSTART:20270328T020000
RDATE:20271031T010000
TZOFFSETFROM:+0000
TZOFFSETTO:+0100
TZNAME:Europe/London BST
END:DAYLIGHT
BEGIN:DAYLIGHT
DTSTART:20280326T020000
RDATE:20281029T010000
TZOFFSETFROM:+0000
TZOFFSETTO:+0100
TZNAME:Europe/London BST
END:DAYLIGHT
BEGIN:DAYLIGHT
DTSTART:20290325T020000
RDATE:20291028T010000
TZOFFSETFROM:+0000
TZOFFSETTO:+0100
TZNAME:Europe/London BST
END:DAYLIGHT
BEGIN:DAYLIGHT
DTSTART:20300331T020000
RDATE:20301027T010000
TZOFFSETFROM:+0000
TZOFFSETTO:+0100
TZNAME:Europe/London BST
END:DAYLIGHT
END:VTIMEZONE
BEGIN:VEVENT
UID:124b0c30f7990aa2350ecb017603b5db
CATEGORIES:Association Event
CREATED:20210310T182352
SUMMARY:Novices' and Minor Practice (Ringing Room)
LOCATION:Ringing Room and Zoom
URL;VALUE=URI:https://www.scacr.org/news-events/calendar/797/novices-and-minor-practice-r
 inging-room?tmpl=component
DESCRIPTION:Join the friendly and supportive Novices' Practice to have a go at Ringing 
 Room, and progress your skills from rounds and call changes up to ringing i
 nside to Plain Doubles methods.\nWould you like to progress your knowledge 
 and skills on doubles and minor methods over the coming weeks using Ringing
 Room and Zoom? Then the Moving on to Minor Practices are for you! As well a
 s the Saturday afternoon sessions, there will be some homework (writing met
 hods out and/or using Mobel/Abel). No previous knowledge of Ringing Room? D
 on't worry, register to join a Novices' Practice first to learn the basics 
 and have some fun!  Please do encourage your friends to join as learners or
  helpers! You do not need to commit to attend every week.\nYou'll need to f
 ill in the Google forms for each practice in advance (deadline 5 pm the Thu
 rsday before) to join - contact Steph via This email address is being prote
 cted from spambots. You need JavaScript enabled to view it.
				document.ge
 tElementById('cloakd7d8b576be7e934c6deae32858e5d2d1').innerHTML = '';
				v
 ar prefix = '&#109;a' + 'i&#108;' + '&#116;o';
				var path = 'hr' + 'ef' +
  '=';
				var addyd7d8b576be7e934c6deae32858e5d2d1 = 's&#101;c-n&#111;rth' 
 + '&#64;';
				addyd7d8b576be7e934c6deae32858e5d2d1 = addyd7d8b576be7e934c6
 deae32858e5d2d1 + 'sc&#97;cr' + '&#46;' + '&#111;rg';
				var addy_textd7d8
 b576be7e934c6deae32858e5d2d1 = 's&#101;c-n&#111;rth' + '&#64;' + 'sc&#97;cr
 ' + '&#46;' + '&#111;rg';document.getElementById('cloakd7d8b576be7e934c6dea
 e32858e5d2d1').innerHTML += '<a ' + path + '\'' + prefix + ':' + addyd7d8b5
 76be7e934c6deae32858e5d2d1 + '\'>'+addy_textd7d8b576be7e934c6deae32858e5d2d
 1+'';
		 for details. Joining instructions will be sent a few hours in adva
 nce to those who have registered.  \n\n - Meet for a chat from 3 pm (please
  join by 3.20 pm at the latest for the Novices' Practice)\n - 3.30-4.30 pm 
 - Novices' Practice \n - 4.30-4.45 pm - break \n - 4.45-5.45 pm - Moving on
  to Minor Practice This event was imported from: https://www.scacr.org/news
 -events/calendar/797/novices-and-minor-practice-ringing-room?tmpl=component
  (https://www.scacr.org/news-events/calendar/797/novices-and-minor-practice
 -ringing-room?tmpl=component)
X-ALT-DESC;FMTTYPE=text/html:<p>Join the friendly and supportive <strong>Novices' Practice</strong> to h
 ave a go at Ringing Room, and progress your skills from rounds and call cha
 nges up to ringing inside to Plain Doubles methods.</p><div dir="auto">Woul
 d you like to progress your knowledge and skills on doubles and minor metho
 ds over the coming weeks using RingingRoom and Zoom? Then the <strong>Movin
 g on to Minor Practices&nbsp;</strong>are for you!&nbsp;As well as the Satu
 rday afternoon sessions, there will be some homework (writing methods out a
 nd/or using Mobel/Abel).&nbsp;No previous knowledge of Ringing Room? Don't 
 worry, register to join a Novices' Practice first to learn the basics and h
 ave some fun!&nbsp;</div><div>&nbsp;</div><p>Please do encourage your frien
 ds to join as learners or helpers! You do not need to commit to attend ever
 y week.</p><p><strong>You'll need to fill in the Google forms for each prac
 tice in advance (deadline 5 pm the Thursday before) to join - contact Steph
  via <span id="cloakd7d8b576be7e934c6deae32858e5d2d1">This email address is
  being protected from spambots. You need JavaScript enabled to view it.</sp
 an><script type='text/javascript'>
				document.getElementById('cloakd7d8b5
 76be7e934c6deae32858e5d2d1').innerHTML = '';
				var prefix = '&#109;a' + '
 i&#108;' + '&#116;o';
				var path = 'hr' + 'ef' + '=';
				var addyd7d8b57
 6be7e934c6deae32858e5d2d1 = 's&#101;c-n&#111;rth' + '&#64;';
				addyd7d8b5
 76be7e934c6deae32858e5d2d1 = addyd7d8b576be7e934c6deae32858e5d2d1 + 'sc&#97
 ;cr' + '&#46;' + '&#111;rg';
				var addy_textd7d8b576be7e934c6deae32858e5d
 2d1 = 's&#101;c-n&#111;rth' + '&#64;' + 'sc&#97;cr' + '&#46;' + '&#111;rg';
 document.getElementById('cloakd7d8b576be7e934c6deae32858e5d2d1').innerHTML 
 += '<a ' + path + '\'' + prefix + ':' + addyd7d8b576be7e934c6deae32858e5d2d
 1 + '\'>'+addy_textd7d8b576be7e934c6deae32858e5d2d1+'<\/a>';
		</script>&nb
 sp;for details. </strong>Joining instructions will be sent a few hours in a
 dvance to those who have registered.&nbsp;&nbsp;</p><ul><li>Meet for a chat
  from 3 pm (please join by 3.20 pm at the latest for the Novices' Practice)
 </li><li>3.30-4.30 pm - Novices' Practice&nbsp;</li><li>4.30-4.45 pm - brea
 k&nbsp;</li><li>4.45-5.45 pm - Moving on to Minor Practice</li></ul> <a hre
 f="https://www.scacr.org/news-events/calendar/797/novices-and-minor-practic
 e-ringing-room?tmpl=component">This event was imported from: https://www.sc
 acr.org/news-events/calendar/797/novices-and-minor-practice-ringing-room?tm
 pl=component</a>CONTACT:This email address is being protected from spambots. You need JavaScript enabled to view it.
				document.getElementById('cloak3b3aa718faacd8d9ce81f13ba05581a3').innerHTML = '';
				var prefix = '&#109;a' + 'i&#108;' + '&#116;o';
				var path = 'hr' + 'ef' + '=';
				var addy3b3aa718faacd8d9ce81f13ba05581a3 = 's&#101;c-n&#111;rth' + '&#64;';
				addy3b3aa718faacd8d9ce81f13ba05581a3 = addy3b3aa718faacd8d9ce81f13ba05581a3 + 'sc&#97;cr' + '&#46;' + '&#111;rg';
				var addy_text3b3aa718faacd8d9ce81f13ba05581a3 = 's&#101;c-n&#111;rth' + '&#64;' + 'sc&#97;cr' + '&#46;' + '&#111;rg';document.getElementById('cloak3b3aa718faacd8d9ce81f13ba05581a3').innerHTML += '<a ' + path + '\'' + prefix + ':' + addy3b3aa718faacd8d9ce81f13ba05581a3 + '\'>'+addy_text3b3aa718faacd8d9ce81f13ba05581a3+'';
		
DTSTAMP:20260421T023426
DTSTART;TZID=Europe/London:20210320T150000
DTEND;TZID=Europe/London:20210320T174500
SEQUENCE:0
TRANSP:OPAQUE
END:VEVENT
END:VCALENDAR