BEGIN:VCALENDAR
VERSION:2.0
PRODID:-//jEvents 2.0 for Joomla//EN
CALSCALE:GREGORIAN
METHOD:PUBLISH
BEGIN:VTIMEZONE
TZID:Europe/London
BEGIN:STANDARD
DTSTART:20201025T010000
RDATE:20210328T020000
TZOFFSETFROM:+0100
TZOFFSETTO:+0000
TZNAME:Europe/London GMT
END:STANDARD
BEGIN:STANDARD
DTSTART:20211031T010000
RDATE:20220327T020000
TZOFFSETFROM:+0100
TZOFFSETTO:+0000
TZNAME:Europe/London GMT
END:STANDARD
BEGIN:STANDARD
DTSTART:20221030T010000
RDATE:20230326T020000
TZOFFSETFROM:+0100
TZOFFSETTO:+0000
TZNAME:Europe/London GMT
END:STANDARD
BEGIN:STANDARD
DTSTART:20231029T010000
RDATE:20240331T020000
TZOFFSETFROM:+0100
TZOFFSETTO:+0000
TZNAME:Europe/London GMT
END:STANDARD
BEGIN:STANDARD
DTSTART:20241027T010000
RDATE:20250330T020000
TZOFFSETFROM:+0100
TZOFFSETTO:+0000
TZNAME:Europe/London GMT
END:STANDARD
BEGIN:STANDARD
DTSTART:20251026T010000
RDATE:20260329T020000
TZOFFSETFROM:+0100
TZOFFSETTO:+0000
TZNAME:Europe/London GMT
END:STANDARD
BEGIN:STANDARD
DTSTART:20261025T010000
RDATE:20270328T020000
TZOFFSETFROM:+0100
TZOFFSETTO:+0000
TZNAME:Europe/London GMT
END:STANDARD
BEGIN:STANDARD
DTSTART:20271031T010000
RDATE:20280326T020000
TZOFFSETFROM:+0100
TZOFFSETTO:+0000
TZNAME:Europe/London GMT
END:STANDARD
BEGIN:STANDARD
DTSTART:20281029T010000
RDATE:20290325T020000
TZOFFSETFROM:+0100
TZOFFSETTO:+0000
TZNAME:Europe/London GMT
END:STANDARD
BEGIN:STANDARD
DTSTART:20291028T010000
RDATE:20300331T020000
TZOFFSETFROM:+0100
TZOFFSETTO:+0000
TZNAME:Europe/London GMT
END:STANDARD
BEGIN:STANDARD
DTSTART:20301027T010000
RDATE:20310330T020000
TZOFFSETFROM:+0100
TZOFFSETTO:+0000
TZNAME:Europe/London GMT
END:STANDARD
BEGIN:DAYLIGHT
DTSTART:20200507T100000
RDATE:20201025T010000
TZOFFSETFROM:+0000
TZOFFSETTO:+0100
TZNAME:Europe/London BST
END:DAYLIGHT
BEGIN:DAYLIGHT
DTSTART:20210328T020000
RDATE:20211031T010000
TZOFFSETFROM:+0000
TZOFFSETTO:+0100
TZNAME:Europe/London BST
END:DAYLIGHT
BEGIN:DAYLIGHT
DTSTART:20220327T020000
RDATE:20221030T010000
TZOFFSETFROM:+0000
TZOFFSETTO:+0100
TZNAME:Europe/London BST
END:DAYLIGHT
BEGIN:DAYLIGHT
DTSTART:20230326T020000
RDATE:20231029T010000
TZOFFSETFROM:+0000
TZOFFSETTO:+0100
TZNAME:Europe/London BST
END:DAYLIGHT
BEGIN:DAYLIGHT
DTSTART:20240331T020000
RDATE:20241027T010000
TZOFFSETFROM:+0000
TZOFFSETTO:+0100
TZNAME:Europe/London BST
END:DAYLIGHT
BEGIN:DAYLIGHT
DTSTART:20250330T020000
RDATE:20251026T010000
TZOFFSETFROM:+0000
TZOFFSETTO:+0100
TZNAME:Europe/London BST
END:DAYLIGHT
BEGIN:DAYLIGHT
DTSTART:20260329T020000
RDATE:20261025T010000
TZOFFSETFROM:+0000
TZOFFSETTO:+0100
TZNAME:Europe/London BST
END:DAYLIGHT
BEGIN:DAYLIGHT
DTSTART:20270328T020000
RDATE:20271031T010000
TZOFFSETFROM:+0000
TZOFFSETTO:+0100
TZNAME:Europe/London BST
END:DAYLIGHT
BEGIN:DAYLIGHT
DTSTART:20280326T020000
RDATE:20281029T010000
TZOFFSETFROM:+0000
TZOFFSETTO:+0100
TZNAME:Europe/London BST
END:DAYLIGHT
BEGIN:DAYLIGHT
DTSTART:20290325T020000
RDATE:20291028T010000
TZOFFSETFROM:+0000
TZOFFSETTO:+0100
TZNAME:Europe/London BST
END:DAYLIGHT
BEGIN:DAYLIGHT
DTSTART:20300331T020000
RDATE:20301027T010000
TZOFFSETFROM:+0000
TZOFFSETTO:+0100
TZNAME:Europe/London BST
END:DAYLIGHT
END:VTIMEZONE
BEGIN:VEVENT
UID:190c2794452dbf4cc80a6aea059d8eb0
CATEGORIES:Association Event
CREATED:20210310T181743
SUMMARY:SCACR Annual General Meeting
LOCATION:via Zoom
URL;VALUE=URI:https://www.scacr.org/news-events/calendar/794/scacr-annual-general-meeting
 ?tmpl=component
DESCRIPTION:<p>The Annual General Meeting of the Sussex County Association of Change Ri
 ngers will be held on Saturday 8th May 2021 at 10:00.</p><p>Due to the ongo
 ing COVID restrictions preventing us from meeting in person, the AGM will b
 e held remotely via Zoom, the link to the meeting was emailed to all member
 s on 2nd May. Please contact <span id="cloak21b2fbbc2a8cd3b0fa167b61721d532
 9">This email address is being protected from spambots. You need JavaScript
  enabled to view it.</span><script type='text/javascript'>
				document.get
 ElementById('cloak21b2fbbc2a8cd3b0fa167b61721d5329').innerHTML = '';
				va
 r prefix = '&#109;a' + 'i&#108;' + '&#116;o';
				var path = 'hr' + 'ef' + 
 '=';
				var addy21b2fbbc2a8cd3b0fa167b61721d5329 = 's&#101;cr&#101;t&#97;r
 y' + '&#64;';
				addy21b2fbbc2a8cd3b0fa167b61721d5329 = addy21b2fbbc2a8cd3
 b0fa167b61721d5329 + 'sc&#97;cr' + '&#46;' + '&#111;rg';
				var addy_text2
 1b2fbbc2a8cd3b0fa167b61721d5329 = 's&#101;cr&#101;t&#97;ry' + '&#64;' + 'sc
 &#97;cr' + '&#46;' + '&#111;rg';document.getElementById('cloak21b2fbbc2a8cd
 3b0fa167b61721d5329').innerHTML += '<a ' + path + '\'' + prefix + ':' + add
 y21b2fbbc2a8cd3b0fa167b61721d5329 + '\'>'+addy_text21b2fbbc2a8cd3b0fa167b61
 721d5329+'<\/a>';
		</script>&nbsp;to request the Zoom details. Voting duri
 ng the meeting will be carried out using the 'polling' function of Zoom.</p
 ><p>The agenda for the 2020 Annual General Meeting is available <a href="ht
 tps://1drv.ms/u/s!Ant9alzEMojQgYB-K8dT0gIPcsqPow?e=9fFswR">online here</a>.
 </p><p>The minutes of the 2019 Annual General Meeting, and a report into th
 e 2020 alternative Annual General Meeting are <a href="https://1drv.ms/u/s!
 Ant9alzEMojQgYB-K8dT0gIPcsqPow?e=9fFswR">available here</a>.</p><p>Prior to
  the meeting starting, and also afterwards, there will be an opportunity to
  catch up with friends in breakout rooms and join in ringing utilising virt
 ual towers in Ringing Room; the meeting room will be open from 09:00.</p><h
 4>Annual Report</h4><p>An electronic copy of the report for 2020 and handbo
 ok for 2021 is available for <a href="index.php?option=com_content&amp;view
 =article&amp;id=54:annual-report-handbook&amp;catid=29">download here</a>. 
 The password was emailed to all members on 2nd May 2021, and is available o
 n-request from <span id="cloakba1d56a626fbdcbcb08c951c51830118">This email 
 address is being protected from spambots. You need JavaScript enabled to vi
 ew it.</span><script type='text/javascript'>
				document.getElementById('c
 loakba1d56a626fbdcbcb08c951c51830118').innerHTML = '';
				var prefix = '&#
 109;a' + 'i&#108;' + '&#116;o';
				var path = 'hr' + 'ef' + '=';
				var a
 ddyba1d56a626fbdcbcb08c951c51830118 = 's&#101;cr&#101;t&#97;ry' + '&#64;';

 				addyba1d56a626fbdcbcb08c951c51830118 = addyba1d56a626fbdcbcb08c951c5183
 0118 + 'sc&#97;cr' + '&#46;' + '&#111;rg';
				var addy_textba1d56a626fbdcb
 cb08c951c51830118 = 's&#101;cr&#101;t&#97;ry' + '&#64;' + 'sc&#97;cr' + '&#
 46;' + '&#111;rg';document.getElementById('cloakba1d56a626fbdcbcb08c951c518
 30118').innerHTML += '<a ' + path + '\'' + prefix + ':' + addyba1d56a626fbd
 cbcb08c951c51830118 + '\'>'+addy_textba1d56a626fbdcbcb08c951c51830118+'<\/a
 >';
		</script>.</p><p>I look forward to seeing as many of you as possible 
 at the AGM, and hope to be able to ring with you again soon!</p><p>Best Wis
 hes,</p><p><em>Rob Lane</em><br /><em>Master</em></p> <a href="https://www.
 scacr.org/news-events/calendar/794/scacr-annual-general-meeting?tmpl=compon
 ent">This event was imported from: https://www.scacr.org/news-events/calend
 ar/794/scacr-annual-general-meeting?tmpl=component</a>
X-ALT-DESC;FMTTYPE=text/html:<p>The Annual General Meeting of the Sussex County Association of Change Ri
 ngers will be held on Saturday 8th May 2021 at 10:00.</p><p>Due to the ongo
 ing COVID restrictions preventing us from meeting in person, the AGM will b
 e held remotely via Zoom, the link to the meeting was emailed to all member
 s on 2nd May. Please contact <span id="cloak21b2fbbc2a8cd3b0fa167b61721d532
 9">This email address is being protected from spambots. You need JavaScript
  enabled to view it.</span><script type='text/javascript'>
				document.get
 ElementById('cloak21b2fbbc2a8cd3b0fa167b61721d5329').innerHTML = '';
				va
 r prefix = '&#109;a' + 'i&#108;' + '&#116;o';
				var path = 'hr' + 'ef' + 
 '=';
				var addy21b2fbbc2a8cd3b0fa167b61721d5329 = 's&#101;cr&#101;t&#97;r
 y' + '&#64;';
				addy21b2fbbc2a8cd3b0fa167b61721d5329 = addy21b2fbbc2a8cd3
 b0fa167b61721d5329 + 'sc&#97;cr' + '&#46;' + '&#111;rg';
				var addy_text2
 1b2fbbc2a8cd3b0fa167b61721d5329 = 's&#101;cr&#101;t&#97;ry' + '&#64;' + 'sc
 &#97;cr' + '&#46;' + '&#111;rg';document.getElementById('cloak21b2fbbc2a8cd
 3b0fa167b61721d5329').innerHTML += '<a ' + path + '\'' + prefix + ':' + add
 y21b2fbbc2a8cd3b0fa167b61721d5329 + '\'>'+addy_text21b2fbbc2a8cd3b0fa167b61
 721d5329+'<\/a>';
		</script>&nbsp;to request the Zoom details. Voting duri
 ng the meeting will be carried out using the 'polling' function of Zoom.</p
 ><p>The agenda for the 2020 Annual General Meeting is available <a href="ht
 tps://1drv.ms/u/s!Ant9alzEMojQgYB-K8dT0gIPcsqPow?e=9fFswR">online here</a>.
 </p><p>The minutes of the 2019 Annual General Meeting, and a report into th
 e 2020 alternative Annual General Meeting are <a href="https://1drv.ms/u/s!
 Ant9alzEMojQgYB-K8dT0gIPcsqPow?e=9fFswR">available here</a>.</p><p>Prior to
  the meeting starting, and also afterwards, there will be an opportunity to
  catch up with friends in breakout rooms and join in ringing utilising virt
 ual towers in Ringing Room; the meeting room will be open from 09:00.</p><h
 4>Annual Report</h4><p>An electronic copy of the report for 2020 and handbo
 ok for 2021 is available for <a href="https://www.scacr.org/index.php?optio
 n=com_content&amp;view=article&amp;id=54:annual-report-handbook&amp;catid=2
 9">download here</a>. The password was emailed to all members on 2nd May 20
 21, and is available on-request from <span id="cloakba1d56a626fbdcbcb08c951
 c51830118">This email address is being protected from spambots. You need Ja
 vaScript enabled to view it.</span><script type='text/javascript'>
				docu
 ment.getElementById('cloakba1d56a626fbdcbcb08c951c51830118').innerHTML = ''
 ;
				var prefix = '&#109;a' + 'i&#108;' + '&#116;o';
				var path = 'hr' +
  'ef' + '=';
				var addyba1d56a626fbdcbcb08c951c51830118 = 's&#101;cr&#101
 ;t&#97;ry' + '&#64;';
				addyba1d56a626fbdcbcb08c951c51830118 = addyba1d56
 a626fbdcbcb08c951c51830118 + 'sc&#97;cr' + '&#46;' + '&#111;rg';
				var ad
 dy_textba1d56a626fbdcbcb08c951c51830118 = 's&#101;cr&#101;t&#97;ry' + '&#64
 ;' + 'sc&#97;cr' + '&#46;' + '&#111;rg';document.getElementById('cloakba1d5
 6a626fbdcbcb08c951c51830118').innerHTML += '<a ' + path + '\'' + prefix + '
 :' + addyba1d56a626fbdcbcb08c951c51830118 + '\'>'+addy_textba1d56a626fbdcbc
 b08c951c51830118+'<\/a>';
		</script>.</p><p>I look forward to seeing as ma
 ny of you as possible at the AGM, and hope to be able to ring with you agai
 n soon!</p><p>Best Wishes,</p><p><em>Rob Lane</em><br /><em>Master</em></p>
  <a href="https://www.scacr.org/news-events/calendar/794/scacr-annual-gener
 al-meeting?tmpl=component">This event was imported from: https://www.scacr.
 org/news-events/calendar/794/scacr-annual-general-meeting?tmpl=component</a
 >CONTACT:This email address is being protected from spambots. You need JavaScript enabled to view it.
				document.getElementById('cloak6fbc6fc9c0fc01e87a3ecc04074ff4ec').innerHTML = '';
				var prefix = '&#109;a' + 'i&#108;' + '&#116;o';
				var path = 'hr' + 'ef' + '=';
				var addy6fbc6fc9c0fc01e87a3ecc04074ff4ec = 's&#101;cr&#101;t&#97;ry' + '&#64;';
				addy6fbc6fc9c0fc01e87a3ecc04074ff4ec = addy6fbc6fc9c0fc01e87a3ecc04074ff4ec + 'sc&#97;cr' + '&#46;' + '&#111;rg';
				var addy_text6fbc6fc9c0fc01e87a3ecc04074ff4ec = 's&#101;cr&#101;t&#97;ry' + '&#64;' + 'sc&#97;cr' + '&#46;' + '&#111;rg';document.getElementById('cloak6fbc6fc9c0fc01e87a3ecc04074ff4ec').innerHTML += '<a ' + path + '\'' + prefix + ':' + addy6fbc6fc9c0fc01e87a3ecc04074ff4ec + '\'>'+addy_text6fbc6fc9c0fc01e87a3ecc04074ff4ec+'';
		
DTSTAMP:20260420T143910
DTSTART;TZID=Europe/London:20210508T100000
DTEND;TZID=Europe/London:20210508T113000
SEQUENCE:0
TRANSP:OPAQUE
END:VEVENT
END:VCALENDAR