BEGIN:VCALENDAR
VERSION:2.0
PRODID:-//jEvents 2.0 for Joomla//EN
CALSCALE:GREGORIAN
METHOD:PUBLISH
BEGIN:VTIMEZONE
TZID:Europe/London
BEGIN:STANDARD
DTSTART:20200326T094500
RDATE:20200329T020000
TZOFFSETFROM:+0100
TZOFFSETTO:+0000
TZNAME:Europe/London GMT
END:STANDARD
BEGIN:STANDARD
DTSTART:20201025T010000
RDATE:20210328T020000
TZOFFSETFROM:+0100
TZOFFSETTO:+0000
TZNAME:Europe/London GMT
END:STANDARD
BEGIN:STANDARD
DTSTART:20211031T010000
RDATE:20220327T020000
TZOFFSETFROM:+0100
TZOFFSETTO:+0000
TZNAME:Europe/London GMT
END:STANDARD
BEGIN:STANDARD
DTSTART:20221030T010000
RDATE:20230326T020000
TZOFFSETFROM:+0100
TZOFFSETTO:+0000
TZNAME:Europe/London GMT
END:STANDARD
BEGIN:STANDARD
DTSTART:20231029T010000
RDATE:20240331T020000
TZOFFSETFROM:+0100
TZOFFSETTO:+0000
TZNAME:Europe/London GMT
END:STANDARD
BEGIN:STANDARD
DTSTART:20241027T010000
RDATE:20250330T020000
TZOFFSETFROM:+0100
TZOFFSETTO:+0000
TZNAME:Europe/London GMT
END:STANDARD
BEGIN:STANDARD
DTSTART:20251026T010000
RDATE:20260329T020000
TZOFFSETFROM:+0100
TZOFFSETTO:+0000
TZNAME:Europe/London GMT
END:STANDARD
BEGIN:STANDARD
DTSTART:20261025T010000
RDATE:20270328T020000
TZOFFSETFROM:+0100
TZOFFSETTO:+0000
TZNAME:Europe/London GMT
END:STANDARD
BEGIN:STANDARD
DTSTART:20271031T010000
RDATE:20280326T020000
TZOFFSETFROM:+0100
TZOFFSETTO:+0000
TZNAME:Europe/London GMT
END:STANDARD
BEGIN:STANDARD
DTSTART:20281029T010000
RDATE:20290325T020000
TZOFFSETFROM:+0100
TZOFFSETTO:+0000
TZNAME:Europe/London GMT
END:STANDARD
BEGIN:STANDARD
DTSTART:20291028T010000
RDATE:20300331T020000
TZOFFSETFROM:+0100
TZOFFSETTO:+0000
TZNAME:Europe/London GMT
END:STANDARD
BEGIN:STANDARD
DTSTART:20301027T010000
RDATE:20310330T020000
TZOFFSETFROM:+0100
TZOFFSETTO:+0000
TZNAME:Europe/London GMT
END:STANDARD
BEGIN:DAYLIGHT
DTSTART:20200329T020000
RDATE:20201025T010000
TZOFFSETFROM:+0000
TZOFFSETTO:+0100
TZNAME:Europe/London BST
END:DAYLIGHT
BEGIN:DAYLIGHT
DTSTART:20210328T020000
RDATE:20211031T010000
TZOFFSETFROM:+0000
TZOFFSETTO:+0100
TZNAME:Europe/London BST
END:DAYLIGHT
BEGIN:DAYLIGHT
DTSTART:20220327T020000
RDATE:20221030T010000
TZOFFSETFROM:+0000
TZOFFSETTO:+0100
TZNAME:Europe/London BST
END:DAYLIGHT
BEGIN:DAYLIGHT
DTSTART:20230326T020000
RDATE:20231029T010000
TZOFFSETFROM:+0000
TZOFFSETTO:+0100
TZNAME:Europe/London BST
END:DAYLIGHT
BEGIN:DAYLIGHT
DTSTART:20240331T020000
RDATE:20241027T010000
TZOFFSETFROM:+0000
TZOFFSETTO:+0100
TZNAME:Europe/London BST
END:DAYLIGHT
BEGIN:DAYLIGHT
DTSTART:20250330T020000
RDATE:20251026T010000
TZOFFSETFROM:+0000
TZOFFSETTO:+0100
TZNAME:Europe/London BST
END:DAYLIGHT
BEGIN:DAYLIGHT
DTSTART:20260329T020000
RDATE:20261025T010000
TZOFFSETFROM:+0000
TZOFFSETTO:+0100
TZNAME:Europe/London BST
END:DAYLIGHT
BEGIN:DAYLIGHT
DTSTART:20270328T020000
RDATE:20271031T010000
TZOFFSETFROM:+0000
TZOFFSETTO:+0100
TZNAME:Europe/London BST
END:DAYLIGHT
BEGIN:DAYLIGHT
DTSTART:20280326T020000
RDATE:20281029T010000
TZOFFSETFROM:+0000
TZOFFSETTO:+0100
TZNAME:Europe/London BST
END:DAYLIGHT
BEGIN:DAYLIGHT
DTSTART:20290325T020000
RDATE:20291028T010000
TZOFFSETFROM:+0000
TZOFFSETTO:+0100
TZNAME:Europe/London BST
END:DAYLIGHT
BEGIN:DAYLIGHT
DTSTART:20300331T020000
RDATE:20301027T010000
TZOFFSETFROM:+0000
TZOFFSETTO:+0100
TZNAME:Europe/London BST
END:DAYLIGHT
END:VTIMEZONE
BEGIN:VEVENT
UID:e39c8d989f54af06537ac485351cdf19
CATEGORIES:Association Event
CREATED:20210223T140727
SUMMARY:Change Ringing Handbell Morning
LOCATION:Zoom and Ringing Room
URL;VALUE=URI:https://www.scacr.org/news-events/calendar/793/change-ringing-handbell-morn
 ing?tmpl=component
DESCRIPTION:following-on from the successful Handbell morning on 30th January (index.ph
 p?option=com_content&amp;view=article&amp;id=448:handbell-morning-report-ja
 n-2021&amp;catid=15), another event will be held on 27th March 2021.\nThis 
 event is open to all, especially:\n\n - Handbell groups in Sussex and near 
 by\n - Those who enjoy change ringing on handbells but do not have a regula
 r practice\n - Those who want to have a goIf you are not used to the techno
 logy, there will be a familiarization session from 9.45am to 12.30pm\nSatur
 day 23 rd January 2021.\nOn the day, there will be three focus groups:\n\n 
 - Plain hunting to Plain Bob\n - Plain Bob to Treble Bob\n - Beyond Treble 
 BobIf you are not used to the technology, please contact Hamish and he will
  arrange a familiarization session.\nIf you would like to join in please em
 ail Hamish McNaughton at This email address is being protected from spambot
 s. You need JavaScript enabled to view it.
				document.getElementById('clo
 ak25b4584664ff07a314926cb6008bdb4a').innerHTML = '';
				var prefix = '&#10
 9;a' + 'i&#108;' + '&#116;o';
				var path = 'hr' + 'ef' + '=';
				var add
 y25b4584664ff07a314926cb6008bdb4a = 'h&#97;m&#105;sh' + '&#64;';
				addy25
 b4584664ff07a314926cb6008bdb4a = addy25b4584664ff07a314926cb6008bdb4a + 'w&
 #97;ndl&#101;ys' + '&#46;' + '&#117;k';
				var addy_text25b4584664ff07a314
 926cb6008bdb4a = 'h&#97;m&#105;sh' + '&#64;' + 'w&#97;ndl&#101;ys' + '&#46;
 ' + '&#117;k';document.getElementById('cloak25b4584664ff07a314926cb6008bdb4
 a').innerHTML += '<a ' + path + '\'' + prefix + ':' + addy25b4584664ff07a31
 4926cb6008bdb4a + '\'>'+addy_text25b4584664ff07a314926cb6008bdb4a+'';
		 st
 ating which of the focus groups you would like to join. Information regardi
 ng logging into Zoom and the Ringing Rooms will be supplied to those wishin
 g to attend.\n[ Download Poster (/images/jevents/handbell_poster_2021_03.pd
 f) ]\n This event was imported from: https://www.scacr.org/news-events/cale
 ndar/793/change-ringing-handbell-morning?tmpl=component (https://www.scacr.
 org/news-events/calendar/793/change-ringing-handbell-morning?tmpl=component
 )
X-ALT-DESC;FMTTYPE=text/html:<p>following-on from the successful Handbell morning on <a href="https://ww
 w.scacr.org/index.php?option=com_content&amp;view=article&amp;id=448:handbe
 ll-morning-report-jan-2021&amp;catid=15">30th January</a>, another event wi
 ll be held on 27th March&nbsp;2021.</p><p>This event is open to all, especi
 ally:</p><ul><li>Handbell groups in Sussex and near by</li><li>Those who en
 joy change ringing on handbells but do not have a regular practice</li><li>
 Those who want to have a go</li></ul><p>If you are not used to the technolo
 gy, there will be a familiarization session from 9.45am to 12.30pm<br />Sat
 urday 23 rd January 2021.</p><p>On the day, there will be three focus group
 s:</p><ul><li>Plain hunting to Plain Bob</li><li>Plain Bob to Treble Bob</l
 i><li>Beyond Treble Bob</li></ul><p>If you are not used to the technology, 
 please contact Hamish and he will arrange a familiarization session.</p><p>
 If you would like to join in please email Hamish McNaughton at <span id="cl
 oak25b4584664ff07a314926cb6008bdb4a">This email address is being protected 
 from spambots. You need JavaScript enabled to view it.</span><script type='
 text/javascript'>
				document.getElementById('cloak25b4584664ff07a314926cb
 6008bdb4a').innerHTML = '';
				var prefix = '&#109;a' + 'i&#108;' + '&#116
 ;o';
				var path = 'hr' + 'ef' + '=';
				var addy25b4584664ff07a314926cb6
 008bdb4a = 'h&#97;m&#105;sh' + '&#64;';
				addy25b4584664ff07a314926cb6008
 bdb4a = addy25b4584664ff07a314926cb6008bdb4a + 'w&#97;ndl&#101;ys' + '&#46;
 ' + '&#117;k';
				var addy_text25b4584664ff07a314926cb6008bdb4a = 'h&#97;m
 &#105;sh' + '&#64;' + 'w&#97;ndl&#101;ys' + '&#46;' + '&#117;k';document.ge
 tElementById('cloak25b4584664ff07a314926cb6008bdb4a').innerHTML += '<a ' + 
 path + '\'' + prefix + ':' + addy25b4584664ff07a314926cb6008bdb4a + '\'>'+a
 ddy_text25b4584664ff07a314926cb6008bdb4a+'<\/a>';
		</script> stating which
  of the focus groups you would like to join. Information regarding logging 
 into Zoom and the Ringing Rooms will be supplied to those wishing to attend
 .</p><p>[ <a href="https://www.scacr.org/images/jevents/handbell_poster_202
 1_03.pdf">Download Poster</a> ]</p> <a href="https://www.scacr.org/news-eve
 nts/calendar/793/change-ringing-handbell-morning?tmpl=component">This event
  was imported from: https://www.scacr.org/news-events/calendar/793/change-r
 inging-handbell-morning?tmpl=component</a>CONTACT:This email address is being protected from spambots. You need JavaScript enabled to view it.
				document.getElementById('cloak1eb535365a5d28ab51dc8877671d35a5').innerHTML = '';
				var prefix = '&#109;a' + 'i&#108;' + '&#116;o';
				var path = 'hr' + 'ef' + '=';
				var addy1eb535365a5d28ab51dc8877671d35a5 = 'h&#97;m&#105;sh' + '&#64;';
				addy1eb535365a5d28ab51dc8877671d35a5 = addy1eb535365a5d28ab51dc8877671d35a5 + 'w&#97;ndl&#101;ys' + '&#46;' + '&#117;k';
				var addy_text1eb535365a5d28ab51dc8877671d35a5 = 'h&#97;m&#105;sh' + '&#64;' + 'w&#97;ndl&#101;ys' + '&#46;' + '&#117;k';document.getElementById('cloak1eb535365a5d28ab51dc8877671d35a5').innerHTML += '<a ' + path + '\'' + prefix + ':' + addy1eb535365a5d28ab51dc8877671d35a5 + '\'>'+addy_text1eb535365a5d28ab51dc8877671d35a5+'';
		
DTSTAMP:20260421T004118
DTSTART;TZID=Europe/London:20210327T094500
DTEND;TZID=Europe/London:20210327T124000
SEQUENCE:0
TRANSP:OPAQUE
END:VEVENT
END:VCALENDAR