BEGIN:VCALENDAR
VERSION:2.0
PRODID:-//jEvents 2.0 for Joomla//EN
CALSCALE:GREGORIAN
METHOD:PUBLISH
BEGIN:VTIMEZONE
TZID:Europe/London
BEGIN:STANDARD
DTSTART:20200227T193000
RDATE:20200329T020000
TZOFFSETFROM:+0100
TZOFFSETTO:+0000
TZNAME:Europe/London GMT
END:STANDARD
BEGIN:STANDARD
DTSTART:20201025T010000
RDATE:20210328T020000
TZOFFSETFROM:+0100
TZOFFSETTO:+0000
TZNAME:Europe/London GMT
END:STANDARD
BEGIN:STANDARD
DTSTART:20211031T010000
RDATE:20220327T020000
TZOFFSETFROM:+0100
TZOFFSETTO:+0000
TZNAME:Europe/London GMT
END:STANDARD
BEGIN:STANDARD
DTSTART:20221030T010000
RDATE:20230326T020000
TZOFFSETFROM:+0100
TZOFFSETTO:+0000
TZNAME:Europe/London GMT
END:STANDARD
BEGIN:STANDARD
DTSTART:20231029T010000
RDATE:20240331T020000
TZOFFSETFROM:+0100
TZOFFSETTO:+0000
TZNAME:Europe/London GMT
END:STANDARD
BEGIN:STANDARD
DTSTART:20241027T010000
RDATE:20250330T020000
TZOFFSETFROM:+0100
TZOFFSETTO:+0000
TZNAME:Europe/London GMT
END:STANDARD
BEGIN:STANDARD
DTSTART:20251026T010000
RDATE:20260329T020000
TZOFFSETFROM:+0100
TZOFFSETTO:+0000
TZNAME:Europe/London GMT
END:STANDARD
BEGIN:STANDARD
DTSTART:20261025T010000
RDATE:20270328T020000
TZOFFSETFROM:+0100
TZOFFSETTO:+0000
TZNAME:Europe/London GMT
END:STANDARD
BEGIN:STANDARD
DTSTART:20271031T010000
RDATE:20280326T020000
TZOFFSETFROM:+0100
TZOFFSETTO:+0000
TZNAME:Europe/London GMT
END:STANDARD
BEGIN:STANDARD
DTSTART:20281029T010000
RDATE:20290325T020000
TZOFFSETFROM:+0100
TZOFFSETTO:+0000
TZNAME:Europe/London GMT
END:STANDARD
BEGIN:STANDARD
DTSTART:20291028T010000
RDATE:20300331T020000
TZOFFSETFROM:+0100
TZOFFSETTO:+0000
TZNAME:Europe/London GMT
END:STANDARD
BEGIN:STANDARD
DTSTART:20301027T010000
RDATE:20310330T020000
TZOFFSETFROM:+0100
TZOFFSETTO:+0000
TZNAME:Europe/London GMT
END:STANDARD
BEGIN:DAYLIGHT
DTSTART:20200329T020000
RDATE:20201025T010000
TZOFFSETFROM:+0000
TZOFFSETTO:+0100
TZNAME:Europe/London BST
END:DAYLIGHT
BEGIN:DAYLIGHT
DTSTART:20210328T020000
RDATE:20211031T010000
TZOFFSETFROM:+0000
TZOFFSETTO:+0100
TZNAME:Europe/London BST
END:DAYLIGHT
BEGIN:DAYLIGHT
DTSTART:20220327T020000
RDATE:20221030T010000
TZOFFSETFROM:+0000
TZOFFSETTO:+0100
TZNAME:Europe/London BST
END:DAYLIGHT
BEGIN:DAYLIGHT
DTSTART:20230326T020000
RDATE:20231029T010000
TZOFFSETFROM:+0000
TZOFFSETTO:+0100
TZNAME:Europe/London BST
END:DAYLIGHT
BEGIN:DAYLIGHT
DTSTART:20240331T020000
RDATE:20241027T010000
TZOFFSETFROM:+0000
TZOFFSETTO:+0100
TZNAME:Europe/London BST
END:DAYLIGHT
BEGIN:DAYLIGHT
DTSTART:20250330T020000
RDATE:20251026T010000
TZOFFSETFROM:+0000
TZOFFSETTO:+0100
TZNAME:Europe/London BST
END:DAYLIGHT
BEGIN:DAYLIGHT
DTSTART:20260329T020000
RDATE:20261025T010000
TZOFFSETFROM:+0000
TZOFFSETTO:+0100
TZNAME:Europe/London BST
END:DAYLIGHT
BEGIN:DAYLIGHT
DTSTART:20270328T020000
RDATE:20271031T010000
TZOFFSETFROM:+0000
TZOFFSETTO:+0100
TZNAME:Europe/London BST
END:DAYLIGHT
BEGIN:DAYLIGHT
DTSTART:20280326T020000
RDATE:20281029T010000
TZOFFSETFROM:+0000
TZOFFSETTO:+0100
TZNAME:Europe/London BST
END:DAYLIGHT
BEGIN:DAYLIGHT
DTSTART:20290325T020000
RDATE:20291028T010000
TZOFFSETFROM:+0000
TZOFFSETTO:+0100
TZNAME:Europe/London BST
END:DAYLIGHT
BEGIN:DAYLIGHT
DTSTART:20300331T020000
RDATE:20301027T010000
TZOFFSETFROM:+0000
TZOFFSETTO:+0100
TZNAME:Europe/London BST
END:DAYLIGHT
END:VTIMEZONE
BEGIN:VEVENT
UID:808f8f8c2f630d283ee7b9e11f26f31b
CATEGORIES:West
CREATED:20210128T205340
SUMMARY:Zoom Quiz
LOCATION:Zoom
URL;VALUE=URI:https://www.scacr.org/news-events/calendar/789/zoom-quiz?tmpl=component
DESCRIPTION:<p>A virtual Quiz for fun with questions by the Worthing Ringers.&nbsp; All
  welcome.</p><p>Contact Moya (<span id="cloak468fb7f9cf44c823b7890dc6903549
 83">This email address is being protected from spambots. You need JavaScrip
 t enabled to view it.</span><script type='text/javascript'>
				document.ge
 tElementById('cloak468fb7f9cf44c823b7890dc690354983').innerHTML = '';
				v
 ar prefix = '&#109;a' + 'i&#108;' + '&#116;o';
				var path = 'hr' + 'ef' +
  '=';
				var addy468fb7f9cf44c823b7890dc690354983 = 's&#101;c-w&#101;st' +
  '&#64;';
				addy468fb7f9cf44c823b7890dc690354983 = addy468fb7f9cf44c823b7
 890dc690354983 + 'sc&#97;cr' + '&#46;' + '&#111;rg';
				var addy_text468fb
 7f9cf44c823b7890dc690354983 = 's&#101;c-w&#101;st' + '&#64;' + 'sc&#97;cr' 
 + '&#46;' + '&#111;rg';document.getElementById('cloak468fb7f9cf44c823b7890d
 c690354983').innerHTML += '<a ' + path + '\'' + prefix + ':' + addy468fb7f9
 cf44c823b7890dc690354983 + '\'>'+addy_text468fb7f9cf44c823b7890dc690354983+
 '<\/a>';
		</script>) to register your interest and be sent the log in deta
 ils during the week before.</p><p>&nbsp;&nbsp;</p> <a href="https://www.sca
 cr.org/news-events/calendar/789/zoom-quiz?tmpl=component">This event was im
 ported from: https://www.scacr.org/news-events/calendar/789/zoom-quiz?tmpl=
 component</a>CONTACT:Moya - This email address is being protected from spambots. You need JavaScript enabled to view it.
				document.getElementById('cloakd869bbd3062e448dd1372c5657e82618').innerHTML = '';
				var prefix = '&#109;a' + 'i&#108;' + '&#116;o';
				var path = 'hr' + 'ef' + '=';
				var addyd869bbd3062e448dd1372c5657e82618 = 's&#101;c-w&#101;st' + '&#64;';
				addyd869bbd3062e448dd1372c5657e82618 = addyd869bbd3062e448dd1372c5657e82618 + 'sc&#97;cr' + '&#46;' + '&#111;rg';
				var addy_textd869bbd3062e448dd1372c5657e82618 = 's&#101;c-w&#101;st' + '&#64;' + 'sc&#97;cr' + '&#46;' + '&#111;rg';document.getElementById('cloakd869bbd3062e448dd1372c5657e82618').innerHTML += '<a ' + path + '\'' + prefix + ':' + addyd869bbd3062e448dd1372c5657e82618 + '\'>'+addy_textd869bbd3062e448dd1372c5657e82618+'';
		 
DTSTAMP:20260422T090653
DTSTART;TZID=Europe/London:20210227T193000
DTEND;TZID=Europe/London:20210227T213000
SEQUENCE:0
TRANSP:OPAQUE
END:VEVENT
END:VCALENDAR