BEGIN:VCALENDAR
VERSION:2.0
PRODID:-//jEvents 2.0 for Joomla//EN
CALSCALE:GREGORIAN
METHOD:PUBLISH
BEGIN:VTIMEZONE
TZID:Europe/London
BEGIN:STANDARD
DTSTART:20191027T010000
RDATE:20200329T020000
TZOFFSETFROM:+0100
TZOFFSETTO:+0000
TZNAME:Europe/London GMT
END:STANDARD
BEGIN:STANDARD
DTSTART:20201025T010000
RDATE:20210328T020000
TZOFFSETFROM:+0100
TZOFFSETTO:+0000
TZNAME:Europe/London GMT
END:STANDARD
BEGIN:STANDARD
DTSTART:20211031T010000
RDATE:20220327T020000
TZOFFSETFROM:+0100
TZOFFSETTO:+0000
TZNAME:Europe/London GMT
END:STANDARD
BEGIN:STANDARD
DTSTART:20221030T010000
RDATE:20230326T020000
TZOFFSETFROM:+0100
TZOFFSETTO:+0000
TZNAME:Europe/London GMT
END:STANDARD
BEGIN:STANDARD
DTSTART:20231029T010000
RDATE:20240331T020000
TZOFFSETFROM:+0100
TZOFFSETTO:+0000
TZNAME:Europe/London GMT
END:STANDARD
BEGIN:STANDARD
DTSTART:20241027T010000
RDATE:20250330T020000
TZOFFSETFROM:+0100
TZOFFSETTO:+0000
TZNAME:Europe/London GMT
END:STANDARD
BEGIN:STANDARD
DTSTART:20251026T010000
RDATE:20260329T020000
TZOFFSETFROM:+0100
TZOFFSETTO:+0000
TZNAME:Europe/London GMT
END:STANDARD
BEGIN:STANDARD
DTSTART:20261025T010000
RDATE:20270328T020000
TZOFFSETFROM:+0100
TZOFFSETTO:+0000
TZNAME:Europe/London GMT
END:STANDARD
BEGIN:STANDARD
DTSTART:20271031T010000
RDATE:20280326T020000
TZOFFSETFROM:+0100
TZOFFSETTO:+0000
TZNAME:Europe/London GMT
END:STANDARD
BEGIN:STANDARD
DTSTART:20281029T010000
RDATE:20290325T020000
TZOFFSETFROM:+0100
TZOFFSETTO:+0000
TZNAME:Europe/London GMT
END:STANDARD
BEGIN:STANDARD
DTSTART:20291028T010000
RDATE:20300331T020000
TZOFFSETFROM:+0100
TZOFFSETTO:+0000
TZNAME:Europe/London GMT
END:STANDARD
BEGIN:STANDARD
DTSTART:20301027T010000
RDATE:20310330T020000
TZOFFSETFROM:+0100
TZOFFSETTO:+0000
TZNAME:Europe/London GMT
END:STANDARD
BEGIN:DAYLIGHT
DTSTART:20190801T163000
RDATE:20191027T010000
TZOFFSETFROM:+0000
TZOFFSETTO:+0100
TZNAME:Europe/London BST
END:DAYLIGHT
BEGIN:DAYLIGHT
DTSTART:20200329T020000
RDATE:20201025T010000
TZOFFSETFROM:+0000
TZOFFSETTO:+0100
TZNAME:Europe/London BST
END:DAYLIGHT
BEGIN:DAYLIGHT
DTSTART:20210328T020000
RDATE:20211031T010000
TZOFFSETFROM:+0000
TZOFFSETTO:+0100
TZNAME:Europe/London BST
END:DAYLIGHT
BEGIN:DAYLIGHT
DTSTART:20220327T020000
RDATE:20221030T010000
TZOFFSETFROM:+0000
TZOFFSETTO:+0100
TZNAME:Europe/London BST
END:DAYLIGHT
BEGIN:DAYLIGHT
DTSTART:20230326T020000
RDATE:20231029T010000
TZOFFSETFROM:+0000
TZOFFSETTO:+0100
TZNAME:Europe/London BST
END:DAYLIGHT
BEGIN:DAYLIGHT
DTSTART:20240331T020000
RDATE:20241027T010000
TZOFFSETFROM:+0000
TZOFFSETTO:+0100
TZNAME:Europe/London BST
END:DAYLIGHT
BEGIN:DAYLIGHT
DTSTART:20250330T020000
RDATE:20251026T010000
TZOFFSETFROM:+0000
TZOFFSETTO:+0100
TZNAME:Europe/London BST
END:DAYLIGHT
BEGIN:DAYLIGHT
DTSTART:20260329T020000
RDATE:20261025T010000
TZOFFSETFROM:+0000
TZOFFSETTO:+0100
TZNAME:Europe/London BST
END:DAYLIGHT
BEGIN:DAYLIGHT
DTSTART:20270328T020000
RDATE:20271031T010000
TZOFFSETFROM:+0000
TZOFFSETTO:+0100
TZNAME:Europe/London BST
END:DAYLIGHT
BEGIN:DAYLIGHT
DTSTART:20280326T020000
RDATE:20281029T010000
TZOFFSETFROM:+0000
TZOFFSETTO:+0100
TZNAME:Europe/London BST
END:DAYLIGHT
BEGIN:DAYLIGHT
DTSTART:20290325T020000
RDATE:20291028T010000
TZOFFSETFROM:+0000
TZOFFSETTO:+0100
TZNAME:Europe/London BST
END:DAYLIGHT
BEGIN:DAYLIGHT
DTSTART:20300331T020000
RDATE:20301027T010000
TZOFFSETFROM:+0000
TZOFFSETTO:+0100
TZNAME:Europe/London BST
END:DAYLIGHT
END:VTIMEZONE
BEGIN:VEVENT
UID:e819d9231274d6aa655b73f9a5538cb0
CATEGORIES:North
CREATED:20200721T215503
SUMMARY:Virtual Saturday Gathering
LOCATION:Zoom
URL;VALUE=URI:https://www.scacr.org/news-events/calendar/756/virtual-saturday-gathering?t
 mpl=component
DESCRIPTION:<p>Join us for a virtual Saturday Gathering (via Zoom)! Meet online to have
  a chat with people from across the District, find out what everyone's been
  getting up to during lockdown, and discuss ideas for things we can do toge
 ther while "normal" ringing isn't possible.&nbsp; Bring your own coffee and
  cake!&nbsp; ALL WELCOME :-)</p><p><strong>You need to register in advance 
 for this event - the joining instructions will be emailed to you after you 
 register. To register, contact Steph via <span id="cloaka35bac141d797b91026
 c9bb988d4196d">This email address is being protected from spambots. You nee
 d JavaScript enabled to view it.</span><script type='text/javascript'>
				
 document.getElementById('cloaka35bac141d797b91026c9bb988d4196d').innerHTML 
 = '';
				var prefix = '&#109;a' + 'i&#108;' + '&#116;o';
				var path = 'h
 r' + 'ef' + '=';
				var addya35bac141d797b91026c9bb988d4196d = 's&#101;c-n
 &#111;rth' + '&#64;';
				addya35bac141d797b91026c9bb988d4196d = addya35bac
 141d797b91026c9bb988d4196d + 'sc&#97;cr' + '&#46;' + '&#111;rg';
				var ad
 dy_texta35bac141d797b91026c9bb988d4196d = 's&#101;c-n&#111;rth' + '&#64;' +
  'sc&#97;cr' + '&#46;' + '&#111;rg';document.getElementById('cloaka35bac141
 d797b91026c9bb988d4196d').innerHTML += '<a ' + path + '\'' + prefix + ':' +
  addya35bac141d797b91026c9bb988d4196d + '\'>'+addy_texta35bac141d797b91026c
 9bb988d4196d+'<\/a>';
		</script>&nbsp;with the names of who would like to 
 attend, and where you usually ring, by Friday 31st July.</strong></p><p>The
  Zoom app for mobile devices can be downloaded for free from the Google Pla
 y Store for Android or App Store for Apple devices ("ZOOM Cloud Meetings").
  For computers, download the application for for free online from&nbsp;<a h
 ref="https://zoom.us/signup"></a><a href="https://zoom.us/signup"></a><a hr
 ef="https://zoom.us/signup">https://zoom.us/signup</a>&nbsp;(you will need 
 to create an account first).&nbsp; Alternatively, from a computer you can u
 se the Zoom web client in your internet browser.&nbsp;&nbsp;</p> <a href="h
 ttps://www.scacr.org/news-events/calendar/756/virtual-saturday-gathering?tm
 pl=component">This event was imported from: https://www.scacr.org/news-even
 ts/calendar/756/virtual-saturday-gathering?tmpl=component</a>CONTACT:This email address is being protected from spambots. You need JavaScript enabled to view it.
				document.getElementById('cloak1f19f97eb90acd670ed3f3d9fe5d2da7').innerHTML = '';
				var prefix = '&#109;a' + 'i&#108;' + '&#116;o';
				var path = 'hr' + 'ef' + '=';
				var addy1f19f97eb90acd670ed3f3d9fe5d2da7 = 's&#101;c-n&#111;rth' + '&#64;';
				addy1f19f97eb90acd670ed3f3d9fe5d2da7 = addy1f19f97eb90acd670ed3f3d9fe5d2da7 + 'sc&#97;cr' + '&#46;' + '&#111;rg';
				var addy_text1f19f97eb90acd670ed3f3d9fe5d2da7 = 's&#101;c-n&#111;rth' + '&#64;' + 'sc&#97;cr' + '&#46;' + '&#111;rg';document.getElementById('cloak1f19f97eb90acd670ed3f3d9fe5d2da7').innerHTML += '<a ' + path + '\'' + prefix + ':' + addy1f19f97eb90acd670ed3f3d9fe5d2da7 + '\'>'+addy_text1f19f97eb90acd670ed3f3d9fe5d2da7+'';
		
DTSTAMP:20260422T095958
DTSTART;TZID=Europe/London:20200801T163000
DTEND;TZID=Europe/London:20200801T180000
SEQUENCE:0
TRANSP:OPAQUE
END:VEVENT
END:VCALENDAR