BEGIN:VCALENDAR
VERSION:2.0
PRODID:-//jEvents 2.0 for Joomla//EN
CALSCALE:GREGORIAN
METHOD:PUBLISH
BEGIN:VTIMEZONE
TZID:Europe/London
BEGIN:STANDARD
DTSTART:20191027T010000
RDATE:20200329T020000
TZOFFSETFROM:+0100
TZOFFSETTO:+0000
TZNAME:Europe/London GMT
END:STANDARD
BEGIN:STANDARD
DTSTART:20201025T010000
RDATE:20210328T020000
TZOFFSETFROM:+0100
TZOFFSETTO:+0000
TZNAME:Europe/London GMT
END:STANDARD
BEGIN:STANDARD
DTSTART:20211031T010000
RDATE:20220327T020000
TZOFFSETFROM:+0100
TZOFFSETTO:+0000
TZNAME:Europe/London GMT
END:STANDARD
BEGIN:STANDARD
DTSTART:20221030T010000
RDATE:20230326T020000
TZOFFSETFROM:+0100
TZOFFSETTO:+0000
TZNAME:Europe/London GMT
END:STANDARD
BEGIN:STANDARD
DTSTART:20231029T010000
RDATE:20240331T020000
TZOFFSETFROM:+0100
TZOFFSETTO:+0000
TZNAME:Europe/London GMT
END:STANDARD
BEGIN:STANDARD
DTSTART:20241027T010000
RDATE:20250330T020000
TZOFFSETFROM:+0100
TZOFFSETTO:+0000
TZNAME:Europe/London GMT
END:STANDARD
BEGIN:STANDARD
DTSTART:20251026T010000
RDATE:20260329T020000
TZOFFSETFROM:+0100
TZOFFSETTO:+0000
TZNAME:Europe/London GMT
END:STANDARD
BEGIN:STANDARD
DTSTART:20261025T010000
RDATE:20270328T020000
TZOFFSETFROM:+0100
TZOFFSETTO:+0000
TZNAME:Europe/London GMT
END:STANDARD
BEGIN:STANDARD
DTSTART:20271031T010000
RDATE:20280326T020000
TZOFFSETFROM:+0100
TZOFFSETTO:+0000
TZNAME:Europe/London GMT
END:STANDARD
BEGIN:STANDARD
DTSTART:20281029T010000
RDATE:20290325T020000
TZOFFSETFROM:+0100
TZOFFSETTO:+0000
TZNAME:Europe/London GMT
END:STANDARD
BEGIN:STANDARD
DTSTART:20291028T010000
RDATE:20300331T020000
TZOFFSETFROM:+0100
TZOFFSETTO:+0000
TZNAME:Europe/London GMT
END:STANDARD
BEGIN:STANDARD
DTSTART:20301027T010000
RDATE:20310330T020000
TZOFFSETFROM:+0100
TZOFFSETTO:+0000
TZNAME:Europe/London GMT
END:STANDARD
BEGIN:DAYLIGHT
DTSTART:20190808T190000
RDATE:20191027T010000
TZOFFSETFROM:+0000
TZOFFSETTO:+0100
TZNAME:Europe/London BST
END:DAYLIGHT
BEGIN:DAYLIGHT
DTSTART:20200329T020000
RDATE:20201025T010000
TZOFFSETFROM:+0000
TZOFFSETTO:+0100
TZNAME:Europe/London BST
END:DAYLIGHT
BEGIN:DAYLIGHT
DTSTART:20210328T020000
RDATE:20211031T010000
TZOFFSETFROM:+0000
TZOFFSETTO:+0100
TZNAME:Europe/London BST
END:DAYLIGHT
BEGIN:DAYLIGHT
DTSTART:20220327T020000
RDATE:20221030T010000
TZOFFSETFROM:+0000
TZOFFSETTO:+0100
TZNAME:Europe/London BST
END:DAYLIGHT
BEGIN:DAYLIGHT
DTSTART:20230326T020000
RDATE:20231029T010000
TZOFFSETFROM:+0000
TZOFFSETTO:+0100
TZNAME:Europe/London BST
END:DAYLIGHT
BEGIN:DAYLIGHT
DTSTART:20240331T020000
RDATE:20241027T010000
TZOFFSETFROM:+0000
TZOFFSETTO:+0100
TZNAME:Europe/London BST
END:DAYLIGHT
BEGIN:DAYLIGHT
DTSTART:20250330T020000
RDATE:20251026T010000
TZOFFSETFROM:+0000
TZOFFSETTO:+0100
TZNAME:Europe/London BST
END:DAYLIGHT
BEGIN:DAYLIGHT
DTSTART:20260329T020000
RDATE:20261025T010000
TZOFFSETFROM:+0000
TZOFFSETTO:+0100
TZNAME:Europe/London BST
END:DAYLIGHT
BEGIN:DAYLIGHT
DTSTART:20270328T020000
RDATE:20271031T010000
TZOFFSETFROM:+0000
TZOFFSETTO:+0100
TZNAME:Europe/London BST
END:DAYLIGHT
BEGIN:DAYLIGHT
DTSTART:20280326T020000
RDATE:20281029T010000
TZOFFSETFROM:+0000
TZOFFSETTO:+0100
TZNAME:Europe/London BST
END:DAYLIGHT
BEGIN:DAYLIGHT
DTSTART:20290325T020000
RDATE:20291028T010000
TZOFFSETFROM:+0000
TZOFFSETTO:+0100
TZNAME:Europe/London BST
END:DAYLIGHT
BEGIN:DAYLIGHT
DTSTART:20300331T020000
RDATE:20301027T010000
TZOFFSETFROM:+0000
TZOFFSETTO:+0100
TZNAME:Europe/London BST
END:DAYLIGHT
END:VTIMEZONE
BEGIN:VEVENT
UID:6fb6ca9eeffcbac4211eededde82b4ba
CATEGORIES:Association Event
CREATED:20200719T173413
SUMMARY:Quiz
LOCATION:Online
URL;VALUE=URI:https://www.scacr.org/news-events/calendar/753/quiz?tmpl=component
DESCRIPTION:<div>The not-quite-annual&nbsp;<strong>Association Quiz</strong>&nbsp;will 
 be held at&nbsp;<strong>7 pm on Saturday 8th August</strong>. Team entry is
  encouraged - friends and family are welcome to join;&nbsp;<strong>up to 8<
 /strong> in a team&nbsp;(you can also enter as an individual). Quiz Mistres
 s Emma Gadd will present the questions using Zoom (an online video-meeting 
 platform - can be downloaded for free, to use on computers, tablets and sma
 rtphones).&nbsp;See below for a how-to guide for distributed team participa
 tion! We aim to finish about 9 pm, and there will be a break at halfway.</d
 iv><div>&nbsp;</div><div><strong>You MUST register in advance to join - con
 tact <span id="cloakeb8de4fc3e1e4f4691b12ab133b56609">This email address is
  being protected from spambots. You need JavaScript enabled to view it.</sp
 an><script type='text/javascript'>
				document.getElementById('cloakeb8de4
 fc3e1e4f4691b12ab133b56609').innerHTML = '';
				var prefix = '&#109;a' + '
 i&#108;' + '&#116;o';
				var path = 'hr' + 'ef' + '=';
				var addyeb8de4f
 c3e1e4f4691b12ab133b56609 = 's&#101;c-n&#111;rth' + '&#64;';
				addyeb8de4
 fc3e1e4f4691b12ab133b56609 = addyeb8de4fc3e1e4f4691b12ab133b56609 + 'sc&#97
 ;cr' + '&#46;' + '&#111;rg';
				var addy_texteb8de4fc3e1e4f4691b12ab133b56
 609 = 's&#101;c-n&#111;rth' + '&#64;' + 'sc&#97;cr' + '&#46;' + '&#111;rg';
 document.getElementById('cloakeb8de4fc3e1e4f4691b12ab133b56609').innerHTML 
 += '<a ' + path + '\'' + prefix + ':' + addyeb8de4fc3e1e4f4691b12ab133b5660
 9 + '\'>'+addy_texteb8de4fc3e1e4f4691b12ab133b56609+'<\/a>';
		</script></s
 trong>&nbsp;by 5 pm on 8th August (earlier is better!), then the link to jo
 in the Quiz will be sent to you.</div><div>&nbsp;</div><div>The Zoom app fo
 r mobile devices can be downloaded for free from the Google Play Store for 
 Android or App Store for Apple devices ("ZOOM Cloud Meetings"). For compute
 rs, download the application for for free online from&nbsp;<a href="https:/
 /zoom.us/signup"></a><a href="https://zoom.us/signup">https://zoom.us/signu
 p</a>&nbsp;(you will need to create an account first).&nbsp; Alternatively,
  from a computer you can use the Zoom web client in your internet browser.&
 nbsp;&nbsp;</div><div>&nbsp;</div><div><span style="text-decoration: underl
 ine;"><strong>Guide to Zoom Quiz and Managing a Remote Team</strong></span>
 </div><div><a href="images/jevents/scacr_quiz_-_guide_to_using_zoom.pdf">Fu
 ll Guide available to download</a>.&nbsp; Here's a summary:</div><div>&nbsp
 ;</div><div><em><strong>Joining the Zoom Quiz</strong></em><br />To join a 
 meeting, you can either click on the link in an email invitation, or use a 
 meeting ID number. You are not required to already have a Zoom account to b
 e able to join a Zoom meeting.&nbsp;If you would like to familiarise yourse
 lf with Zoom before the quiz, then you can join a test meeting here: <a hre
 f="https://zoom.us/test">https://zoom.us/test</a></div><div>&nbsp;</div><di
 v><p><em><strong>Joining as a Team<br /></strong></em>If you would like to 
 join the quiz as part of a team, then there are three main ways to do this:
 </p><ul><li>Form a team with people in your household<ul><li>Join the Zoom 
 meeting with one computer between your team</li><li>You could label your vi
 deo with your team name</li></ul></li><li>Form a team over texting/messagin
 g<ul><li>Set up a group chat (e.g. whatsapp, facebook messenger) with all t
 eam members, and discuss answers via text</li><li>All team members join the
  Zoom meeting separately to hear the questions, and can then confer over te
 xt</li></ul></li><li>Form a team via a second video chat (possibly for the 
 slightly more computer literate!)<ul><li>Set up a private Zoom call with yo
 ur team members prior to joining the quiz</li><li>The team member hosting t
 he private Zoom call joins the Quiz Zoom and then shares their screen with 
 the other team members</li></ul></li></ul>All team members should then be a
 ble to see the Quiz Zoom, and can discuss answers over video.</div><div>&nb
 sp;</div><div><em><strong>FAQs</strong></em></div><div><p><em>Do I need a Z
 oom account to join the quiz?</em><br /> You do not need an account to join
  a zoom meeting, as long as you have either the meeting link, or the meetin
 g ID and passcode.</p><p><em>Can I join without video?</em><br /> You don’t
  need to have a webcam or video enabled to take part in the quiz. The most 
 important feature is that you have to have a speaker to ensure you can hear
  the audio (and questions!).</p><p><em>Can I mute and unmute myself?</em><b
 r /> When you join the call the host will have all participants muted, this
  reduces background noise which can prevent other participants from being a
 ble to hear the host. Please try to ensure you remain on mute when possible
 , especially if discussing the answers!</p><p><em>What do I do if I need to
  ask a question?</em><br /> If you would like to ask a questions please eit
 her use the ‘raise hand’ feature in the participant pop-up, or alternativel
 y use the chat box. One you have the host’s attention you can either unmute
  yourself to ask the question, or type it into the chat box.</p><p><em>Can 
 I join the meeting before the host has joined?</em><br /> You will only be 
 able to join the meeting once the host has joined. You can use the link bef
 ore then, however it will prompt you to wait until the host has started the
  meeting, and then automatically join the meeting once the host has joined.
 </p><p><em>Will the questions be repeated?</em><br /> All of the questions 
 will be read out twice, and will be shown on the screen in case anyone has 
 any audio issues. If you miss a question feel free to ask for it again in t
 he chat box at the end of the round.</p><p><em>Will there be a break during
  the quiz?</em><br /> We will have a break half way through to allow top-up
 s and refreshments.</p><p><em>Who will be keeping score?</em><br /> Everyon
 e will be marking their own answers, and keeping score for their own team.<
 /p></div> <a href="https://www.scacr.org/news-events/calendar/753/quiz?tmpl
 =component">This event was imported from: https://www.scacr.org/news-events
 /calendar/753/quiz?tmpl=component</a>
X-ALT-DESC;FMTTYPE=text/html:<div>The not-quite-annual&nbsp;<strong>Association Quiz</strong>&nbsp;will 
 be held at&nbsp;<strong>7 pm on Saturday 8th August</strong>. Team entry is
  encouraged - friends and family are welcome to join;&nbsp;<strong>up to 8<
 /strong> in a team&nbsp;(you can also enter as an individual). Quiz Mistres
 s Emma Gadd will present the questions using Zoom (an online video-meeting 
 platform - can be downloaded for free, to use on computers, tablets and sma
 rtphones).&nbsp;See below for a how-to guide for distributed team participa
 tion! We aim to finish about 9 pm, and there will be a break at halfway.</d
 iv><div>&nbsp;</div><div><strong>You MUST register in advance to join - con
 tact <span id="cloakeb8de4fc3e1e4f4691b12ab133b56609">This email address is
  being protected from spambots. You need JavaScript enabled to view it.</sp
 an><script type='text/javascript'>
				document.getElementById('cloakeb8de4
 fc3e1e4f4691b12ab133b56609').innerHTML = '';
				var prefix = '&#109;a' + '
 i&#108;' + '&#116;o';
				var path = 'hr' + 'ef' + '=';
				var addyeb8de4f
 c3e1e4f4691b12ab133b56609 = 's&#101;c-n&#111;rth' + '&#64;';
				addyeb8de4
 fc3e1e4f4691b12ab133b56609 = addyeb8de4fc3e1e4f4691b12ab133b56609 + 'sc&#97
 ;cr' + '&#46;' + '&#111;rg';
				var addy_texteb8de4fc3e1e4f4691b12ab133b56
 609 = 's&#101;c-n&#111;rth' + '&#64;' + 'sc&#97;cr' + '&#46;' + '&#111;rg';
 document.getElementById('cloakeb8de4fc3e1e4f4691b12ab133b56609').innerHTML 
 += '<a ' + path + '\'' + prefix + ':' + addyeb8de4fc3e1e4f4691b12ab133b5660
 9 + '\'>'+addy_texteb8de4fc3e1e4f4691b12ab133b56609+'<\/a>';
		</script></s
 trong>&nbsp;by 5 pm on 8th August (earlier is better!), then the link to jo
 in the Quiz will be sent to you.</div><div>&nbsp;</div><div>The Zoom app fo
 r mobile devices can be downloaded for free from the Google Play Store for 
 Android or App Store for Apple devices ("ZOOM Cloud Meetings"). For compute
 rs, download the application for for free online from&nbsp;<a href="https:/
 /zoom.us/signup"></a><a href="https://zoom.us/signup">https://zoom.us/signu
 p</a>&nbsp;(you will need to create an account first).&nbsp; Alternatively,
  from a computer you can use the Zoom web client in your internet browser.&
 nbsp;&nbsp;</div><div>&nbsp;</div><div><span style="text-decoration: underl
 ine;"><strong>Guide to Zoom Quiz and Managing a Remote Team</strong></span>
 </div><div><a href="https://www.scacr.org/images/jevents/scacr_quiz_-_guide
 _to_using_zoom.pdf">Full Guide available to download</a>.&nbsp; Here's a su
 mmary:</div><div>&nbsp;</div><div><em><strong>Joining the Zoom Quiz</strong
 ></em><br />To join a meeting, you can either click on the link in an email
  invitation, or use a meeting ID number. You are not required to already ha
 ve a Zoom account to be able to join a Zoom meeting.&nbsp;If you would like
  to familiarise yourself with Zoom before the quiz, then you can join a tes
 t meeting here: <a href="https://zoom.us/test">https://zoom.us/test</a></di
 v><div>&nbsp;</div><div><p><em><strong>Joining as a Team<br /></strong></em
 >If you would like to join the quiz as part of a team, then there are three
  main ways to do this:</p><ul><li>Form a team with people in your household
 <ul><li>Join the Zoom meeting with one computer between your team</li><li>Y
 ou could label your video with your team name</li></ul></li><li>Form a team
  over texting/messaging<ul><li>Set up a group chat (e.g. whatsapp, facebook
  messenger) with all team members, and discuss answers via text</li><li>All
  team members join the Zoom meeting separately to hear the questions, and c
 an then confer over text</li></ul></li><li>Form a team via a second video c
 hat (possibly for the slightly more computer literate!)<ul><li>Set up a pri
 vate Zoom call with your team members prior to joining the quiz</li><li>The
  team member hosting the private Zoom call joins the Quiz Zoom and then sha
 res their screen with the other team members</li></ul></li></ul>All team me
 mbers should then be able to see the Quiz Zoom, and can discuss answers ove
 r video.</div><div>&nbsp;</div><div><em><strong>FAQs</strong></em></div><di
 v><p><em>Do I need a Zoom account to join the quiz?</em><br /> You do not n
 eed an account to join a zoom meeting, as long as you have either the meeti
 ng link, or the meeting ID and passcode.</p><p><em>Can I join without video
 ?</em><br /> You don’t need to have a webcam or video enabled to take part 
 in the quiz. The most important feature is that you have to have a speaker 
 to ensure you can hear the audio (and questions!).</p><p><em>Can I mute and
  unmute myself?</em><br /> When you join the call the host will have all pa
 rticipants muted, this reduces background noise which can prevent other par
 ticipants from being able to hear the host. Please try to ensure you remain
  on mute when possible, especially if discussing the answers!</p><p><em>Wha
 t do I do if I need to ask a question?</em><br /> If you would like to ask 
 a questions please either use the ‘raise hand’ feature in the participant p
 op-up, or alternatively use the chat box. One you have the host’s attention
  you can either unmute yourself to ask the question, or type it into the ch
 at box.</p><p><em>Can I join the meeting before the host has joined?</em><b
 r /> You will only be able to join the meeting once the host has joined. Yo
 u can use the link before then, however it will prompt you to wait until th
 e host has started the meeting, and then automatically join the meeting onc
 e the host has joined.</p><p><em>Will the questions be repeated?</em><br />
  All of the questions will be read out twice, and will be shown on the scre
 en in case anyone has any audio issues. If you miss a question feel free to
  ask for it again in the chat box at the end of the round.</p><p><em>Will t
 here be a break during the quiz?</em><br /> We will have a break half way t
 hrough to allow top-ups and refreshments.</p><p><em>Who will be keeping sco
 re?</em><br /> Everyone will be marking their own answers, and keeping scor
 e for their own team.</p></div> <a href="https://www.scacr.org/news-events/
 calendar/753/quiz?tmpl=component">This event was imported from: https://www
 .scacr.org/news-events/calendar/753/quiz?tmpl=component</a>CONTACT:This email address is being protected from spambots. You need JavaScript enabled to view it.
				document.getElementById('cloaka04dbb380985d1da07e5e1cef4108fa5').innerHTML = '';
				var prefix = '&#109;a' + 'i&#108;' + '&#116;o';
				var path = 'hr' + 'ef' + '=';
				var addya04dbb380985d1da07e5e1cef4108fa5 = 's&#101;c-n&#111;rth' + '&#64;';
				addya04dbb380985d1da07e5e1cef4108fa5 = addya04dbb380985d1da07e5e1cef4108fa5 + 'sc&#97;cr' + '&#46;' + '&#111;rg';
				var addy_texta04dbb380985d1da07e5e1cef4108fa5 = 's&#101;c-n&#111;rth' + '&#64;' + 'sc&#97;cr' + '&#46;' + '&#111;rg';document.getElementById('cloaka04dbb380985d1da07e5e1cef4108fa5').innerHTML += '<a ' + path + '\'' + prefix + ':' + addya04dbb380985d1da07e5e1cef4108fa5 + '\'>'+addy_texta04dbb380985d1da07e5e1cef4108fa5+'';
		
DTSTAMP:20260422T161158
DTSTART;TZID=Europe/London:20200808T190000
DTEND;TZID=Europe/London:20200808T210000
SEQUENCE:0
TRANSP:OPAQUE
END:VEVENT
END:VCALENDAR