BEGIN:VCALENDAR
VERSION:2.0
PRODID:-//jEvents 2.0 for Joomla//EN
CALSCALE:GREGORIAN
METHOD:PUBLISH
BEGIN:VTIMEZONE
TZID:Europe/London
BEGIN:STANDARD
DTSTART:20190314T170000
RDATE:20190331T020000
TZOFFSETFROM:+0100
TZOFFSETTO:+0000
TZNAME:Europe/London GMT
END:STANDARD
BEGIN:STANDARD
DTSTART:20191027T010000
RDATE:20200329T020000
TZOFFSETFROM:+0100
TZOFFSETTO:+0000
TZNAME:Europe/London GMT
END:STANDARD
BEGIN:STANDARD
DTSTART:20201025T010000
RDATE:20210328T020000
TZOFFSETFROM:+0100
TZOFFSETTO:+0000
TZNAME:Europe/London GMT
END:STANDARD
BEGIN:STANDARD
DTSTART:20211031T010000
RDATE:20220327T020000
TZOFFSETFROM:+0100
TZOFFSETTO:+0000
TZNAME:Europe/London GMT
END:STANDARD
BEGIN:STANDARD
DTSTART:20221030T010000
RDATE:20230326T020000
TZOFFSETFROM:+0100
TZOFFSETTO:+0000
TZNAME:Europe/London GMT
END:STANDARD
BEGIN:STANDARD
DTSTART:20231029T010000
RDATE:20240331T020000
TZOFFSETFROM:+0100
TZOFFSETTO:+0000
TZNAME:Europe/London GMT
END:STANDARD
BEGIN:STANDARD
DTSTART:20241027T010000
RDATE:20250330T020000
TZOFFSETFROM:+0100
TZOFFSETTO:+0000
TZNAME:Europe/London GMT
END:STANDARD
BEGIN:STANDARD
DTSTART:20251026T010000
RDATE:20260329T020000
TZOFFSETFROM:+0100
TZOFFSETTO:+0000
TZNAME:Europe/London GMT
END:STANDARD
BEGIN:STANDARD
DTSTART:20261025T010000
RDATE:20270328T020000
TZOFFSETFROM:+0100
TZOFFSETTO:+0000
TZNAME:Europe/London GMT
END:STANDARD
BEGIN:STANDARD
DTSTART:20271031T010000
RDATE:20280326T020000
TZOFFSETFROM:+0100
TZOFFSETTO:+0000
TZNAME:Europe/London GMT
END:STANDARD
BEGIN:STANDARD
DTSTART:20281029T010000
RDATE:20290325T020000
TZOFFSETFROM:+0100
TZOFFSETTO:+0000
TZNAME:Europe/London GMT
END:STANDARD
BEGIN:STANDARD
DTSTART:20291028T010000
RDATE:20300331T020000
TZOFFSETFROM:+0100
TZOFFSETTO:+0000
TZNAME:Europe/London GMT
END:STANDARD
BEGIN:STANDARD
DTSTART:20301027T010000
RDATE:20310330T020000
TZOFFSETFROM:+0100
TZOFFSETTO:+0000
TZNAME:Europe/London GMT
END:STANDARD
BEGIN:DAYLIGHT
DTSTART:20190331T020000
RDATE:20191027T010000
TZOFFSETFROM:+0000
TZOFFSETTO:+0100
TZNAME:Europe/London BST
END:DAYLIGHT
BEGIN:DAYLIGHT
DTSTART:20200329T020000
RDATE:20201025T010000
TZOFFSETFROM:+0000
TZOFFSETTO:+0100
TZNAME:Europe/London BST
END:DAYLIGHT
BEGIN:DAYLIGHT
DTSTART:20210328T020000
RDATE:20211031T010000
TZOFFSETFROM:+0000
TZOFFSETTO:+0100
TZNAME:Europe/London BST
END:DAYLIGHT
BEGIN:DAYLIGHT
DTSTART:20220327T020000
RDATE:20221030T010000
TZOFFSETFROM:+0000
TZOFFSETTO:+0100
TZNAME:Europe/London BST
END:DAYLIGHT
BEGIN:DAYLIGHT
DTSTART:20230326T020000
RDATE:20231029T010000
TZOFFSETFROM:+0000
TZOFFSETTO:+0100
TZNAME:Europe/London BST
END:DAYLIGHT
BEGIN:DAYLIGHT
DTSTART:20240331T020000
RDATE:20241027T010000
TZOFFSETFROM:+0000
TZOFFSETTO:+0100
TZNAME:Europe/London BST
END:DAYLIGHT
BEGIN:DAYLIGHT
DTSTART:20250330T020000
RDATE:20251026T010000
TZOFFSETFROM:+0000
TZOFFSETTO:+0100
TZNAME:Europe/London BST
END:DAYLIGHT
BEGIN:DAYLIGHT
DTSTART:20260329T020000
RDATE:20261025T010000
TZOFFSETFROM:+0000
TZOFFSETTO:+0100
TZNAME:Europe/London BST
END:DAYLIGHT
BEGIN:DAYLIGHT
DTSTART:20270328T020000
RDATE:20271031T010000
TZOFFSETFROM:+0000
TZOFFSETTO:+0100
TZNAME:Europe/London BST
END:DAYLIGHT
BEGIN:DAYLIGHT
DTSTART:20280326T020000
RDATE:20281029T010000
TZOFFSETFROM:+0000
TZOFFSETTO:+0100
TZNAME:Europe/London BST
END:DAYLIGHT
BEGIN:DAYLIGHT
DTSTART:20290325T020000
RDATE:20291028T010000
TZOFFSETFROM:+0000
TZOFFSETTO:+0100
TZNAME:Europe/London BST
END:DAYLIGHT
BEGIN:DAYLIGHT
DTSTART:20300331T020000
RDATE:20301027T010000
TZOFFSETFROM:+0000
TZOFFSETTO:+0100
TZNAME:Europe/London BST
END:DAYLIGHT
END:VTIMEZONE
BEGIN:VEVENT
UID:c673241f9d1cd71500092306b0912c0a
CATEGORIES:West
CREATED:20191123T170549
SUMMARY:Skittles Evening with Buffet + Ringing at Slindon 5-6pm
LOCATION:Slindon &amp; The Spur\, Slindon
URL;VALUE=URI:https://www.scacr.org/news-events/calendar/696/skittles-evening-with-buffet
 -ringing-at-slindon-5-6pm?tmpl=component
DESCRIPTION:Ringing on newly refurbished Slindon bells (4-bell) from 5pm until 6pm foll
 owed by a Skittles social evening with buffet supper at The Spur, Slindon. 
  Ticket price £13.  Restricted numbers for the skittles so book your place 
 early with Moya (This email address is being protected from spambots. You n
 eed JavaScript enabled to view it.
				document.getElementById('cloakcec703
 dcdbe2cc23b787361d4df2a323').innerHTML = '';
				var prefix = '&#109;a' + '
 i&#108;' + '&#116;o';
				var path = 'hr' + 'ef' + '=';
				var addycec703d
 cdbe2cc23b787361d4df2a323 = 's&#101;c-w&#101;st' + '&#64;';
				addycec703d
 cdbe2cc23b787361d4df2a323 = addycec703dcdbe2cc23b787361d4df2a323 + 'sc&#97;
 cr' + '&#46;' + '&#111;rg';
				var addy_textcec703dcdbe2cc23b787361d4df2a3
 23 = 's&#101;c-w&#101;st' + '&#64;' + 'sc&#97;cr' + '&#46;' + '&#111;rg';do
 cument.getElementById('cloakcec703dcdbe2cc23b787361d4df2a323').innerHTML +=
  '<a ' + path + '\'' + prefix + ':' + addycec703dcdbe2cc23b787361d4df2a323 
 + '\'>'+addy_textcec703dcdbe2cc23b787361d4df2a323+'';
		 or 01903-266980) a
 nd then payment by BACS to SCACR Account.\n \n This event was imported from
 : https://www.scacr.org/news-events/calendar/696/skittles-evening-with-buff
 et-ringing-at-slindon-5-6pm?tmpl=component (https://www.scacr.org/news-even
 ts/calendar/696/skittles-evening-with-buffet-ringing-at-slindon-5-6pm?tmpl=
 component)
X-ALT-DESC;FMTTYPE=text/html:<p>Ringing on newly refurbished Slindon bells (4-bell) from 5pm until 6pm f
 ollowed by a Skittles social evening with buffet supper at The Spur, Slindo
 n.&nbsp; Ticket price £13.&nbsp; Restricted numbers for the skittles so boo
 k your place early with Moya (<span id="cloakcec703dcdbe2cc23b787361d4df2a3
 23">This email address is being protected from spambots. You need JavaScrip
 t enabled to view it.</span><script type='text/javascript'>
				document.ge
 tElementById('cloakcec703dcdbe2cc23b787361d4df2a323').innerHTML = '';
				v
 ar prefix = '&#109;a' + 'i&#108;' + '&#116;o';
				var path = 'hr' + 'ef' +
  '=';
				var addycec703dcdbe2cc23b787361d4df2a323 = 's&#101;c-w&#101;st' +
  '&#64;';
				addycec703dcdbe2cc23b787361d4df2a323 = addycec703dcdbe2cc23b7
 87361d4df2a323 + 'sc&#97;cr' + '&#46;' + '&#111;rg';
				var addy_textcec70
 3dcdbe2cc23b787361d4df2a323 = 's&#101;c-w&#101;st' + '&#64;' + 'sc&#97;cr' 
 + '&#46;' + '&#111;rg';document.getElementById('cloakcec703dcdbe2cc23b78736
 1d4df2a323').innerHTML += '<a ' + path + '\'' + prefix + ':' + addycec703dc
 dbe2cc23b787361d4df2a323 + '\'>'+addy_textcec703dcdbe2cc23b787361d4df2a323+
 '<\/a>';
		</script> or 01903-266980) and then payment by BACS to SCACR Acc
 ount.</p><p>&nbsp;</p> <a href="https://www.scacr.org/news-events/calendar/
 696/skittles-evening-with-buffet-ringing-at-slindon-5-6pm?tmpl=component">T
 his event was imported from: https://www.scacr.org/news-events/calendar/696
 /skittles-evening-with-buffet-ringing-at-slindon-5-6pm?tmpl=component</a>CONTACT:Moya - This email address is being protected from spambots. You need JavaScript enabled to view it.
				document.getElementById('cloak9d56ef5a38a4a682ce16156e16674483').innerHTML = '';
				var prefix = '&#109;a' + 'i&#108;' + '&#116;o';
				var path = 'hr' + 'ef' + '=';
				var addy9d56ef5a38a4a682ce16156e16674483 = 's&#101;c-w&#101;st' + '&#64;';
				addy9d56ef5a38a4a682ce16156e16674483 = addy9d56ef5a38a4a682ce16156e16674483 + 'sc&#97;cr' + '&#46;' + '&#111;rg';
				var addy_text9d56ef5a38a4a682ce16156e16674483 = 's&#101;c-w&#101;st' + '&#64;' + 'sc&#97;cr' + '&#46;' + '&#111;rg';document.getElementById('cloak9d56ef5a38a4a682ce16156e16674483').innerHTML += '<a ' + path + '\'' + prefix + ':' + addy9d56ef5a38a4a682ce16156e16674483 + '\'>'+addy_text9d56ef5a38a4a682ce16156e16674483+'';
		 or 01903-266980
DTSTAMP:20260423T190733
DTSTART;TZID=Europe/London:20200314T170000
DTEND;TZID=Europe/London:20200314T210000
SEQUENCE:0
TRANSP:OPAQUE
END:VEVENT
END:VCALENDAR