BEGIN:VCALENDAR
VERSION:2.0
PRODID:-//jEvents 2.0 for Joomla//EN
CALSCALE:GREGORIAN
METHOD:PUBLISH
BEGIN:VTIMEZONE
TZID:Europe/London
BEGIN:STANDARD
DTSTART:20190228T130000
RDATE:20190331T020000
TZOFFSETFROM:+0100
TZOFFSETTO:+0000
TZNAME:Europe/London GMT
END:STANDARD
BEGIN:STANDARD
DTSTART:20191027T010000
RDATE:20200329T020000
TZOFFSETFROM:+0100
TZOFFSETTO:+0000
TZNAME:Europe/London GMT
END:STANDARD
BEGIN:STANDARD
DTSTART:20201025T010000
RDATE:20210328T020000
TZOFFSETFROM:+0100
TZOFFSETTO:+0000
TZNAME:Europe/London GMT
END:STANDARD
BEGIN:STANDARD
DTSTART:20211031T010000
RDATE:20220327T020000
TZOFFSETFROM:+0100
TZOFFSETTO:+0000
TZNAME:Europe/London GMT
END:STANDARD
BEGIN:STANDARD
DTSTART:20221030T010000
RDATE:20230326T020000
TZOFFSETFROM:+0100
TZOFFSETTO:+0000
TZNAME:Europe/London GMT
END:STANDARD
BEGIN:STANDARD
DTSTART:20231029T010000
RDATE:20240331T020000
TZOFFSETFROM:+0100
TZOFFSETTO:+0000
TZNAME:Europe/London GMT
END:STANDARD
BEGIN:STANDARD
DTSTART:20241027T010000
RDATE:20250330T020000
TZOFFSETFROM:+0100
TZOFFSETTO:+0000
TZNAME:Europe/London GMT
END:STANDARD
BEGIN:STANDARD
DTSTART:20251026T010000
RDATE:20260329T020000
TZOFFSETFROM:+0100
TZOFFSETTO:+0000
TZNAME:Europe/London GMT
END:STANDARD
BEGIN:STANDARD
DTSTART:20261025T010000
RDATE:20270328T020000
TZOFFSETFROM:+0100
TZOFFSETTO:+0000
TZNAME:Europe/London GMT
END:STANDARD
BEGIN:STANDARD
DTSTART:20271031T010000
RDATE:20280326T020000
TZOFFSETFROM:+0100
TZOFFSETTO:+0000
TZNAME:Europe/London GMT
END:STANDARD
BEGIN:STANDARD
DTSTART:20281029T010000
RDATE:20290325T020000
TZOFFSETFROM:+0100
TZOFFSETTO:+0000
TZNAME:Europe/London GMT
END:STANDARD
BEGIN:STANDARD
DTSTART:20291028T010000
RDATE:20300331T020000
TZOFFSETFROM:+0100
TZOFFSETTO:+0000
TZNAME:Europe/London GMT
END:STANDARD
BEGIN:STANDARD
DTSTART:20301027T010000
RDATE:20310330T020000
TZOFFSETFROM:+0100
TZOFFSETTO:+0000
TZNAME:Europe/London GMT
END:STANDARD
BEGIN:DAYLIGHT
DTSTART:20190331T020000
RDATE:20191027T010000
TZOFFSETFROM:+0000
TZOFFSETTO:+0100
TZNAME:Europe/London BST
END:DAYLIGHT
BEGIN:DAYLIGHT
DTSTART:20200329T020000
RDATE:20201025T010000
TZOFFSETFROM:+0000
TZOFFSETTO:+0100
TZNAME:Europe/London BST
END:DAYLIGHT
BEGIN:DAYLIGHT
DTSTART:20210328T020000
RDATE:20211031T010000
TZOFFSETFROM:+0000
TZOFFSETTO:+0100
TZNAME:Europe/London BST
END:DAYLIGHT
BEGIN:DAYLIGHT
DTSTART:20220327T020000
RDATE:20221030T010000
TZOFFSETFROM:+0000
TZOFFSETTO:+0100
TZNAME:Europe/London BST
END:DAYLIGHT
BEGIN:DAYLIGHT
DTSTART:20230326T020000
RDATE:20231029T010000
TZOFFSETFROM:+0000
TZOFFSETTO:+0100
TZNAME:Europe/London BST
END:DAYLIGHT
BEGIN:DAYLIGHT
DTSTART:20240331T020000
RDATE:20241027T010000
TZOFFSETFROM:+0000
TZOFFSETTO:+0100
TZNAME:Europe/London BST
END:DAYLIGHT
BEGIN:DAYLIGHT
DTSTART:20250330T020000
RDATE:20251026T010000
TZOFFSETFROM:+0000
TZOFFSETTO:+0100
TZNAME:Europe/London BST
END:DAYLIGHT
BEGIN:DAYLIGHT
DTSTART:20260329T020000
RDATE:20261025T010000
TZOFFSETFROM:+0000
TZOFFSETTO:+0100
TZNAME:Europe/London BST
END:DAYLIGHT
BEGIN:DAYLIGHT
DTSTART:20270328T020000
RDATE:20271031T010000
TZOFFSETFROM:+0000
TZOFFSETTO:+0100
TZNAME:Europe/London BST
END:DAYLIGHT
BEGIN:DAYLIGHT
DTSTART:20280326T020000
RDATE:20281029T010000
TZOFFSETFROM:+0000
TZOFFSETTO:+0100
TZNAME:Europe/London BST
END:DAYLIGHT
BEGIN:DAYLIGHT
DTSTART:20290325T020000
RDATE:20291028T010000
TZOFFSETFROM:+0000
TZOFFSETTO:+0100
TZNAME:Europe/London BST
END:DAYLIGHT
BEGIN:DAYLIGHT
DTSTART:20300331T020000
RDATE:20301027T010000
TZOFFSETFROM:+0000
TZOFFSETTO:+0100
TZNAME:Europe/London BST
END:DAYLIGHT
END:VTIMEZONE
BEGIN:VEVENT
UID:cd9f1e1daf59b0c946da4ba3294c0609
CATEGORIES:Association Event
CREATED:20191109T152923
SUMMARY:Recruitment and Retention Workshop
LOCATION:Hurstpierpoint Village Centre Hall (TBC)
URL;VALUE=URI:https://www.scacr.org/news-events/calendar/683/recruitment-and-retention-wo
 rkshop?tmpl=component
DESCRIPTION:SCACR will be hosting an afternoon workshop on "Recruitment and Retention",
  developed by the CCCBR in partnership with ART.  This will be an interacti
 ve training event, with facilitated break-out discussion sessions.\nSpaces 
 are limited so booking in advance will be essential - contact This email ad
 dress is being protected from spambots. You need JavaScript enabled to view
  it.
				document.getElementById('cloak732bd6b8ddf5f6f39ce0e1c32db74bd9').i
 nnerHTML = '';
				var prefix = '&#109;a' + 'i&#108;' + '&#116;o';
				var 
 path = 'hr' + 'ef' + '=';
				var addy732bd6b8ddf5f6f39ce0e1c32db74bd9 = 's
 &#101;c-n&#111;rth' + '&#64;';
				addy732bd6b8ddf5f6f39ce0e1c32db74bd9 = a
 ddy732bd6b8ddf5f6f39ce0e1c32db74bd9 + 'sc&#97;cr' + '&#46;' + '&#111;rg';
	
 			var addy_text732bd6b8ddf5f6f39ce0e1c32db74bd9 = 's&#101;c-n&#111;rth' + 
 '&#64;' + 'sc&#97;cr' + '&#46;' + '&#111;rg';document.getElementById('cloak
 732bd6b8ddf5f6f39ce0e1c32db74bd9').innerHTML += '<a ' + path + '\'' + prefi
 x + ':' + addy732bd6b8ddf5f6f39ce0e1c32db74bd9 + '\'>'+addy_text732bd6b8ddf
 5f6f39ce0e1c32db74bd9+'';
		 to book your place!  There will be a small fee
  to cover costs. \nMore details to follow soon...!\n This event was importe
 d from: https://www.scacr.org/news-events/calendar/683/recruitment-and-rete
 ntion-workshop?tmpl=component (https://www.scacr.org/news-events/calendar/6
 83/recruitment-and-retention-workshop?tmpl=component)
X-ALT-DESC;FMTTYPE=text/html:<p>SCACR will be hosting an afternoon workshop on "Recruitment and Retentio
 n", developed by the CCCBR in partnership with ART.&nbsp; This will be an i
 nteractive training event, with facilitated break-out discussion sessions.<
 /p><p>Spaces are limited so booking in advance will be essential - contact 
 <span id="cloak732bd6b8ddf5f6f39ce0e1c32db74bd9">This email address is bein
 g protected from spambots. You need JavaScript enabled to view it.</span><s
 cript type='text/javascript'>
				document.getElementById('cloak732bd6b8ddf
 5f6f39ce0e1c32db74bd9').innerHTML = '';
				var prefix = '&#109;a' + 'i&#10
 8;' + '&#116;o';
				var path = 'hr' + 'ef' + '=';
				var addy732bd6b8ddf5
 f6f39ce0e1c32db74bd9 = 's&#101;c-n&#111;rth' + '&#64;';
				addy732bd6b8ddf
 5f6f39ce0e1c32db74bd9 = addy732bd6b8ddf5f6f39ce0e1c32db74bd9 + 'sc&#97;cr' 
 + '&#46;' + '&#111;rg';
				var addy_text732bd6b8ddf5f6f39ce0e1c32db74bd9 =
  's&#101;c-n&#111;rth' + '&#64;' + 'sc&#97;cr' + '&#46;' + '&#111;rg';docum
 ent.getElementById('cloak732bd6b8ddf5f6f39ce0e1c32db74bd9').innerHTML += '<
 a ' + path + '\'' + prefix + ':' + addy732bd6b8ddf5f6f39ce0e1c32db74bd9 + '
 \'>'+addy_text732bd6b8ddf5f6f39ce0e1c32db74bd9+'<\/a>';
		</script>&nbsp;to
  book your place!&nbsp; There will be a small fee to cover costs.&nbsp;</p>
 <p>More details to follow soon...!</p> <a href="https://www.scacr.org/news-
 events/calendar/683/recruitment-and-retention-workshop?tmpl=component">This
  event was imported from: https://www.scacr.org/news-events/calendar/683/re
 cruitment-and-retention-workshop?tmpl=component</a>CONTACT:This email address is being protected from spambots. You need JavaScript enabled to view it.
				document.getElementById('cloak17898f53f9f3130a9e87e4d12f847099').innerHTML = '';
				var prefix = '&#109;a' + 'i&#108;' + '&#116;o';
				var path = 'hr' + 'ef' + '=';
				var addy17898f53f9f3130a9e87e4d12f847099 = 's&#101;c-n&#111;rth' + '&#64;';
				addy17898f53f9f3130a9e87e4d12f847099 = addy17898f53f9f3130a9e87e4d12f847099 + 'sc&#97;cr' + '&#46;' + '&#111;rg';
				var addy_text17898f53f9f3130a9e87e4d12f847099 = 's&#101;c-n&#111;rth' + '&#64;' + 'sc&#97;cr' + '&#46;' + '&#111;rg';document.getElementById('cloak17898f53f9f3130a9e87e4d12f847099').innerHTML += '<a ' + path + '\'' + prefix + ':' + addy17898f53f9f3130a9e87e4d12f847099 + '\'>'+addy_text17898f53f9f3130a9e87e4d12f847099+'';
		
DTSTAMP:20260423T225336
DTSTART;TZID=Europe/London:20200229T130000
DTEND;TZID=Europe/London:20200229T170000
SEQUENCE:0
TRANSP:OPAQUE
END:VEVENT
END:VCALENDAR