BEGIN:VCALENDAR
VERSION:2.0
PRODID:-//jEvents 2.0 for Joomla//EN
CALSCALE:GREGORIAN
METHOD:PUBLISH
BEGIN:VTIMEZONE
TZID:Europe/London
BEGIN:STANDARD
DTSTART:20181119T193000
RDATE:20190331T020000
TZOFFSETFROM:+0100
TZOFFSETTO:+0000
TZNAME:Europe/London GMT
END:STANDARD
BEGIN:STANDARD
DTSTART:20191027T010000
RDATE:20200329T020000
TZOFFSETFROM:+0100
TZOFFSETTO:+0000
TZNAME:Europe/London GMT
END:STANDARD
BEGIN:STANDARD
DTSTART:20201025T010000
RDATE:20210328T020000
TZOFFSETFROM:+0100
TZOFFSETTO:+0000
TZNAME:Europe/London GMT
END:STANDARD
BEGIN:STANDARD
DTSTART:20211031T010000
RDATE:20220327T020000
TZOFFSETFROM:+0100
TZOFFSETTO:+0000
TZNAME:Europe/London GMT
END:STANDARD
BEGIN:STANDARD
DTSTART:20221030T010000
RDATE:20230326T020000
TZOFFSETFROM:+0100
TZOFFSETTO:+0000
TZNAME:Europe/London GMT
END:STANDARD
BEGIN:STANDARD
DTSTART:20231029T010000
RDATE:20240331T020000
TZOFFSETFROM:+0100
TZOFFSETTO:+0000
TZNAME:Europe/London GMT
END:STANDARD
BEGIN:STANDARD
DTSTART:20241027T010000
RDATE:20250330T020000
TZOFFSETFROM:+0100
TZOFFSETTO:+0000
TZNAME:Europe/London GMT
END:STANDARD
BEGIN:STANDARD
DTSTART:20251026T010000
RDATE:20260329T020000
TZOFFSETFROM:+0100
TZOFFSETTO:+0000
TZNAME:Europe/London GMT
END:STANDARD
BEGIN:STANDARD
DTSTART:20261025T010000
RDATE:20270328T020000
TZOFFSETFROM:+0100
TZOFFSETTO:+0000
TZNAME:Europe/London GMT
END:STANDARD
BEGIN:STANDARD
DTSTART:20271031T010000
RDATE:20280326T020000
TZOFFSETFROM:+0100
TZOFFSETTO:+0000
TZNAME:Europe/London GMT
END:STANDARD
BEGIN:STANDARD
DTSTART:20281029T010000
RDATE:20290325T020000
TZOFFSETFROM:+0100
TZOFFSETTO:+0000
TZNAME:Europe/London GMT
END:STANDARD
BEGIN:STANDARD
DTSTART:20291028T010000
RDATE:20300331T020000
TZOFFSETFROM:+0100
TZOFFSETTO:+0000
TZNAME:Europe/London GMT
END:STANDARD
BEGIN:STANDARD
DTSTART:20301027T010000
RDATE:20310330T020000
TZOFFSETFROM:+0100
TZOFFSETTO:+0000
TZNAME:Europe/London GMT
END:STANDARD
BEGIN:DAYLIGHT
DTSTART:20190331T020000
RDATE:20191027T010000
TZOFFSETFROM:+0000
TZOFFSETTO:+0100
TZNAME:Europe/London BST
END:DAYLIGHT
BEGIN:DAYLIGHT
DTSTART:20200329T020000
RDATE:20201025T010000
TZOFFSETFROM:+0000
TZOFFSETTO:+0100
TZNAME:Europe/London BST
END:DAYLIGHT
BEGIN:DAYLIGHT
DTSTART:20210328T020000
RDATE:20211031T010000
TZOFFSETFROM:+0000
TZOFFSETTO:+0100
TZNAME:Europe/London BST
END:DAYLIGHT
BEGIN:DAYLIGHT
DTSTART:20220327T020000
RDATE:20221030T010000
TZOFFSETFROM:+0000
TZOFFSETTO:+0100
TZNAME:Europe/London BST
END:DAYLIGHT
BEGIN:DAYLIGHT
DTSTART:20230326T020000
RDATE:20231029T010000
TZOFFSETFROM:+0000
TZOFFSETTO:+0100
TZNAME:Europe/London BST
END:DAYLIGHT
BEGIN:DAYLIGHT
DTSTART:20240331T020000
RDATE:20241027T010000
TZOFFSETFROM:+0000
TZOFFSETTO:+0100
TZNAME:Europe/London BST
END:DAYLIGHT
BEGIN:DAYLIGHT
DTSTART:20250330T020000
RDATE:20251026T010000
TZOFFSETFROM:+0000
TZOFFSETTO:+0100
TZNAME:Europe/London BST
END:DAYLIGHT
BEGIN:DAYLIGHT
DTSTART:20260329T020000
RDATE:20261025T010000
TZOFFSETFROM:+0000
TZOFFSETTO:+0100
TZNAME:Europe/London BST
END:DAYLIGHT
BEGIN:DAYLIGHT
DTSTART:20270328T020000
RDATE:20271031T010000
TZOFFSETFROM:+0000
TZOFFSETTO:+0100
TZNAME:Europe/London BST
END:DAYLIGHT
BEGIN:DAYLIGHT
DTSTART:20280326T020000
RDATE:20281029T010000
TZOFFSETFROM:+0000
TZOFFSETTO:+0100
TZNAME:Europe/London BST
END:DAYLIGHT
BEGIN:DAYLIGHT
DTSTART:20290325T020000
RDATE:20291028T010000
TZOFFSETFROM:+0000
TZOFFSETTO:+0100
TZNAME:Europe/London BST
END:DAYLIGHT
BEGIN:DAYLIGHT
DTSTART:20300331T020000
RDATE:20301027T010000
TZOFFSETFROM:+0000
TZOFFSETTO:+0100
TZNAME:Europe/London BST
END:DAYLIGHT
END:VTIMEZONE
BEGIN:VEVENT
UID:1ba706f011d8a8566d954ef2da14d891
CATEGORIES:East
CREATED:20191012T230111
SUMMARY:Progressing in minor practice
LOCATION:Westham
URL;VALUE=URI:https://www.scacr.org/news-events/calendar/665/progressing-in-minor-practic
 e?tmpl=component
DESCRIPTION: \nThis will now be a basic doubles and minor practice joining the Westham 
 practice - local practice at 7.30, doubles/ minor practice from 8.0 - 9.0.\
 nAll welcome - learners and experienced - look forward to seeing you.\n Thi
 s event was imported from: https://www.scacr.org/news-events/calendar/665/p
 rogressing-in-minor-practice?tmpl=component (https://www.scacr.org/news-eve
 nts/calendar/665/progressing-in-minor-practice?tmpl=component)
X-ALT-DESC;FMTTYPE=text/html:<p>&nbsp;</p><p>This will now be a basic doubles and minor practice joining
  the Westham practice - local practice at 7.30, doubles/ minor practice fro
 m 8.0 - 9.0.</p><div class="text_exposed_show"><p>All welcome - learners an
 d experienced - look forward to seeing you.</p></div> <a href="https://www.
 scacr.org/news-events/calendar/665/progressing-in-minor-practice?tmpl=compo
 nent">This event was imported from: https://www.scacr.org/news-events/calen
 dar/665/progressing-in-minor-practice?tmpl=component</a>CONTACT:This email address is being protected from spambots. You need JavaScript enabled to view it.
				document.getElementById('cloak918aa0d29f220aa6cada897b0bc69b69').innerHTML = '';
				var prefix = '&#109;a' + 'i&#108;' + '&#116;o';
				var path = 'hr' + 'ef' + '=';
				var addy918aa0d29f220aa6cada897b0bc69b69 = 'n&#105;ckc&#97;ntb&#101;lls' + '&#64;';
				addy918aa0d29f220aa6cada897b0bc69b69 = addy918aa0d29f220aa6cada897b0bc69b69 + '&#111;&#117;tl&#111;&#111;k' + '&#46;' + 'c&#111;m';
				var addy_text918aa0d29f220aa6cada897b0bc69b69 = 'n&#105;ckc&#97;ntb&#101;lls' + '&#64;' + '&#111;&#117;tl&#111;&#111;k' + '&#46;' + 'c&#111;m';document.getElementById('cloak918aa0d29f220aa6cada897b0bc69b69').innerHTML += '<a ' + path + '\'' + prefix + ':' + addy918aa0d29f220aa6cada897b0bc69b69 + '\'>'+addy_text918aa0d29f220aa6cada897b0bc69b69+'';
		/ This email address is being protected from spambots. You need JavaScript enabled to view it.
				document.getElementById('cloake3cdd12b30a5b7b16e64684b067de4d1').innerHTML = '';
				var prefix = '&#109;a' + 'i&#108;' + '&#116;o';
				var path = 'hr' + 'ef' + '=';
				var addye3cdd12b30a5b7b16e64684b067de4d1 = '&#101;v&#101;nts&#101;&#97;st' + '&#64;';
				addye3cdd12b30a5b7b16e64684b067de4d1 = addye3cdd12b30a5b7b16e64684b067de4d1 + 'sc&#97;cr' + '&#46;' + '&#111;rg';
				var addy_texte3cdd12b30a5b7b16e64684b067de4d1 = '&#101;v&#101;nts&#101;&#97;st' + '&#64;' + 'sc&#97;cr' + '&#46;' + '&#111;rg';document.getElementById('cloake3cdd12b30a5b7b16e64684b067de4d1').innerHTML += '<a ' + path + '\'' + prefix + ':' + addye3cdd12b30a5b7b16e64684b067de4d1 + '\'>'+addy_texte3cdd12b30a5b7b16e64684b067de4d1+'';
		
DTSTAMP:20260425T003626
DTSTART;TZID=Europe/London:20191120T193000
DTEND;TZID=Europe/London:20191120T210000
SEQUENCE:0
TRANSP:OPAQUE
END:VEVENT
END:VCALENDAR