BEGIN:VCALENDAR
VERSION:2.0
PRODID:-//jEvents 2.0 for Joomla//EN
CALSCALE:GREGORIAN
METHOD:PUBLISH
BEGIN:VTIMEZONE
TZID:Europe/London
BEGIN:STANDARD
DTSTART:20181028T010000
RDATE:20190331T020000
TZOFFSETFROM:+0100
TZOFFSETTO:+0000
TZNAME:Europe/London GMT
END:STANDARD
BEGIN:STANDARD
DTSTART:20191027T010000
RDATE:20200329T020000
TZOFFSETFROM:+0100
TZOFFSETTO:+0000
TZNAME:Europe/London GMT
END:STANDARD
BEGIN:STANDARD
DTSTART:20201025T010000
RDATE:20210328T020000
TZOFFSETFROM:+0100
TZOFFSETTO:+0000
TZNAME:Europe/London GMT
END:STANDARD
BEGIN:STANDARD
DTSTART:20211031T010000
RDATE:20220327T020000
TZOFFSETFROM:+0100
TZOFFSETTO:+0000
TZNAME:Europe/London GMT
END:STANDARD
BEGIN:STANDARD
DTSTART:20221030T010000
RDATE:20230326T020000
TZOFFSETFROM:+0100
TZOFFSETTO:+0000
TZNAME:Europe/London GMT
END:STANDARD
BEGIN:STANDARD
DTSTART:20231029T010000
RDATE:20240331T020000
TZOFFSETFROM:+0100
TZOFFSETTO:+0000
TZNAME:Europe/London GMT
END:STANDARD
BEGIN:STANDARD
DTSTART:20241027T010000
RDATE:20250330T020000
TZOFFSETFROM:+0100
TZOFFSETTO:+0000
TZNAME:Europe/London GMT
END:STANDARD
BEGIN:STANDARD
DTSTART:20251026T010000
RDATE:20260329T020000
TZOFFSETFROM:+0100
TZOFFSETTO:+0000
TZNAME:Europe/London GMT
END:STANDARD
BEGIN:STANDARD
DTSTART:20261025T010000
RDATE:20270328T020000
TZOFFSETFROM:+0100
TZOFFSETTO:+0000
TZNAME:Europe/London GMT
END:STANDARD
BEGIN:STANDARD
DTSTART:20271031T010000
RDATE:20280326T020000
TZOFFSETFROM:+0100
TZOFFSETTO:+0000
TZNAME:Europe/London GMT
END:STANDARD
BEGIN:STANDARD
DTSTART:20281029T010000
RDATE:20290325T020000
TZOFFSETFROM:+0100
TZOFFSETTO:+0000
TZNAME:Europe/London GMT
END:STANDARD
BEGIN:STANDARD
DTSTART:20291028T010000
RDATE:20300331T020000
TZOFFSETFROM:+0100
TZOFFSETTO:+0000
TZNAME:Europe/London GMT
END:STANDARD
BEGIN:STANDARD
DTSTART:20301027T010000
RDATE:20310330T020000
TZOFFSETFROM:+0100
TZOFFSETTO:+0000
TZNAME:Europe/London GMT
END:STANDARD
BEGIN:DAYLIGHT
DTSTART:20180903T110000
RDATE:20181028T010000
TZOFFSETFROM:+0000
TZOFFSETTO:+0100
TZNAME:Europe/London BST
END:DAYLIGHT
BEGIN:DAYLIGHT
DTSTART:20190331T020000
RDATE:20191027T010000
TZOFFSETFROM:+0000
TZOFFSETTO:+0100
TZNAME:Europe/London BST
END:DAYLIGHT
BEGIN:DAYLIGHT
DTSTART:20200329T020000
RDATE:20201025T010000
TZOFFSETFROM:+0000
TZOFFSETTO:+0100
TZNAME:Europe/London BST
END:DAYLIGHT
BEGIN:DAYLIGHT
DTSTART:20210328T020000
RDATE:20211031T010000
TZOFFSETFROM:+0000
TZOFFSETTO:+0100
TZNAME:Europe/London BST
END:DAYLIGHT
BEGIN:DAYLIGHT
DTSTART:20220327T020000
RDATE:20221030T010000
TZOFFSETFROM:+0000
TZOFFSETTO:+0100
TZNAME:Europe/London BST
END:DAYLIGHT
BEGIN:DAYLIGHT
DTSTART:20230326T020000
RDATE:20231029T010000
TZOFFSETFROM:+0000
TZOFFSETTO:+0100
TZNAME:Europe/London BST
END:DAYLIGHT
BEGIN:DAYLIGHT
DTSTART:20240331T020000
RDATE:20241027T010000
TZOFFSETFROM:+0000
TZOFFSETTO:+0100
TZNAME:Europe/London BST
END:DAYLIGHT
BEGIN:DAYLIGHT
DTSTART:20250330T020000
RDATE:20251026T010000
TZOFFSETFROM:+0000
TZOFFSETTO:+0100
TZNAME:Europe/London BST
END:DAYLIGHT
BEGIN:DAYLIGHT
DTSTART:20260329T020000
RDATE:20261025T010000
TZOFFSETFROM:+0000
TZOFFSETTO:+0100
TZNAME:Europe/London BST
END:DAYLIGHT
BEGIN:DAYLIGHT
DTSTART:20270328T020000
RDATE:20271031T010000
TZOFFSETFROM:+0000
TZOFFSETTO:+0100
TZNAME:Europe/London BST
END:DAYLIGHT
BEGIN:DAYLIGHT
DTSTART:20280326T020000
RDATE:20281029T010000
TZOFFSETFROM:+0000
TZOFFSETTO:+0100
TZNAME:Europe/London BST
END:DAYLIGHT
BEGIN:DAYLIGHT
DTSTART:20290325T020000
RDATE:20291028T010000
TZOFFSETFROM:+0000
TZOFFSETTO:+0100
TZNAME:Europe/London BST
END:DAYLIGHT
BEGIN:DAYLIGHT
DTSTART:20300331T020000
RDATE:20301027T010000
TZOFFSETFROM:+0000
TZOFFSETTO:+0100
TZNAME:Europe/London BST
END:DAYLIGHT
END:VTIMEZONE
BEGIN:VEVENT
UID:21764ddba9345facd698d6840962d0b3
CATEGORIES:Other Event
CREATED:20190901T131938
SUMMARY:Codgers
LOCATION:Easebourne/Graffham
URL;VALUE=URI:https://www.scacr.org/news-events/calendar/640/codgers?tmpl=component
DESCRIPTION:Easebourne (https://dove.cccbr.org.uk/detail.php?searchString=easeb&amp;num
 PerPage=10&amp;Submit=Go&amp;searchAmount=%3D&amp;searchMetric=cwt&amp;sort
 By=Place&amp;sortDir=Asc&amp;DoveID=EASEBOURNE)\nS Mary (GF;T), 8, 11-0-21 
 (568kg) in G\n11-12.30am\nGraffham (https://dove.cccbr.org.uk/detail.php?se
 archString=graffh&amp;numPerPage=10&amp;Submit=Go&amp;searchAmount=%3D&amp;
 searchMetric=cwt&amp;sortBy=Place&amp;sortDir=Asc&amp;DoveID=GRAFFHAM)\nS G
 iles (GF), 6, 9-1-26 (482kg) in Ab\n2.15 to 3.30pm\nPub:\nThe White Horse (
 https://www.whitehorseeasebourne.co.uk/),\nEasebourne Street,\nNr Midhurst,
  GU29 0AL\nPhone: 01730 813521\neMail: This email address is being protecte
 d from spambots. You need JavaScript enabled to view it.
				document.getEl
 ementById('cloakcd728811b40681b36f2911e2b07b0fec').innerHTML = '';
				var 
 prefix = '&#109;a' + 'i&#108;' + '&#116;o';
				var path = 'hr' + 'ef' + '=
 ';
				var addycd728811b40681b36f2911e2b07b0fec = 'p&#117;b' + '&#64;';
			
 	addycd728811b40681b36f2911e2b07b0fec = addycd728811b40681b36f2911e2b07b0fe
 c + 'wh&#105;t&#101;h&#111;rs&#101;&#101;&#97;s&#101;b&#111;&#117;rn&#101;'
  + '&#46;' + 'c&#111;' + '&#46;' + '&#117;k';
				var addy_textcd728811b406
 81b36f2911e2b07b0fec = 'p&#117;b' + '&#64;' + 'wh&#105;t&#101;h&#111;rs&#10
 1;&#101;&#97;s&#101;b&#111;&#117;rn&#101;' + '&#46;' + 'c&#111;' + '&#46;' 
 + '&#117;k';document.getElementById('cloakcd728811b40681b36f2911e2b07b0fec'
 ).innerHTML += '<a ' + path + '\'' + prefix + ':' + addycd728811b40681b36f2
 911e2b07b0fec + '\'>'+addy_textcd728811b40681b36f2911e2b07b0fec+'';
		\n Th
 is event was imported from: https://www.scacr.org/news-events/calendar/640/
 codgers?tmpl=component (https://www.scacr.org/news-events/calendar/640/codg
 ers?tmpl=component)
X-ALT-DESC;FMTTYPE=text/html:<table><tbody><tr><td><p><a href="https://dove.cccbr.org.uk/detail.php?sear
 chString=easeb&amp;numPerPage=10&amp;Submit=Go&amp;searchAmount=%3D&amp;sea
 rchMetric=cwt&amp;sortBy=Place&amp;sortDir=Asc&amp;DoveID=EASEBOURNE">Easeb
 ourne</a></p></td><td><p>S Mary (GF;T), 8, 11-0-21 (568kg) in G</p></td><td
 ><p>11-12.30am</p></td></tr><tr><td><p><a href="https://dove.cccbr.org.uk/d
 etail.php?searchString=graffh&amp;numPerPage=10&amp;Submit=Go&amp;searchAmo
 unt=%3D&amp;searchMetric=cwt&amp;sortBy=Place&amp;sortDir=Asc&amp;DoveID=GR
 AFFHAM">Graffham</a></p></td><td><p>S Giles (GF), 6, 9-1-26 (482kg) in Ab</
 p></td><td><p>2.15 to 3.30pm</p></td></tr></tbody></table><p>Pub:</p><p><a 
 href="https://www.whitehorseeasebourne.co.uk/">The White Horse</a>,<br />Ea
 sebourne Street,<br />Nr Midhurst, GU29 0AL</p><p>Phone: 01730 813521<br />
 eMail: <span id="cloakcd728811b40681b36f2911e2b07b0fec">This email address 
 is being protected from spambots. You need JavaScript enabled to view it.</
 span><script type='text/javascript'>
				document.getElementById('cloakcd72
 8811b40681b36f2911e2b07b0fec').innerHTML = '';
				var prefix = '&#109;a' +
  'i&#108;' + '&#116;o';
				var path = 'hr' + 'ef' + '=';
				var addycd728
 811b40681b36f2911e2b07b0fec = 'p&#117;b' + '&#64;';
				addycd728811b40681b
 36f2911e2b07b0fec = addycd728811b40681b36f2911e2b07b0fec + 'wh&#105;t&#101;
 h&#111;rs&#101;&#101;&#97;s&#101;b&#111;&#117;rn&#101;' + '&#46;' + 'c&#111
 ;' + '&#46;' + '&#117;k';
				var addy_textcd728811b40681b36f2911e2b07b0fec
  = 'p&#117;b' + '&#64;' + 'wh&#105;t&#101;h&#111;rs&#101;&#101;&#97;s&#101;
 b&#111;&#117;rn&#101;' + '&#46;' + 'c&#111;' + '&#46;' + '&#117;k';document
 .getElementById('cloakcd728811b40681b36f2911e2b07b0fec').innerHTML += '<a '
  + path + '\'' + prefix + ':' + addycd728811b40681b36f2911e2b07b0fec + '\'>
 '+addy_textcd728811b40681b36f2911e2b07b0fec+'<\/a>';
		</script></p> <a hre
 f="https://www.scacr.org/news-events/calendar/640/codgers?tmpl=component">T
 his event was imported from: https://www.scacr.org/news-events/calendar/640
 /codgers?tmpl=component</a>CONTACT:This email address is being protected from spambots. You need JavaScript enabled to view it.
				document.getElementById('cloakdb30a77984f1c8ea79d01bef33914eb1').innerHTML = '';
				var prefix = '&#109;a' + 'i&#108;' + '&#116;o';
				var path = 'hr' + 'ef' + '=';
				var addydb30a77984f1c8ea79d01bef33914eb1 = 'c&#111;dg&#101;rs' + '&#64;';
				addydb30a77984f1c8ea79d01bef33914eb1 = addydb30a77984f1c8ea79d01bef33914eb1 + 'sc&#97;cr' + '&#46;' + '&#111;rg';
				var addy_textdb30a77984f1c8ea79d01bef33914eb1 = 'c&#111;dg&#101;rs' + '&#64;' + 'sc&#97;cr' + '&#46;' + '&#111;rg';document.getElementById('cloakdb30a77984f1c8ea79d01bef33914eb1').innerHTML += '<a ' + path + '\'' + prefix + ':' + addydb30a77984f1c8ea79d01bef33914eb1 + '\'>'+addy_textdb30a77984f1c8ea79d01bef33914eb1+'';
		
DTSTAMP:20260425T105501
DTSTART;TZID=Europe/London:20190904T110000
DTEND;TZID=Europe/London:20190904T153000
SEQUENCE:0
TRANSP:OPAQUE
END:VEVENT
END:VCALENDAR