BEGIN:VCALENDAR
VERSION:2.0
PRODID:-//jEvents 2.0 for Joomla//EN
CALSCALE:GREGORIAN
METHOD:PUBLISH
BEGIN:VTIMEZONE
TZID:Europe/London
BEGIN:STANDARD
DTSTART:20181028T010000
RDATE:20190331T020000
TZOFFSETFROM:+0100
TZOFFSETTO:+0000
TZNAME:Europe/London GMT
END:STANDARD
BEGIN:STANDARD
DTSTART:20191027T010000
RDATE:20200329T020000
TZOFFSETFROM:+0100
TZOFFSETTO:+0000
TZNAME:Europe/London GMT
END:STANDARD
BEGIN:STANDARD
DTSTART:20201025T010000
RDATE:20210328T020000
TZOFFSETFROM:+0100
TZOFFSETTO:+0000
TZNAME:Europe/London GMT
END:STANDARD
BEGIN:STANDARD
DTSTART:20211031T010000
RDATE:20220327T020000
TZOFFSETFROM:+0100
TZOFFSETTO:+0000
TZNAME:Europe/London GMT
END:STANDARD
BEGIN:STANDARD
DTSTART:20221030T010000
RDATE:20230326T020000
TZOFFSETFROM:+0100
TZOFFSETTO:+0000
TZNAME:Europe/London GMT
END:STANDARD
BEGIN:STANDARD
DTSTART:20231029T010000
RDATE:20240331T020000
TZOFFSETFROM:+0100
TZOFFSETTO:+0000
TZNAME:Europe/London GMT
END:STANDARD
BEGIN:STANDARD
DTSTART:20241027T010000
RDATE:20250330T020000
TZOFFSETFROM:+0100
TZOFFSETTO:+0000
TZNAME:Europe/London GMT
END:STANDARD
BEGIN:STANDARD
DTSTART:20251026T010000
RDATE:20260329T020000
TZOFFSETFROM:+0100
TZOFFSETTO:+0000
TZNAME:Europe/London GMT
END:STANDARD
BEGIN:STANDARD
DTSTART:20261025T010000
RDATE:20270328T020000
TZOFFSETFROM:+0100
TZOFFSETTO:+0000
TZNAME:Europe/London GMT
END:STANDARD
BEGIN:STANDARD
DTSTART:20271031T010000
RDATE:20280326T020000
TZOFFSETFROM:+0100
TZOFFSETTO:+0000
TZNAME:Europe/London GMT
END:STANDARD
BEGIN:STANDARD
DTSTART:20281029T010000
RDATE:20290325T020000
TZOFFSETFROM:+0100
TZOFFSETTO:+0000
TZNAME:Europe/London GMT
END:STANDARD
BEGIN:STANDARD
DTSTART:20291028T010000
RDATE:20300331T020000
TZOFFSETFROM:+0100
TZOFFSETTO:+0000
TZNAME:Europe/London GMT
END:STANDARD
BEGIN:STANDARD
DTSTART:20301027T010000
RDATE:20310330T020000
TZOFFSETFROM:+0100
TZOFFSETTO:+0000
TZNAME:Europe/London GMT
END:STANDARD
BEGIN:DAYLIGHT
DTSTART:20180816T100000
RDATE:20181028T010000
TZOFFSETFROM:+0000
TZOFFSETTO:+0100
TZNAME:Europe/London BST
END:DAYLIGHT
BEGIN:DAYLIGHT
DTSTART:20190331T020000
RDATE:20191027T010000
TZOFFSETFROM:+0000
TZOFFSETTO:+0100
TZNAME:Europe/London BST
END:DAYLIGHT
BEGIN:DAYLIGHT
DTSTART:20200329T020000
RDATE:20201025T010000
TZOFFSETFROM:+0000
TZOFFSETTO:+0100
TZNAME:Europe/London BST
END:DAYLIGHT
BEGIN:DAYLIGHT
DTSTART:20210328T020000
RDATE:20211031T010000
TZOFFSETFROM:+0000
TZOFFSETTO:+0100
TZNAME:Europe/London BST
END:DAYLIGHT
BEGIN:DAYLIGHT
DTSTART:20220327T020000
RDATE:20221030T010000
TZOFFSETFROM:+0000
TZOFFSETTO:+0100
TZNAME:Europe/London BST
END:DAYLIGHT
BEGIN:DAYLIGHT
DTSTART:20230326T020000
RDATE:20231029T010000
TZOFFSETFROM:+0000
TZOFFSETTO:+0100
TZNAME:Europe/London BST
END:DAYLIGHT
BEGIN:DAYLIGHT
DTSTART:20240331T020000
RDATE:20241027T010000
TZOFFSETFROM:+0000
TZOFFSETTO:+0100
TZNAME:Europe/London BST
END:DAYLIGHT
BEGIN:DAYLIGHT
DTSTART:20250330T020000
RDATE:20251026T010000
TZOFFSETFROM:+0000
TZOFFSETTO:+0100
TZNAME:Europe/London BST
END:DAYLIGHT
BEGIN:DAYLIGHT
DTSTART:20260329T020000
RDATE:20261025T010000
TZOFFSETFROM:+0000
TZOFFSETTO:+0100
TZNAME:Europe/London BST
END:DAYLIGHT
BEGIN:DAYLIGHT
DTSTART:20270328T020000
RDATE:20271031T010000
TZOFFSETFROM:+0000
TZOFFSETTO:+0100
TZNAME:Europe/London BST
END:DAYLIGHT
BEGIN:DAYLIGHT
DTSTART:20280326T020000
RDATE:20281029T010000
TZOFFSETFROM:+0000
TZOFFSETTO:+0100
TZNAME:Europe/London BST
END:DAYLIGHT
BEGIN:DAYLIGHT
DTSTART:20290325T020000
RDATE:20291028T010000
TZOFFSETFROM:+0000
TZOFFSETTO:+0100
TZNAME:Europe/London BST
END:DAYLIGHT
BEGIN:DAYLIGHT
DTSTART:20300331T020000
RDATE:20301027T010000
TZOFFSETFROM:+0000
TZOFFSETTO:+0100
TZNAME:Europe/London BST
END:DAYLIGHT
END:VTIMEZONE
BEGIN:VEVENT
UID:99a32cea62191a8b21bdda0be06e6d20
CATEGORIES:South
CREATED:20190724T112145
SUMMARY:New Ringers Morning 
LOCATION:Keymer
URL;VALUE=URI:https://www.scacr.org/news-events/calendar/631/new-ringers-morning?tmpl=com
 ponent
DESCRIPTION: \nAs a new SCACR member, you are warmly invited to Keymer on Saturday 17th
  August, 10:00 – 12:00 for a relaxed new ringers morning.\nThis is an oppor
 tunity to meet other new ringers from the Southern District who are learnin
 g new things just as you are and have a go on some new bells.\n \nJosh Hutc
 hinson has kindly organised the morning – Josh was also a new member of SCA
 CR a few years ago.\n\n - You will have the opportunity to ring as much, or
  as little, as you like. Rounds, Call Changes or even a method. Our team of
  helpers will be happy to ring anything!\n - If you have any questions abou
 t ringing, big or small, you are more than welcome to ask a helper.\n - If 
 you haven’t received your SCACR membership certificate, you can have it pre
 sented to you on the day.\n - You are more than welcome to bring along your
  teacher or tower captain from your home tower, as this can often make the 
 experience calmer and more relaxing. \nPlease email Josh Hutchinson to expr
 ess your interest, or if you have any question: This email address is being
  protected from spambots. You need JavaScript enabled to view it.
				docum
 ent.getElementById('cloakacece1333ccd514b3cb464da35cd4ff9').innerHTML = '';
 
				var prefix = '&#109;a' + 'i&#108;' + '&#116;o';
				var path = 'hr' + 
 'ef' + '=';
				var addyacece1333ccd514b3cb464da35cd4ff9 = 'n&#101;ws-s&#11
 1;&#117;th' + '&#64;';
				addyacece1333ccd514b3cb464da35cd4ff9 = addyacece
 1333ccd514b3cb464da35cd4ff9 + 'sc&#97;cr' + '&#46;' + '&#111;rg';
				var a
 ddy_textacece1333ccd514b3cb464da35cd4ff9 = 'n&#101;ws-s&#111;&#117;th' + '&
 #64;' + 'sc&#97;cr' + '&#46;' + '&#111;rg';document.getElementById('cloakac
 ece1333ccd514b3cb464da35cd4ff9').innerHTML += '<a ' + path + '\'' + prefix 
 + ':' + addyacece1333ccd514b3cb464da35cd4ff9 + '\'>'+addy_textacece1333ccd5
 14b3cb464da35cd4ff9+'';
		.\nThere is parking down ‘Church Mead’ and ‘The C
 rescent’ roads. \nWe look forward to seeing you at Keymer on the 17th Augus
 t!\n This event was imported from: https://www.scacr.org/news-events/calend
 ar/631/new-ringers-morning?tmpl=component (https://www.scacr.org/news-event
 s/calendar/631/new-ringers-morning?tmpl=component)
X-ALT-DESC;FMTTYPE=text/html:<p>&nbsp;</p><p style="font-size: 16px; text-align: center;">As a new SCACR
  member, you are warmly invited to<strong> Keymer</strong> on <strong>Satur
 day 17<sup>th</sup>&nbsp;August, 10:00 – 12:00</strong> for a relaxed new r
 ingers morning.</p><p style="font-size: 16px; text-align: center;"><em>This
  is an opportunity to meet other new ringers from the Southern District who
  are learning new things just as you are and have a go on some new bells.</
 em></p><p>&nbsp;</p><p><strong>Josh Hutchinson</strong> has kindly organise
 d the morning – Josh was also a new member of SCACR a few years ago.</p><ul
 ><li>You will have the opportunity to ring as much, or as little, as you li
 ke. Rounds, Call Changes or even a method. Our team of helpers will be happ
 y to ring anything!</li><li>If you have any questions about ringing, big or
  small, you are more than welcome to ask a helper.</li><li>If you haven’t r
 eceived your SCACR membership certificate, you can have it presented to you
  on the day.</li><li>You are more than welcome to bring along your teacher 
 or tower captain from your home tower, as this can often make the experienc
 e calmer and more relaxing.</li></ul><p>&nbsp;</p><p><strong style="font-si
 ze: 14px;">Please email Josh Hutchinson to express your interest, or if you
  have any question: <span id="cloakacece1333ccd514b3cb464da35cd4ff9">This e
 mail address is being protected from spambots. You need JavaScript enabled 
 to view it.</span><script type='text/javascript'>
				document.getElementBy
 Id('cloakacece1333ccd514b3cb464da35cd4ff9').innerHTML = '';
				var prefix 
 = '&#109;a' + 'i&#108;' + '&#116;o';
				var path = 'hr' + 'ef' + '=';
				
 var addyacece1333ccd514b3cb464da35cd4ff9 = 'n&#101;ws-s&#111;&#117;th' + '&
 #64;';
				addyacece1333ccd514b3cb464da35cd4ff9 = addyacece1333ccd514b3cb46
 4da35cd4ff9 + 'sc&#97;cr' + '&#46;' + '&#111;rg';
				var addy_textacece133
 3ccd514b3cb464da35cd4ff9 = 'n&#101;ws-s&#111;&#117;th' + '&#64;' + 'sc&#97;
 cr' + '&#46;' + '&#111;rg';document.getElementById('cloakacece1333ccd514b3c
 b464da35cd4ff9').innerHTML += '<a ' + path + '\'' + prefix + ':' + addyacec
 e1333ccd514b3cb464da35cd4ff9 + '\'>'+addy_textacece1333ccd514b3cb464da35cd4
 ff9+'<\/a>';
		</script>.</strong></p><p><em>There is parking down ‘Church 
 Mead’ and ‘The Crescent’ roads. </em></p><p>We look forward to seeing you a
 t Keymer on the 17<sup>th</sup> August!</p> <a href="https://www.scacr.org/
 news-events/calendar/631/new-ringers-morning?tmpl=component">This event was
  imported from: https://www.scacr.org/news-events/calendar/631/new-ringers-
 morning?tmpl=component</a>CONTACT:Josh Hutchinson: This email address is being protected from spambots. You need JavaScript enabled to view it.
				document.getElementById('cloak37650f1899ac3b182e1adb61e556fcf4').innerHTML = '';
				var prefix = '&#109;a' + 'i&#108;' + '&#116;o';
				var path = 'hr' + 'ef' + '=';
				var addy37650f1899ac3b182e1adb61e556fcf4 = 'n&#101;ws-s&#111;&#117;th' + '&#64;';
				addy37650f1899ac3b182e1adb61e556fcf4 = addy37650f1899ac3b182e1adb61e556fcf4 + 'sc&#97;cr' + '&#46;' + '&#111;rg';
				var addy_text37650f1899ac3b182e1adb61e556fcf4 = 'n&#101;ws-s&#111;&#117;th' + '&#64;' + 'sc&#97;cr' + '&#46;' + '&#111;rg';document.getElementById('cloak37650f1899ac3b182e1adb61e556fcf4').innerHTML += '<a ' + path + '\'' + prefix + ':' + addy37650f1899ac3b182e1adb61e556fcf4 + '\'>'+addy_text37650f1899ac3b182e1adb61e556fcf4+'';
		
DTSTAMP:20260425T131716
DTSTART;TZID=Europe/London:20190817T100000
DTEND;TZID=Europe/London:20190817T120000
SEQUENCE:0
TRANSP:OPAQUE
END:VEVENT
END:VCALENDAR