BEGIN:VCALENDAR
VERSION:2.0
PRODID:-//jEvents 2.0 for Joomla//EN
CALSCALE:GREGORIAN
METHOD:PUBLISH
BEGIN:VTIMEZONE
TZID:Europe/London
BEGIN:STANDARD
DTSTART:20181028T010000
RDATE:20190331T020000
TZOFFSETFROM:+0100
TZOFFSETTO:+0000
TZNAME:Europe/London GMT
END:STANDARD
BEGIN:STANDARD
DTSTART:20191027T010000
RDATE:20200329T020000
TZOFFSETFROM:+0100
TZOFFSETTO:+0000
TZNAME:Europe/London GMT
END:STANDARD
BEGIN:STANDARD
DTSTART:20201025T010000
RDATE:20210328T020000
TZOFFSETFROM:+0100
TZOFFSETTO:+0000
TZNAME:Europe/London GMT
END:STANDARD
BEGIN:STANDARD
DTSTART:20211031T010000
RDATE:20220327T020000
TZOFFSETFROM:+0100
TZOFFSETTO:+0000
TZNAME:Europe/London GMT
END:STANDARD
BEGIN:STANDARD
DTSTART:20221030T010000
RDATE:20230326T020000
TZOFFSETFROM:+0100
TZOFFSETTO:+0000
TZNAME:Europe/London GMT
END:STANDARD
BEGIN:STANDARD
DTSTART:20231029T010000
RDATE:20240331T020000
TZOFFSETFROM:+0100
TZOFFSETTO:+0000
TZNAME:Europe/London GMT
END:STANDARD
BEGIN:STANDARD
DTSTART:20241027T010000
RDATE:20250330T020000
TZOFFSETFROM:+0100
TZOFFSETTO:+0000
TZNAME:Europe/London GMT
END:STANDARD
BEGIN:STANDARD
DTSTART:20251026T010000
RDATE:20260329T020000
TZOFFSETFROM:+0100
TZOFFSETTO:+0000
TZNAME:Europe/London GMT
END:STANDARD
BEGIN:STANDARD
DTSTART:20261025T010000
RDATE:20270328T020000
TZOFFSETFROM:+0100
TZOFFSETTO:+0000
TZNAME:Europe/London GMT
END:STANDARD
BEGIN:STANDARD
DTSTART:20271031T010000
RDATE:20280326T020000
TZOFFSETFROM:+0100
TZOFFSETTO:+0000
TZNAME:Europe/London GMT
END:STANDARD
BEGIN:STANDARD
DTSTART:20281029T010000
RDATE:20290325T020000
TZOFFSETFROM:+0100
TZOFFSETTO:+0000
TZNAME:Europe/London GMT
END:STANDARD
BEGIN:STANDARD
DTSTART:20291028T010000
RDATE:20300331T020000
TZOFFSETFROM:+0100
TZOFFSETTO:+0000
TZNAME:Europe/London GMT
END:STANDARD
BEGIN:STANDARD
DTSTART:20301027T010000
RDATE:20310330T020000
TZOFFSETFROM:+0100
TZOFFSETTO:+0000
TZNAME:Europe/London GMT
END:STANDARD
BEGIN:DAYLIGHT
DTSTART:20181004T140000
RDATE:20181028T010000
TZOFFSETFROM:+0000
TZOFFSETTO:+0100
TZNAME:Europe/London BST
END:DAYLIGHT
BEGIN:DAYLIGHT
DTSTART:20190331T020000
RDATE:20191027T010000
TZOFFSETFROM:+0000
TZOFFSETTO:+0100
TZNAME:Europe/London BST
END:DAYLIGHT
BEGIN:DAYLIGHT
DTSTART:20200329T020000
RDATE:20201025T010000
TZOFFSETFROM:+0000
TZOFFSETTO:+0100
TZNAME:Europe/London BST
END:DAYLIGHT
BEGIN:DAYLIGHT
DTSTART:20210328T020000
RDATE:20211031T010000
TZOFFSETFROM:+0000
TZOFFSETTO:+0100
TZNAME:Europe/London BST
END:DAYLIGHT
BEGIN:DAYLIGHT
DTSTART:20220327T020000
RDATE:20221030T010000
TZOFFSETFROM:+0000
TZOFFSETTO:+0100
TZNAME:Europe/London BST
END:DAYLIGHT
BEGIN:DAYLIGHT
DTSTART:20230326T020000
RDATE:20231029T010000
TZOFFSETFROM:+0000
TZOFFSETTO:+0100
TZNAME:Europe/London BST
END:DAYLIGHT
BEGIN:DAYLIGHT
DTSTART:20240331T020000
RDATE:20241027T010000
TZOFFSETFROM:+0000
TZOFFSETTO:+0100
TZNAME:Europe/London BST
END:DAYLIGHT
BEGIN:DAYLIGHT
DTSTART:20250330T020000
RDATE:20251026T010000
TZOFFSETFROM:+0000
TZOFFSETTO:+0100
TZNAME:Europe/London BST
END:DAYLIGHT
BEGIN:DAYLIGHT
DTSTART:20260329T020000
RDATE:20261025T010000
TZOFFSETFROM:+0000
TZOFFSETTO:+0100
TZNAME:Europe/London BST
END:DAYLIGHT
BEGIN:DAYLIGHT
DTSTART:20270328T020000
RDATE:20271031T010000
TZOFFSETFROM:+0000
TZOFFSETTO:+0100
TZNAME:Europe/London BST
END:DAYLIGHT
BEGIN:DAYLIGHT
DTSTART:20280326T020000
RDATE:20281029T010000
TZOFFSETFROM:+0000
TZOFFSETTO:+0100
TZNAME:Europe/London BST
END:DAYLIGHT
BEGIN:DAYLIGHT
DTSTART:20290325T020000
RDATE:20291028T010000
TZOFFSETFROM:+0000
TZOFFSETTO:+0100
TZNAME:Europe/London BST
END:DAYLIGHT
BEGIN:DAYLIGHT
DTSTART:20300331T020000
RDATE:20301027T010000
TZOFFSETFROM:+0000
TZOFFSETTO:+0100
TZNAME:Europe/London BST
END:DAYLIGHT
END:VTIMEZONE
BEGIN:VEVENT
UID:071b86588c3003368800fb5b89d641c8
CATEGORIES:North
CREATED:20190713T112032
SUMMARY:Intro to Bell Maintenance
LOCATION:TBC
URL;VALUE=URI:https://www.scacr.org/news-events/calendar/629/intro-to-bell-maintenance?tm
 pl=component
DESCRIPTION:Please note: time and location TBC\nThis course will be run by Simon Alford
 , Northern District Bell Restoration Rep. The afternoon will cover an intro
 duction to the regular checks and maintenance that should be done. \nPlaces
  are limited; Northern District steeple keepers will be given priority. Ple
 ase contact This email address is being protected from spambots. You need J
 avaScript enabled to view it.
				document.getElementById('cloak51ff5d98a5c
 6032d8331f8b70ee1acd2').innerHTML = '';
				var prefix = '&#109;a' + 'i&#10
 8;' + '&#116;o';
				var path = 'hr' + 'ef' + '=';
				var addy51ff5d98a5c6
 032d8331f8b70ee1acd2 = 's&#101;c-n&#111;rth' + '&#64;';
				addy51ff5d98a5c
 6032d8331f8b70ee1acd2 = addy51ff5d98a5c6032d8331f8b70ee1acd2 + 'sc&#97;cr' 
 + '&#46;' + '&#111;rg';
				var addy_text51ff5d98a5c6032d8331f8b70ee1acd2 =
  's&#101;c-n&#111;rth' + '&#64;' + 'sc&#97;cr' + '&#46;' + '&#111;rg';docum
 ent.getElementById('cloak51ff5d98a5c6032d8331f8b70ee1acd2').innerHTML += '<
 a ' + path + '\'' + prefix + ':' + addy51ff5d98a5c6032d8331f8b70ee1acd2 + '
 \'>'+addy_text51ff5d98a5c6032d8331f8b70ee1acd2+'';
		 to register your inte
 rest.\n This event was imported from: https://www.scacr.org/news-events/cal
 endar/629/intro-to-bell-maintenance?tmpl=component (https://www.scacr.org/n
 ews-events/calendar/629/intro-to-bell-maintenance?tmpl=component)
X-ALT-DESC;FMTTYPE=text/html:<p>Please note: time and location TBC</p><p>This course will be run by Simo
 n Alford, Northern District Bell Restoration Rep. The afternoon will cover 
 an introduction to the regular checks and maintenance that should be done.&
 nbsp;</p><p>Places are limited; Northern District steeple keepers will be g
 iven priority. Please contact <span id="cloak51ff5d98a5c6032d8331f8b70ee1ac
 d2">This email address is being protected from spambots. You need JavaScrip
 t enabled to view it.</span><script type='text/javascript'>
				document.ge
 tElementById('cloak51ff5d98a5c6032d8331f8b70ee1acd2').innerHTML = '';
				v
 ar prefix = '&#109;a' + 'i&#108;' + '&#116;o';
				var path = 'hr' + 'ef' +
  '=';
				var addy51ff5d98a5c6032d8331f8b70ee1acd2 = 's&#101;c-n&#111;rth' 
 + '&#64;';
				addy51ff5d98a5c6032d8331f8b70ee1acd2 = addy51ff5d98a5c6032d8
 331f8b70ee1acd2 + 'sc&#97;cr' + '&#46;' + '&#111;rg';
				var addy_text51ff
 5d98a5c6032d8331f8b70ee1acd2 = 's&#101;c-n&#111;rth' + '&#64;' + 'sc&#97;cr
 ' + '&#46;' + '&#111;rg';document.getElementById('cloak51ff5d98a5c6032d8331
 f8b70ee1acd2').innerHTML += '<a ' + path + '\'' + prefix + ':' + addy51ff5d
 98a5c6032d8331f8b70ee1acd2 + '\'>'+addy_text51ff5d98a5c6032d8331f8b70ee1acd
 2+'<\/a>';
		</script> to register your interest.</p> <a href="https://www.
 scacr.org/news-events/calendar/629/intro-to-bell-maintenance?tmpl=component
 ">This event was imported from: https://www.scacr.org/news-events/calendar/
 629/intro-to-bell-maintenance?tmpl=component</a>CONTACT:This email address is being protected from spambots. You need JavaScript enabled to view it.
				document.getElementById('cloak4518644e2d27d53b728b327e7f7b105c').innerHTML = '';
				var prefix = '&#109;a' + 'i&#108;' + '&#116;o';
				var path = 'hr' + 'ef' + '=';
				var addy4518644e2d27d53b728b327e7f7b105c = 's&#101;c-n&#111;rth' + '&#64;';
				addy4518644e2d27d53b728b327e7f7b105c = addy4518644e2d27d53b728b327e7f7b105c + 'sc&#97;cr' + '&#46;' + '&#111;rg';
				var addy_text4518644e2d27d53b728b327e7f7b105c = 's&#101;c-n&#111;rth' + '&#64;' + 'sc&#97;cr' + '&#46;' + '&#111;rg';document.getElementById('cloak4518644e2d27d53b728b327e7f7b105c').innerHTML += '<a ' + path + '\'' + prefix + ':' + addy4518644e2d27d53b728b327e7f7b105c + '\'>'+addy_text4518644e2d27d53b728b327e7f7b105c+'';
		
DTSTAMP:20260425T105512
DTSTART;TZID=Europe/London:20191005T140000
DTEND;TZID=Europe/London:20191005T170000
SEQUENCE:0
TRANSP:OPAQUE
END:VEVENT
END:VCALENDAR