BEGIN:VCALENDAR
VERSION:2.0
PRODID:-//jEvents 2.0 for Joomla//EN
CALSCALE:GREGORIAN
METHOD:PUBLISH
BEGIN:VTIMEZONE
TZID:Europe/London
BEGIN:STANDARD
DTSTART:20181028T010000
RDATE:20190331T020000
TZOFFSETFROM:+0100
TZOFFSETTO:+0000
TZNAME:Europe/London GMT
END:STANDARD
BEGIN:STANDARD
DTSTART:20191027T010000
RDATE:20200329T020000
TZOFFSETFROM:+0100
TZOFFSETTO:+0000
TZNAME:Europe/London GMT
END:STANDARD
BEGIN:STANDARD
DTSTART:20201025T010000
RDATE:20210328T020000
TZOFFSETFROM:+0100
TZOFFSETTO:+0000
TZNAME:Europe/London GMT
END:STANDARD
BEGIN:STANDARD
DTSTART:20211031T010000
RDATE:20220327T020000
TZOFFSETFROM:+0100
TZOFFSETTO:+0000
TZNAME:Europe/London GMT
END:STANDARD
BEGIN:STANDARD
DTSTART:20221030T010000
RDATE:20230326T020000
TZOFFSETFROM:+0100
TZOFFSETTO:+0000
TZNAME:Europe/London GMT
END:STANDARD
BEGIN:STANDARD
DTSTART:20231029T010000
RDATE:20240331T020000
TZOFFSETFROM:+0100
TZOFFSETTO:+0000
TZNAME:Europe/London GMT
END:STANDARD
BEGIN:STANDARD
DTSTART:20241027T010000
RDATE:20250330T020000
TZOFFSETFROM:+0100
TZOFFSETTO:+0000
TZNAME:Europe/London GMT
END:STANDARD
BEGIN:STANDARD
DTSTART:20251026T010000
RDATE:20260329T020000
TZOFFSETFROM:+0100
TZOFFSETTO:+0000
TZNAME:Europe/London GMT
END:STANDARD
BEGIN:STANDARD
DTSTART:20261025T010000
RDATE:20270328T020000
TZOFFSETFROM:+0100
TZOFFSETTO:+0000
TZNAME:Europe/London GMT
END:STANDARD
BEGIN:STANDARD
DTSTART:20271031T010000
RDATE:20280326T020000
TZOFFSETFROM:+0100
TZOFFSETTO:+0000
TZNAME:Europe/London GMT
END:STANDARD
BEGIN:STANDARD
DTSTART:20281029T010000
RDATE:20290325T020000
TZOFFSETFROM:+0100
TZOFFSETTO:+0000
TZNAME:Europe/London GMT
END:STANDARD
BEGIN:STANDARD
DTSTART:20291028T010000
RDATE:20300331T020000
TZOFFSETFROM:+0100
TZOFFSETTO:+0000
TZNAME:Europe/London GMT
END:STANDARD
BEGIN:STANDARD
DTSTART:20301027T010000
RDATE:20310330T020000
TZOFFSETFROM:+0100
TZOFFSETTO:+0000
TZNAME:Europe/London GMT
END:STANDARD
BEGIN:DAYLIGHT
DTSTART:20180905T100000
RDATE:20181028T010000
TZOFFSETFROM:+0000
TZOFFSETTO:+0100
TZNAME:Europe/London BST
END:DAYLIGHT
BEGIN:DAYLIGHT
DTSTART:20190331T020000
RDATE:20191027T010000
TZOFFSETFROM:+0000
TZOFFSETTO:+0100
TZNAME:Europe/London BST
END:DAYLIGHT
BEGIN:DAYLIGHT
DTSTART:20200329T020000
RDATE:20201025T010000
TZOFFSETFROM:+0000
TZOFFSETTO:+0100
TZNAME:Europe/London BST
END:DAYLIGHT
BEGIN:DAYLIGHT
DTSTART:20210328T020000
RDATE:20211031T010000
TZOFFSETFROM:+0000
TZOFFSETTO:+0100
TZNAME:Europe/London BST
END:DAYLIGHT
BEGIN:DAYLIGHT
DTSTART:20220327T020000
RDATE:20221030T010000
TZOFFSETFROM:+0000
TZOFFSETTO:+0100
TZNAME:Europe/London BST
END:DAYLIGHT
BEGIN:DAYLIGHT
DTSTART:20230326T020000
RDATE:20231029T010000
TZOFFSETFROM:+0000
TZOFFSETTO:+0100
TZNAME:Europe/London BST
END:DAYLIGHT
BEGIN:DAYLIGHT
DTSTART:20240331T020000
RDATE:20241027T010000
TZOFFSETFROM:+0000
TZOFFSETTO:+0100
TZNAME:Europe/London BST
END:DAYLIGHT
BEGIN:DAYLIGHT
DTSTART:20250330T020000
RDATE:20251026T010000
TZOFFSETFROM:+0000
TZOFFSETTO:+0100
TZNAME:Europe/London BST
END:DAYLIGHT
BEGIN:DAYLIGHT
DTSTART:20260329T020000
RDATE:20261025T010000
TZOFFSETFROM:+0000
TZOFFSETTO:+0100
TZNAME:Europe/London BST
END:DAYLIGHT
BEGIN:DAYLIGHT
DTSTART:20270328T020000
RDATE:20271031T010000
TZOFFSETFROM:+0000
TZOFFSETTO:+0100
TZNAME:Europe/London BST
END:DAYLIGHT
BEGIN:DAYLIGHT
DTSTART:20280326T020000
RDATE:20281029T010000
TZOFFSETFROM:+0000
TZOFFSETTO:+0100
TZNAME:Europe/London BST
END:DAYLIGHT
BEGIN:DAYLIGHT
DTSTART:20290325T020000
RDATE:20291028T010000
TZOFFSETFROM:+0000
TZOFFSETTO:+0100
TZNAME:Europe/London BST
END:DAYLIGHT
BEGIN:DAYLIGHT
DTSTART:20300331T020000
RDATE:20301027T010000
TZOFFSETFROM:+0000
TZOFFSETTO:+0100
TZNAME:Europe/London BST
END:DAYLIGHT
END:VTIMEZONE
BEGIN:VEVENT
UID:ff64087a8d956e2353eea7bbff56d22f
CATEGORIES:Other Event
CREATED:20190708T103926
SUMMARY:Central Council weekend and mini roadshow - South London
LOCATION:Goldsmiths\, University of London\, 8 Lewisham Way\, New Cross\, London SE1
 4 6NW\, UK 
URL;VALUE=URI:https://www.scacr.org/news-events/calendar/624/central-council-weekend-and-
 mini-roadshow-south-london?tmpl=component
DESCRIPTION:Central Council Weekend and mini-roadshow (South London)\n \nhttps://cccbr.
 org.uk/about/annual-meetings/2019-meeting/ (https://cccbr.org.uk/about/annu
 al-meetings/2019-meeting/)\n This event was imported from: https://www.scac
 r.org/news-events/calendar/624/central-council-weekend-and-mini-roadshow-so
 uth-london?tmpl=component (https://www.scacr.org/news-events/calendar/624/c
 entral-council-weekend-and-mini-roadshow-south-london?tmpl=component)
X-ALT-DESC;FMTTYPE=text/html:<p>Central Council Weekend and mini-roadshow (South London)</p><p>&nbsp;</p
 ><p><a href="https://cccbr.org.uk/about/annual-meetings/2019-meeting/">http
 s://cccbr.org.uk/about/annual-meetings/2019-meeting/</a></p> <a href="https
 ://www.scacr.org/news-events/calendar/624/central-council-weekend-and-mini-
 roadshow-south-london?tmpl=component">This event was imported from: https:/
 /www.scacr.org/news-events/calendar/624/central-council-weekend-and-mini-ro
 adshow-south-london?tmpl=component</a>CONTACT:This email address is being protected from spambots. You need JavaScript enabled to view it.
				document.getElementById('cloak927f51a5e30ee71b01b699cfc59cde46').innerHTML = '';
				var prefix = '&#109;a' + 'i&#108;' + '&#116;o';
				var path = 'hr' + 'ef' + '=';
				var addy927f51a5e30ee71b01b699cfc59cde46 = 'L&#111;nd&#111;n2019Ev&#101;nts' + '&#64;';
				addy927f51a5e30ee71b01b699cfc59cde46 = addy927f51a5e30ee71b01b699cfc59cde46 + 'cccbr' + '&#46;' + '&#111;rg' + '&#46;' + '&#117;k';
				var addy_text927f51a5e30ee71b01b699cfc59cde46 = 'L&#111;nd&#111;n2019Ev&#101;nts' + '&#64;' + 'cccbr' + '&#46;' + '&#111;rg' + '&#46;' + '&#117;k';document.getElementById('cloak927f51a5e30ee71b01b699cfc59cde46').innerHTML += '<a ' + path + '\'' + prefix + ':' + addy927f51a5e30ee71b01b699cfc59cde46 + '\'>'+addy_text927f51a5e30ee71b01b699cfc59cde46+'';
		
DTSTAMP:20260425T154105
DTSTART;TZID=Europe/London:20190906T100000
DTEND;TZID=Europe/London:20190908T170000
SEQUENCE:0
TRANSP:OPAQUE
END:VEVENT
END:VCALENDAR