BEGIN:VCALENDAR
VERSION:2.0
PRODID:-//jEvents 2.0 for Joomla//EN
CALSCALE:GREGORIAN
METHOD:PUBLISH
BEGIN:VTIMEZONE
TZID:Europe/London
BEGIN:STANDARD
DTSTART:20181028T010000
RDATE:20190331T020000
TZOFFSETFROM:+0100
TZOFFSETTO:+0000
TZNAME:Europe/London GMT
END:STANDARD
BEGIN:STANDARD
DTSTART:20191027T010000
RDATE:20200329T020000
TZOFFSETFROM:+0100
TZOFFSETTO:+0000
TZNAME:Europe/London GMT
END:STANDARD
BEGIN:STANDARD
DTSTART:20201025T010000
RDATE:20210328T020000
TZOFFSETFROM:+0100
TZOFFSETTO:+0000
TZNAME:Europe/London GMT
END:STANDARD
BEGIN:STANDARD
DTSTART:20211031T010000
RDATE:20220327T020000
TZOFFSETFROM:+0100
TZOFFSETTO:+0000
TZNAME:Europe/London GMT
END:STANDARD
BEGIN:STANDARD
DTSTART:20221030T010000
RDATE:20230326T020000
TZOFFSETFROM:+0100
TZOFFSETTO:+0000
TZNAME:Europe/London GMT
END:STANDARD
BEGIN:STANDARD
DTSTART:20231029T010000
RDATE:20240331T020000
TZOFFSETFROM:+0100
TZOFFSETTO:+0000
TZNAME:Europe/London GMT
END:STANDARD
BEGIN:STANDARD
DTSTART:20241027T010000
RDATE:20250330T020000
TZOFFSETFROM:+0100
TZOFFSETTO:+0000
TZNAME:Europe/London GMT
END:STANDARD
BEGIN:STANDARD
DTSTART:20251026T010000
RDATE:20260329T020000
TZOFFSETFROM:+0100
TZOFFSETTO:+0000
TZNAME:Europe/London GMT
END:STANDARD
BEGIN:STANDARD
DTSTART:20261025T010000
RDATE:20270328T020000
TZOFFSETFROM:+0100
TZOFFSETTO:+0000
TZNAME:Europe/London GMT
END:STANDARD
BEGIN:STANDARD
DTSTART:20271031T010000
RDATE:20280326T020000
TZOFFSETFROM:+0100
TZOFFSETTO:+0000
TZNAME:Europe/London GMT
END:STANDARD
BEGIN:STANDARD
DTSTART:20281029T010000
RDATE:20290325T020000
TZOFFSETFROM:+0100
TZOFFSETTO:+0000
TZNAME:Europe/London GMT
END:STANDARD
BEGIN:STANDARD
DTSTART:20291028T010000
RDATE:20300331T020000
TZOFFSETFROM:+0100
TZOFFSETTO:+0000
TZNAME:Europe/London GMT
END:STANDARD
BEGIN:STANDARD
DTSTART:20301027T010000
RDATE:20310330T020000
TZOFFSETFROM:+0100
TZOFFSETTO:+0000
TZNAME:Europe/London GMT
END:STANDARD
BEGIN:DAYLIGHT
DTSTART:20181011T000000
RDATE:20181028T010000
TZOFFSETFROM:+0000
TZOFFSETTO:+0100
TZNAME:Europe/London BST
END:DAYLIGHT
BEGIN:DAYLIGHT
DTSTART:20190331T020000
RDATE:20191027T010000
TZOFFSETFROM:+0000
TZOFFSETTO:+0100
TZNAME:Europe/London BST
END:DAYLIGHT
BEGIN:DAYLIGHT
DTSTART:20200329T020000
RDATE:20201025T010000
TZOFFSETFROM:+0000
TZOFFSETTO:+0100
TZNAME:Europe/London BST
END:DAYLIGHT
BEGIN:DAYLIGHT
DTSTART:20210328T020000
RDATE:20211031T010000
TZOFFSETFROM:+0000
TZOFFSETTO:+0100
TZNAME:Europe/London BST
END:DAYLIGHT
BEGIN:DAYLIGHT
DTSTART:20220327T020000
RDATE:20221030T010000
TZOFFSETFROM:+0000
TZOFFSETTO:+0100
TZNAME:Europe/London BST
END:DAYLIGHT
BEGIN:DAYLIGHT
DTSTART:20230326T020000
RDATE:20231029T010000
TZOFFSETFROM:+0000
TZOFFSETTO:+0100
TZNAME:Europe/London BST
END:DAYLIGHT
BEGIN:DAYLIGHT
DTSTART:20240331T020000
RDATE:20241027T010000
TZOFFSETFROM:+0000
TZOFFSETTO:+0100
TZNAME:Europe/London BST
END:DAYLIGHT
BEGIN:DAYLIGHT
DTSTART:20250330T020000
RDATE:20251026T010000
TZOFFSETFROM:+0000
TZOFFSETTO:+0100
TZNAME:Europe/London BST
END:DAYLIGHT
BEGIN:DAYLIGHT
DTSTART:20260329T020000
RDATE:20261025T010000
TZOFFSETFROM:+0000
TZOFFSETTO:+0100
TZNAME:Europe/London BST
END:DAYLIGHT
BEGIN:DAYLIGHT
DTSTART:20270328T020000
RDATE:20271031T010000
TZOFFSETFROM:+0000
TZOFFSETTO:+0100
TZNAME:Europe/London BST
END:DAYLIGHT
BEGIN:DAYLIGHT
DTSTART:20280326T020000
RDATE:20281029T010000
TZOFFSETFROM:+0000
TZOFFSETTO:+0100
TZNAME:Europe/London BST
END:DAYLIGHT
BEGIN:DAYLIGHT
DTSTART:20290325T020000
RDATE:20291028T010000
TZOFFSETFROM:+0000
TZOFFSETTO:+0100
TZNAME:Europe/London BST
END:DAYLIGHT
BEGIN:DAYLIGHT
DTSTART:20300331T020000
RDATE:20301027T010000
TZOFFSETFROM:+0000
TZOFFSETTO:+0100
TZNAME:Europe/London BST
END:DAYLIGHT
END:VTIMEZONE
BEGIN:VEVENT
UID:defff71d3f54f9e658cafb4a43f63678
CATEGORIES:West
CREATED:20190609T170617
SUMMARY:West District Outing - London 'City' area
LOCATION:London
URL;VALUE=URI:https://www.scacr.org/news-events/calendar/613/west-district-outing-london-
 city-area?tmpl=component
DESCRIPTION:<p>Travel is by train then walking between the Towers.</p><p>You will need 
 to get their own train ticket to arrive at City Thames Link Station, London
  by 10.15am at the latest. The last tower is set to finish at 6pm near to L
 ondon Bridge Station for return journey home.</p><p>There should be 6 Tower
 s in the City area of London.&nbsp; Actual Towers will be added when confir
 med but they are in 'City' area of London. <a href="media/com_acymailing/up
 load/western_ringing_outing_2019.pdf">[Download Poster]</a></p><p>If you in
 tend coming please let Moya Hills know, with contact details for yourself, 
 so you are contactable on the day.</p><p>Contact details for Moya: <span id
 ="cloakf2fcb5f1e2ed209534bdfb915d54707f">This email address is being protec
 ted from spambots. You need JavaScript enabled to view it.</span><script ty
 pe='text/javascript'>
				document.getElementById('cloakf2fcb5f1e2ed209534b
 dfb915d54707f').innerHTML = '';
				var prefix = '&#109;a' + 'i&#108;' + '&
 #116;o';
				var path = 'hr' + 'ef' + '=';
				var addyf2fcb5f1e2ed209534bd
 fb915d54707f = 's&#101;c-w&#101;st' + '&#64;';
				addyf2fcb5f1e2ed209534bd
 fb915d54707f = addyf2fcb5f1e2ed209534bdfb915d54707f + 'sc&#97;cr' + '&#46;'
  + '&#111;rg';
				var addy_textf2fcb5f1e2ed209534bdfb915d54707f = 's&#101;
 c-w&#101;st' + '&#64;' + 'sc&#97;cr' + '&#46;' + '&#111;rg';document.getEle
 mentById('cloakf2fcb5f1e2ed209534bdfb915d54707f').innerHTML += '<a ' + path
  + '\'' + prefix + ':' + addyf2fcb5f1e2ed209534bdfb915d54707f + '\'>'+addy_
 textf2fcb5f1e2ed209534bdfb915d54707f+'<\/a>';
		</script> or phone/text 079
 41 178474)</p> <a href="https://www.scacr.org/news-events/calendar/613/west
 -district-outing-london-city-area?tmpl=component">This event was imported f
 rom: https://www.scacr.org/news-events/calendar/613/west-district-outing-lo
 ndon-city-area?tmpl=component</a>
X-ALT-DESC;FMTTYPE=text/html:<p>Travel is by train then walking between the Towers.</p><p>You will need 
 to get their own train ticket to arrive at City Thames Link Station, London
  by 10.15am at the latest. The last tower is set to finish at 6pm near to L
 ondon Bridge Station for return journey home.</p><p>There should be 6 Tower
 s in the City area of London.&nbsp; Actual Towers will be added when confir
 med but they are in 'City' area of London. <a href="https://www.scacr.org/m
 edia/com_acymailing/upload/western_ringing_outing_2019.pdf">[Download Poste
 r]</a></p><p>If you intend coming please let Moya Hills know, with contact 
 details for yourself, so you are contactable on the day.</p><p>Contact deta
 ils for Moya: <span id="cloakf2fcb5f1e2ed209534bdfb915d54707f">This email a
 ddress is being protected from spambots. You need JavaScript enabled to vie
 w it.</span><script type='text/javascript'>
				document.getElementById('cl
 oakf2fcb5f1e2ed209534bdfb915d54707f').innerHTML = '';
				var prefix = '&#1
 09;a' + 'i&#108;' + '&#116;o';
				var path = 'hr' + 'ef' + '=';
				var ad
 dyf2fcb5f1e2ed209534bdfb915d54707f = 's&#101;c-w&#101;st' + '&#64;';
				ad
 dyf2fcb5f1e2ed209534bdfb915d54707f = addyf2fcb5f1e2ed209534bdfb915d54707f +
  'sc&#97;cr' + '&#46;' + '&#111;rg';
				var addy_textf2fcb5f1e2ed209534bdf
 b915d54707f = 's&#101;c-w&#101;st' + '&#64;' + 'sc&#97;cr' + '&#46;' + '&#1
 11;rg';document.getElementById('cloakf2fcb5f1e2ed209534bdfb915d54707f').inn
 erHTML += '<a ' + path + '\'' + prefix + ':' + addyf2fcb5f1e2ed209534bdfb91
 5d54707f + '\'>'+addy_textf2fcb5f1e2ed209534bdfb915d54707f+'<\/a>';
		</scr
 ipt> or phone/text 07941 178474)</p> <a href="https://www.scacr.org/news-ev
 ents/calendar/613/west-district-outing-london-city-area?tmpl=component">Thi
 s event was imported from: https://www.scacr.org/news-events/calendar/613/w
 est-district-outing-london-city-area?tmpl=component</a>CONTACT:This email address is being protected from spambots. You need JavaScript enabled to view it.
				document.getElementById('cloakdfa593c9a341b2b2805775ebff7d3527').innerHTML = '';
				var prefix = '&#109;a' + 'i&#108;' + '&#116;o';
				var path = 'hr' + 'ef' + '=';
				var addydfa593c9a341b2b2805775ebff7d3527 = 's&#101;c-w&#101;st' + '&#64;';
				addydfa593c9a341b2b2805775ebff7d3527 = addydfa593c9a341b2b2805775ebff7d3527 + 'sc&#97;cr' + '&#46;' + '&#111;rg';
				var addy_textdfa593c9a341b2b2805775ebff7d3527 = 's&#101;c-w&#101;st' + '&#64;' + 'sc&#97;cr' + '&#46;' + '&#111;rg';document.getElementById('cloakdfa593c9a341b2b2805775ebff7d3527').innerHTML += '<a ' + path + '\'' + prefix + ':' + addydfa593c9a341b2b2805775ebff7d3527 + '\'>'+addy_textdfa593c9a341b2b2805775ebff7d3527+'';
		
DTSTAMP:20260424T173513
DTSTART;TZID=Europe/London;VALUE=DATE:20191012
DTEND;TZID=Europe/London;VALUE=DATE:20191013
SEQUENCE:0
TRANSP:OPAQUE
END:VEVENT
END:VCALENDAR