BEGIN:VCALENDAR
VERSION:2.0
PRODID:-//jEvents 2.0 for Joomla//EN
CALSCALE:GREGORIAN
METHOD:PUBLISH
BEGIN:VTIMEZONE
TZID:Europe/London
BEGIN:STANDARD
DTSTART:20181028T010000
RDATE:20190331T020000
TZOFFSETFROM:+0100
TZOFFSETTO:+0000
TZNAME:Europe/London GMT
END:STANDARD
BEGIN:STANDARD
DTSTART:20191027T010000
RDATE:20200329T020000
TZOFFSETFROM:+0100
TZOFFSETTO:+0000
TZNAME:Europe/London GMT
END:STANDARD
BEGIN:STANDARD
DTSTART:20201025T010000
RDATE:20210328T020000
TZOFFSETFROM:+0100
TZOFFSETTO:+0000
TZNAME:Europe/London GMT
END:STANDARD
BEGIN:STANDARD
DTSTART:20211031T010000
RDATE:20220327T020000
TZOFFSETFROM:+0100
TZOFFSETTO:+0000
TZNAME:Europe/London GMT
END:STANDARD
BEGIN:STANDARD
DTSTART:20221030T010000
RDATE:20230326T020000
TZOFFSETFROM:+0100
TZOFFSETTO:+0000
TZNAME:Europe/London GMT
END:STANDARD
BEGIN:STANDARD
DTSTART:20231029T010000
RDATE:20240331T020000
TZOFFSETFROM:+0100
TZOFFSETTO:+0000
TZNAME:Europe/London GMT
END:STANDARD
BEGIN:STANDARD
DTSTART:20241027T010000
RDATE:20250330T020000
TZOFFSETFROM:+0100
TZOFFSETTO:+0000
TZNAME:Europe/London GMT
END:STANDARD
BEGIN:STANDARD
DTSTART:20251026T010000
RDATE:20260329T020000
TZOFFSETFROM:+0100
TZOFFSETTO:+0000
TZNAME:Europe/London GMT
END:STANDARD
BEGIN:STANDARD
DTSTART:20261025T010000
RDATE:20270328T020000
TZOFFSETFROM:+0100
TZOFFSETTO:+0000
TZNAME:Europe/London GMT
END:STANDARD
BEGIN:STANDARD
DTSTART:20271031T010000
RDATE:20280326T020000
TZOFFSETFROM:+0100
TZOFFSETTO:+0000
TZNAME:Europe/London GMT
END:STANDARD
BEGIN:STANDARD
DTSTART:20281029T010000
RDATE:20290325T020000
TZOFFSETFROM:+0100
TZOFFSETTO:+0000
TZNAME:Europe/London GMT
END:STANDARD
BEGIN:STANDARD
DTSTART:20291028T010000
RDATE:20300331T020000
TZOFFSETFROM:+0100
TZOFFSETTO:+0000
TZNAME:Europe/London GMT
END:STANDARD
BEGIN:STANDARD
DTSTART:20301027T010000
RDATE:20310330T020000
TZOFFSETFROM:+0100
TZOFFSETTO:+0000
TZNAME:Europe/London GMT
END:STANDARD
BEGIN:DAYLIGHT
DTSTART:20180913T100000
RDATE:20181028T010000
TZOFFSETFROM:+0000
TZOFFSETTO:+0100
TZNAME:Europe/London BST
END:DAYLIGHT
BEGIN:DAYLIGHT
DTSTART:20190331T020000
RDATE:20191027T010000
TZOFFSETFROM:+0000
TZOFFSETTO:+0100
TZNAME:Europe/London BST
END:DAYLIGHT
BEGIN:DAYLIGHT
DTSTART:20200329T020000
RDATE:20201025T010000
TZOFFSETFROM:+0000
TZOFFSETTO:+0100
TZNAME:Europe/London BST
END:DAYLIGHT
BEGIN:DAYLIGHT
DTSTART:20210328T020000
RDATE:20211031T010000
TZOFFSETFROM:+0000
TZOFFSETTO:+0100
TZNAME:Europe/London BST
END:DAYLIGHT
BEGIN:DAYLIGHT
DTSTART:20220327T020000
RDATE:20221030T010000
TZOFFSETFROM:+0000
TZOFFSETTO:+0100
TZNAME:Europe/London BST
END:DAYLIGHT
BEGIN:DAYLIGHT
DTSTART:20230326T020000
RDATE:20231029T010000
TZOFFSETFROM:+0000
TZOFFSETTO:+0100
TZNAME:Europe/London BST
END:DAYLIGHT
BEGIN:DAYLIGHT
DTSTART:20240331T020000
RDATE:20241027T010000
TZOFFSETFROM:+0000
TZOFFSETTO:+0100
TZNAME:Europe/London BST
END:DAYLIGHT
BEGIN:DAYLIGHT
DTSTART:20250330T020000
RDATE:20251026T010000
TZOFFSETFROM:+0000
TZOFFSETTO:+0100
TZNAME:Europe/London BST
END:DAYLIGHT
BEGIN:DAYLIGHT
DTSTART:20260329T020000
RDATE:20261025T010000
TZOFFSETFROM:+0000
TZOFFSETTO:+0100
TZNAME:Europe/London BST
END:DAYLIGHT
BEGIN:DAYLIGHT
DTSTART:20270328T020000
RDATE:20271031T010000
TZOFFSETFROM:+0000
TZOFFSETTO:+0100
TZNAME:Europe/London BST
END:DAYLIGHT
BEGIN:DAYLIGHT
DTSTART:20280326T020000
RDATE:20281029T010000
TZOFFSETFROM:+0000
TZOFFSETTO:+0100
TZNAME:Europe/London BST
END:DAYLIGHT
BEGIN:DAYLIGHT
DTSTART:20290325T020000
RDATE:20291028T010000
TZOFFSETFROM:+0000
TZOFFSETTO:+0100
TZNAME:Europe/London BST
END:DAYLIGHT
BEGIN:DAYLIGHT
DTSTART:20300331T020000
RDATE:20301027T010000
TZOFFSETFROM:+0000
TZOFFSETTO:+0100
TZNAME:Europe/London BST
END:DAYLIGHT
END:VTIMEZONE
BEGIN:VEVENT
UID:af5b2629e49c54e4ae9ed036397ef9e2
CATEGORIES:West
CREATED:20190609T165730
SUMMARY:Yapton - Morning Get Together
LOCATION:Yapton -BN18 0EP
URL;VALUE=URI:https://www.scacr.org/news-events/calendar/607/yapton-morning-get-together?
 tmpl=component
DESCRIPTION:<p>A friendly morning ring with coffee.&nbsp; Eveyone welcome, especially n
 ew ringers.&nbsp; We will ring from rounds onwards according to the standar
 d of people attending.</p><p style="color: #000000;">Please let Moya (<span
  id="cloak196dd2b52738c088d477aeb70e022285">This email address is being pro
 tected from spambots. You need JavaScript enabled to view it.</span><script
  type='text/javascript'>
				document.getElementById('cloak196dd2b52738c088
 d477aeb70e022285').innerHTML = '';
				var prefix = '&#109;a' + 'i&#108;' +
  '&#116;o';
				var path = 'hr' + 'ef' + '=';
				var addy196dd2b52738c088d
 477aeb70e022285 = 's&#101;c-w&#101;st' + '&#64;';
				addy196dd2b52738c088d
 477aeb70e022285 = addy196dd2b52738c088d477aeb70e022285 + 'sc&#97;cr' + '&#4
 6;' + '&#111;rg';
				var addy_text196dd2b52738c088d477aeb70e022285 = 's&#1
 01;c-w&#101;st' + '&#64;' + 'sc&#97;cr' + '&#46;' + '&#111;rg';document.get
 ElementById('cloak196dd2b52738c088d477aeb70e022285').innerHTML += '<a ' + p
 ath + '\'' + prefix + ':' + addy196dd2b52738c088d477aeb70e022285 + '\'>'+ad
 dy_text196dd2b52738c088d477aeb70e022285+'<\/a>';
		</script> or 01903-26698
 0) know if you intend coming for numbers for refreshments.</p> <a href="htt
 ps://www.scacr.org/news-events/calendar/607/yapton-morning-get-together?tmp
 l=component">This event was imported from: https://www.scacr.org/news-event
 s/calendar/607/yapton-morning-get-together?tmpl=component</a>CONTACT:This email address is being protected from spambots. You need JavaScript enabled to view it.
				document.getElementById('cloak722ce39829be4b567430e37800f08c7a').innerHTML = '';
				var prefix = '&#109;a' + 'i&#108;' + '&#116;o';
				var path = 'hr' + 'ef' + '=';
				var addy722ce39829be4b567430e37800f08c7a = 's&#101;c-w&#101;st' + '&#64;';
				addy722ce39829be4b567430e37800f08c7a = addy722ce39829be4b567430e37800f08c7a + 'sc&#97;cr' + '&#46;' + '&#111;rg';
				var addy_text722ce39829be4b567430e37800f08c7a = 's&#101;c-w&#101;st' + '&#64;' + 'sc&#97;cr' + '&#46;' + '&#111;rg';document.getElementById('cloak722ce39829be4b567430e37800f08c7a').innerHTML += '<a ' + path + '\'' + prefix + ':' + addy722ce39829be4b567430e37800f08c7a + '\'>'+addy_text722ce39829be4b567430e37800f08c7a+'';
		
DTSTAMP:20260425T131703
DTSTART;TZID=Europe/London:20190914T100000
DTEND;TZID=Europe/London:20190914T120000
SEQUENCE:0
TRANSP:OPAQUE
END:VEVENT
END:VCALENDAR