BEGIN:VCALENDAR
VERSION:2.0
PRODID:-//jEvents 2.0 for Joomla//EN
CALSCALE:GREGORIAN
METHOD:PUBLISH
BEGIN:VTIMEZONE
TZID:Europe/London
BEGIN:STANDARD
DTSTART:20181028T010000
RDATE:20190331T020000
TZOFFSETFROM:+0100
TZOFFSETTO:+0000
TZNAME:Europe/London GMT
END:STANDARD
BEGIN:STANDARD
DTSTART:20191027T010000
RDATE:20200329T020000
TZOFFSETFROM:+0100
TZOFFSETTO:+0000
TZNAME:Europe/London GMT
END:STANDARD
BEGIN:STANDARD
DTSTART:20201025T010000
RDATE:20210328T020000
TZOFFSETFROM:+0100
TZOFFSETTO:+0000
TZNAME:Europe/London GMT
END:STANDARD
BEGIN:STANDARD
DTSTART:20211031T010000
RDATE:20220327T020000
TZOFFSETFROM:+0100
TZOFFSETTO:+0000
TZNAME:Europe/London GMT
END:STANDARD
BEGIN:STANDARD
DTSTART:20221030T010000
RDATE:20230326T020000
TZOFFSETFROM:+0100
TZOFFSETTO:+0000
TZNAME:Europe/London GMT
END:STANDARD
BEGIN:STANDARD
DTSTART:20231029T010000
RDATE:20240331T020000
TZOFFSETFROM:+0100
TZOFFSETTO:+0000
TZNAME:Europe/London GMT
END:STANDARD
BEGIN:STANDARD
DTSTART:20241027T010000
RDATE:20250330T020000
TZOFFSETFROM:+0100
TZOFFSETTO:+0000
TZNAME:Europe/London GMT
END:STANDARD
BEGIN:STANDARD
DTSTART:20251026T010000
RDATE:20260329T020000
TZOFFSETFROM:+0100
TZOFFSETTO:+0000
TZNAME:Europe/London GMT
END:STANDARD
BEGIN:STANDARD
DTSTART:20261025T010000
RDATE:20270328T020000
TZOFFSETFROM:+0100
TZOFFSETTO:+0000
TZNAME:Europe/London GMT
END:STANDARD
BEGIN:STANDARD
DTSTART:20271031T010000
RDATE:20280326T020000
TZOFFSETFROM:+0100
TZOFFSETTO:+0000
TZNAME:Europe/London GMT
END:STANDARD
BEGIN:STANDARD
DTSTART:20281029T010000
RDATE:20290325T020000
TZOFFSETFROM:+0100
TZOFFSETTO:+0000
TZNAME:Europe/London GMT
END:STANDARD
BEGIN:STANDARD
DTSTART:20291028T010000
RDATE:20300331T020000
TZOFFSETFROM:+0100
TZOFFSETTO:+0000
TZNAME:Europe/London GMT
END:STANDARD
BEGIN:STANDARD
DTSTART:20301027T010000
RDATE:20310330T020000
TZOFFSETFROM:+0100
TZOFFSETTO:+0000
TZNAME:Europe/London GMT
END:STANDARD
BEGIN:DAYLIGHT
DTSTART:20180809T101500
RDATE:20181028T010000
TZOFFSETFROM:+0000
TZOFFSETTO:+0100
TZNAME:Europe/London BST
END:DAYLIGHT
BEGIN:DAYLIGHT
DTSTART:20190331T020000
RDATE:20191027T010000
TZOFFSETFROM:+0000
TZOFFSETTO:+0100
TZNAME:Europe/London BST
END:DAYLIGHT
BEGIN:DAYLIGHT
DTSTART:20200329T020000
RDATE:20201025T010000
TZOFFSETFROM:+0000
TZOFFSETTO:+0100
TZNAME:Europe/London BST
END:DAYLIGHT
BEGIN:DAYLIGHT
DTSTART:20210328T020000
RDATE:20211031T010000
TZOFFSETFROM:+0000
TZOFFSETTO:+0100
TZNAME:Europe/London BST
END:DAYLIGHT
BEGIN:DAYLIGHT
DTSTART:20220327T020000
RDATE:20221030T010000
TZOFFSETFROM:+0000
TZOFFSETTO:+0100
TZNAME:Europe/London BST
END:DAYLIGHT
BEGIN:DAYLIGHT
DTSTART:20230326T020000
RDATE:20231029T010000
TZOFFSETFROM:+0000
TZOFFSETTO:+0100
TZNAME:Europe/London BST
END:DAYLIGHT
BEGIN:DAYLIGHT
DTSTART:20240331T020000
RDATE:20241027T010000
TZOFFSETFROM:+0000
TZOFFSETTO:+0100
TZNAME:Europe/London BST
END:DAYLIGHT
BEGIN:DAYLIGHT
DTSTART:20250330T020000
RDATE:20251026T010000
TZOFFSETFROM:+0000
TZOFFSETTO:+0100
TZNAME:Europe/London BST
END:DAYLIGHT
BEGIN:DAYLIGHT
DTSTART:20260329T020000
RDATE:20261025T010000
TZOFFSETFROM:+0000
TZOFFSETTO:+0100
TZNAME:Europe/London BST
END:DAYLIGHT
BEGIN:DAYLIGHT
DTSTART:20270328T020000
RDATE:20271031T010000
TZOFFSETFROM:+0000
TZOFFSETTO:+0100
TZNAME:Europe/London BST
END:DAYLIGHT
BEGIN:DAYLIGHT
DTSTART:20280326T020000
RDATE:20281029T010000
TZOFFSETFROM:+0000
TZOFFSETTO:+0100
TZNAME:Europe/London BST
END:DAYLIGHT
BEGIN:DAYLIGHT
DTSTART:20290325T020000
RDATE:20291028T010000
TZOFFSETFROM:+0000
TZOFFSETTO:+0100
TZNAME:Europe/London BST
END:DAYLIGHT
BEGIN:DAYLIGHT
DTSTART:20300331T020000
RDATE:20301027T010000
TZOFFSETFROM:+0000
TZOFFSETTO:+0100
TZNAME:Europe/London BST
END:DAYLIGHT
END:VTIMEZONE
BEGIN:VEVENT
UID:990926ae4b77d29197e76967d3d660d1
CATEGORIES:West
CREATED:20190609T163900
SUMMARY:Walk and Ring - Stoughton/Funtington
LOCATION:Stoughton PO18 9JJ walking to Funtington PO18 9LH
URL;VALUE=URI:https://www.scacr.org/news-events/calendar/604/walk-and-ring-stoughton-funt
 ington?tmpl=component
DESCRIPTION:Meet at Funtington at 10.15am where you can leave your car by the church an
 d get a lift to Stoughton to ring for approx. 3/4hour before leaving to wal
 k across the Downs to Funtington.  Hopefully some light refreshments will b
 e available at Funtington (or you can bring a picnic) followed by a ring on
  this ground floor ring of bells.\nIf you intend doing the walk please let 
 Moya know to allow for organisation and catering (This email address is bei
 ng protected from spambots. You need JavaScript enabled to view it.
				doc
 ument.getElementById('cloak7bff3b78dca5423b3974759ea3322ecf').innerHTML = '
 ';
				var prefix = '&#109;a' + 'i&#108;' + '&#116;o';
				var path = 'hr' 
 + 'ef' + '=';
				var addy7bff3b78dca5423b3974759ea3322ecf = 's&#101;c-w&#1
 01;st' + '&#64;';
				addy7bff3b78dca5423b3974759ea3322ecf = addy7bff3b78dc
 a5423b3974759ea3322ecf + 'sc&#97;cr' + '&#46;' + '&#111;rg';
				var addy_t
 ext7bff3b78dca5423b3974759ea3322ecf = 's&#101;c-w&#101;st' + '&#64;' + 'sc&
 #97;cr' + '&#46;' + '&#111;rg';document.getElementById('cloak7bff3b78dca542
 3b3974759ea3322ecf').innerHTML += '<a ' + path + '\'' + prefix + ':' + addy
 7bff3b78dca5423b3974759ea3322ecf + '\'>'+addy_text7bff3b78dca5423b3974759ea
 3322ecf+'';
		 or 01903-266980)\nStoughton doesn't have any facilities i.e.
  toilets but Funtington does.\n This event was imported from: https://www.s
 cacr.org/news-events/calendar/604/walk-and-ring-stoughton-funtington?tmpl=c
 omponent (https://www.scacr.org/news-events/calendar/604/walk-and-ring-stou
 ghton-funtington?tmpl=component)
X-ALT-DESC;FMTTYPE=text/html:<p>Meet at Funtington at 10.15am where you can leave your car by the church
  and get a lift to Stoughton to ring for approx. 3/4hour before leaving to 
 walk across the Downs to&nbsp;Funtington.&nbsp; Hopefully some light refres
 hments will be available at Funtington (or you can bring a picnic) followed
  by a ring on this ground floor ring of bells.</p><p>If you&nbsp;intend doi
 ng&nbsp;the walk please let Moya know to allow for organisation and caterin
 g (<span id="cloak7bff3b78dca5423b3974759ea3322ecf">This email address is b
 eing protected from spambots. You need JavaScript enabled to view it.</span
 ><script type='text/javascript'>
				document.getElementById('cloak7bff3b78
 dca5423b3974759ea3322ecf').innerHTML = '';
				var prefix = '&#109;a' + 'i&
 #108;' + '&#116;o';
				var path = 'hr' + 'ef' + '=';
				var addy7bff3b78d
 ca5423b3974759ea3322ecf = 's&#101;c-w&#101;st' + '&#64;';
				addy7bff3b78d
 ca5423b3974759ea3322ecf = addy7bff3b78dca5423b3974759ea3322ecf + 'sc&#97;cr
 ' + '&#46;' + '&#111;rg';
				var addy_text7bff3b78dca5423b3974759ea3322ecf
  = 's&#101;c-w&#101;st' + '&#64;' + 'sc&#97;cr' + '&#46;' + '&#111;rg';docu
 ment.getElementById('cloak7bff3b78dca5423b3974759ea3322ecf').innerHTML += '
 <a ' + path + '\'' + prefix + ':' + addy7bff3b78dca5423b3974759ea3322ecf + 
 '\'>'+addy_text7bff3b78dca5423b3974759ea3322ecf+'<\/a>';
		</script> or 019
 03-266980)</p><p>Stoughton doesn't have any facilities i.e. toilets but Fun
 tington does.</p> <a href="https://www.scacr.org/news-events/calendar/604/w
 alk-and-ring-stoughton-funtington?tmpl=component">This event was imported f
 rom: https://www.scacr.org/news-events/calendar/604/walk-and-ring-stoughton
 -funtington?tmpl=component</a>CONTACT:This email address is being protected from spambots. You need JavaScript enabled to view it.
				document.getElementById('cloake021cfe89eee0c3f10aa505d1e9371bc').innerHTML = '';
				var prefix = '&#109;a' + 'i&#108;' + '&#116;o';
				var path = 'hr' + 'ef' + '=';
				var addye021cfe89eee0c3f10aa505d1e9371bc = 's&#101;c-w&#101;st' + '&#64;';
				addye021cfe89eee0c3f10aa505d1e9371bc = addye021cfe89eee0c3f10aa505d1e9371bc + 'sc&#97;cr' + '&#46;' + '&#111;rg';
				var addy_texte021cfe89eee0c3f10aa505d1e9371bc = 's&#101;c-w&#101;st' + '&#64;' + 'sc&#97;cr' + '&#46;' + '&#111;rg';document.getElementById('cloake021cfe89eee0c3f10aa505d1e9371bc').innerHTML += '<a ' + path + '\'' + prefix + ':' + addye021cfe89eee0c3f10aa505d1e9371bc + '\'>'+addy_texte021cfe89eee0c3f10aa505d1e9371bc+'';
		
DTSTAMP:20260425T131725
DTSTART;TZID=Europe/London:20190810T101500
DTEND;TZID=Europe/London:20190810T143000
SEQUENCE:0
TRANSP:OPAQUE
END:VEVENT
END:VCALENDAR