BEGIN:VCALENDAR
VERSION:2.0
PRODID:-//jEvents 2.0 for Joomla//EN
CALSCALE:GREGORIAN
METHOD:PUBLISH
BEGIN:VTIMEZONE
TZID:Europe/London
BEGIN:STANDARD
DTSTART:20181028T010000
RDATE:20190331T020000
TZOFFSETFROM:+0100
TZOFFSETTO:+0000
TZNAME:Europe/London GMT
END:STANDARD
BEGIN:STANDARD
DTSTART:20191027T010000
RDATE:20200329T020000
TZOFFSETFROM:+0100
TZOFFSETTO:+0000
TZNAME:Europe/London GMT
END:STANDARD
BEGIN:STANDARD
DTSTART:20201025T010000
RDATE:20210328T020000
TZOFFSETFROM:+0100
TZOFFSETTO:+0000
TZNAME:Europe/London GMT
END:STANDARD
BEGIN:STANDARD
DTSTART:20211031T010000
RDATE:20220327T020000
TZOFFSETFROM:+0100
TZOFFSETTO:+0000
TZNAME:Europe/London GMT
END:STANDARD
BEGIN:STANDARD
DTSTART:20221030T010000
RDATE:20230326T020000
TZOFFSETFROM:+0100
TZOFFSETTO:+0000
TZNAME:Europe/London GMT
END:STANDARD
BEGIN:STANDARD
DTSTART:20231029T010000
RDATE:20240331T020000
TZOFFSETFROM:+0100
TZOFFSETTO:+0000
TZNAME:Europe/London GMT
END:STANDARD
BEGIN:STANDARD
DTSTART:20241027T010000
RDATE:20250330T020000
TZOFFSETFROM:+0100
TZOFFSETTO:+0000
TZNAME:Europe/London GMT
END:STANDARD
BEGIN:STANDARD
DTSTART:20251026T010000
RDATE:20260329T020000
TZOFFSETFROM:+0100
TZOFFSETTO:+0000
TZNAME:Europe/London GMT
END:STANDARD
BEGIN:STANDARD
DTSTART:20261025T010000
RDATE:20270328T020000
TZOFFSETFROM:+0100
TZOFFSETTO:+0000
TZNAME:Europe/London GMT
END:STANDARD
BEGIN:STANDARD
DTSTART:20271031T010000
RDATE:20280326T020000
TZOFFSETFROM:+0100
TZOFFSETTO:+0000
TZNAME:Europe/London GMT
END:STANDARD
BEGIN:STANDARD
DTSTART:20281029T010000
RDATE:20290325T020000
TZOFFSETFROM:+0100
TZOFFSETTO:+0000
TZNAME:Europe/London GMT
END:STANDARD
BEGIN:STANDARD
DTSTART:20291028T010000
RDATE:20300331T020000
TZOFFSETFROM:+0100
TZOFFSETTO:+0000
TZNAME:Europe/London GMT
END:STANDARD
BEGIN:STANDARD
DTSTART:20301027T010000
RDATE:20310330T020000
TZOFFSETFROM:+0100
TZOFFSETTO:+0000
TZNAME:Europe/London GMT
END:STANDARD
BEGIN:DAYLIGHT
DTSTART:20180605T090000
RDATE:20181028T010000
TZOFFSETFROM:+0000
TZOFFSETTO:+0100
TZNAME:Europe/London BST
END:DAYLIGHT
BEGIN:DAYLIGHT
DTSTART:20190331T020000
RDATE:20191027T010000
TZOFFSETFROM:+0000
TZOFFSETTO:+0100
TZNAME:Europe/London BST
END:DAYLIGHT
BEGIN:DAYLIGHT
DTSTART:20200329T020000
RDATE:20201025T010000
TZOFFSETFROM:+0000
TZOFFSETTO:+0100
TZNAME:Europe/London BST
END:DAYLIGHT
BEGIN:DAYLIGHT
DTSTART:20210328T020000
RDATE:20211031T010000
TZOFFSETFROM:+0000
TZOFFSETTO:+0100
TZNAME:Europe/London BST
END:DAYLIGHT
BEGIN:DAYLIGHT
DTSTART:20220327T020000
RDATE:20221030T010000
TZOFFSETFROM:+0000
TZOFFSETTO:+0100
TZNAME:Europe/London BST
END:DAYLIGHT
BEGIN:DAYLIGHT
DTSTART:20230326T020000
RDATE:20231029T010000
TZOFFSETFROM:+0000
TZOFFSETTO:+0100
TZNAME:Europe/London BST
END:DAYLIGHT
BEGIN:DAYLIGHT
DTSTART:20240331T020000
RDATE:20241027T010000
TZOFFSETFROM:+0000
TZOFFSETTO:+0100
TZNAME:Europe/London BST
END:DAYLIGHT
BEGIN:DAYLIGHT
DTSTART:20250330T020000
RDATE:20251026T010000
TZOFFSETFROM:+0000
TZOFFSETTO:+0100
TZNAME:Europe/London BST
END:DAYLIGHT
BEGIN:DAYLIGHT
DTSTART:20260329T020000
RDATE:20261025T010000
TZOFFSETFROM:+0000
TZOFFSETTO:+0100
TZNAME:Europe/London BST
END:DAYLIGHT
BEGIN:DAYLIGHT
DTSTART:20270328T020000
RDATE:20271031T010000
TZOFFSETFROM:+0000
TZOFFSETTO:+0100
TZNAME:Europe/London BST
END:DAYLIGHT
BEGIN:DAYLIGHT
DTSTART:20280326T020000
RDATE:20281029T010000
TZOFFSETFROM:+0000
TZOFFSETTO:+0100
TZNAME:Europe/London BST
END:DAYLIGHT
BEGIN:DAYLIGHT
DTSTART:20290325T020000
RDATE:20291028T010000
TZOFFSETFROM:+0000
TZOFFSETTO:+0100
TZNAME:Europe/London BST
END:DAYLIGHT
BEGIN:DAYLIGHT
DTSTART:20300331T020000
RDATE:20301027T010000
TZOFFSETFROM:+0000
TZOFFSETTO:+0100
TZNAME:Europe/London BST
END:DAYLIGHT
END:VTIMEZONE
BEGIN:VEVENT
UID:1338ed7d29cd74a914a1530e3120d2e8
CATEGORIES:Association Event
CREATED:20190506T224057
SUMMARY:South of England Show, Ardingly: 6-8 June
LOCATION:Ardingly Showground
URL;VALUE=URI:https://www.scacr.org/news-events/calendar/599/south-of-england-show-arding
 ly-6-8-june?tmpl=component
DESCRIPTION:<p>Come and ring the bells at the <a href="https://www.seas.org.uk/south-of
 -england-show/">South of England Show 2019</a>!</p><p><a href="images/news/
 2019/SOES_Poster_2019.pdf">POSTER </a>for tower noticeboards..</p><p>Spaces
  are available for ringers of all abilities to ring and talk about ringing 
 at Dewbys Bells mini-ring as part of the SCACR representation alongside the
  Diocese of Chichester this year.</p><p>No prior experience necessary – jus
 t an enthusiasm for bell ringing and ability to chat!</p><p>Free admission 
 is available to anyone who can help – a few of hours ringing (10-1 and 1-4)
  and the rest of the time available to visit the show. Under 16s gain free 
 admission with an accompanying adult so we are pleased to provide admission
  for families able to bring their young ringers on the Saturday.</p><p>Find
  out more and save your place&nbsp; email Alison on&nbsp;<span id="cloak63d
 0abf3f857d64fe9f84dcc3bd6870c">This email address is being protected from s
 pambots. You need JavaScript enabled to view it.</span><script type='text/j
 avascript'>
				document.getElementById('cloak63d0abf3f857d64fe9f84dcc3bd68
 70c').innerHTML = '';
				var prefix = '&#109;a' + 'i&#108;' + '&#116;o';
	
 			var path = 'hr' + 'ef' + '=';
				var addy63d0abf3f857d64fe9f84dcc3bd687
 0c = 'p&#117;bl&#105;c&#105;ty' + '&#64;';
				addy63d0abf3f857d64fe9f84dcc
 3bd6870c = addy63d0abf3f857d64fe9f84dcc3bd6870c + 'sc&#97;cr' + '&#46;' + '
 &#111;rg';
				var addy_text63d0abf3f857d64fe9f84dcc3bd6870c = 'p&#117;bl&#
 105;c&#105;ty' + '&#64;' + 'sc&#97;cr' + '&#46;' + '&#111;rg';document.getE
 lementById('cloak63d0abf3f857d64fe9f84dcc3bd6870c').innerHTML += '<a ' + pa
 th + '\'' + prefix + ':' + addy63d0abf3f857d64fe9f84dcc3bd6870c + '\'>'+add
 y_text63d0abf3f857d64fe9f84dcc3bd6870c+'<\/a>';
		</script>.</p><p>Twitter 
 follow @scacr_bells @chichesterDio @seas_org - use hashtags #southofengland
 show and #bellringing<br />Facebook follow @SussexBellringers @DioceseofChi
 chester @SouthEngShows</p><p>&nbsp;</p> <a href="https://www.scacr.org/news
 -events/calendar/599/south-of-england-show-ardingly-6-8-june?tmpl=component
 ">This event was imported from: https://www.scacr.org/news-events/calendar/
 599/south-of-england-show-ardingly-6-8-june?tmpl=component</a>
X-ALT-DESC;FMTTYPE=text/html:<p>Come and ring the bells at the <a href="https://www.seas.org.uk/south-of
 -england-show/">South of England Show 2019</a>!</p><p><a href="https://www.
 scacr.org/images/news/2019/SOES_Poster_2019.pdf">POSTER </a>for tower notic
 eboards..</p><p>Spaces are available for ringers of all abilities to ring a
 nd talk about ringing at Dewbys Bells mini-ring as part of the SCACR repres
 entation alongside the Diocese of Chichester this year.</p><p>No prior expe
 rience necessary – just an enthusiasm for bell ringing and ability to chat!
 </p><p>Free admission is available to anyone who can help – a few of hours 
 ringing (10-1 and 1-4) and the rest of the time available to visit the show
 . Under 16s gain free admission with an accompanying adult so we are please
 d to provide admission for families able to bring their young ringers on th
 e Saturday.</p><p>Find out more and save your place&nbsp; email Alison on&n
 bsp;<span id="cloak63d0abf3f857d64fe9f84dcc3bd6870c">This email address is 
 being protected from spambots. You need JavaScript enabled to view it.</spa
 n><script type='text/javascript'>
				document.getElementById('cloak63d0abf
 3f857d64fe9f84dcc3bd6870c').innerHTML = '';
				var prefix = '&#109;a' + 'i
 &#108;' + '&#116;o';
				var path = 'hr' + 'ef' + '=';
				var addy63d0abf3
 f857d64fe9f84dcc3bd6870c = 'p&#117;bl&#105;c&#105;ty' + '&#64;';
				addy63
 d0abf3f857d64fe9f84dcc3bd6870c = addy63d0abf3f857d64fe9f84dcc3bd6870c + 'sc
 &#97;cr' + '&#46;' + '&#111;rg';
				var addy_text63d0abf3f857d64fe9f84dcc3
 bd6870c = 'p&#117;bl&#105;c&#105;ty' + '&#64;' + 'sc&#97;cr' + '&#46;' + '&
 #111;rg';document.getElementById('cloak63d0abf3f857d64fe9f84dcc3bd6870c').i
 nnerHTML += '<a ' + path + '\'' + prefix + ':' + addy63d0abf3f857d64fe9f84d
 cc3bd6870c + '\'>'+addy_text63d0abf3f857d64fe9f84dcc3bd6870c+'<\/a>';
		</s
 cript>.</p><p>Twitter follow @scacr_bells @chichesterDio @seas_org - use ha
 shtags #southofenglandshow and #bellringing<br />Facebook follow @SussexBel
 lringers @DioceseofChichester @SouthEngShows</p><p>&nbsp;</p> <a href="http
 s://www.scacr.org/news-events/calendar/599/south-of-england-show-ardingly-6
 -8-june?tmpl=component">This event was imported from: https://www.scacr.org
 /news-events/calendar/599/south-of-england-show-ardingly-6-8-june?tmpl=comp
 onent</a>CONTACT:This email address is being protected from spambots. You need JavaScript enabled to view it.
				document.getElementById('cloak778847c84538df06f39c975f5028cee6').innerHTML = '';
				var prefix = '&#109;a' + 'i&#108;' + '&#116;o';
				var path = 'hr' + 'ef' + '=';
				var addy778847c84538df06f39c975f5028cee6 = 'p&#117;bl&#105;c&#105;ty' + '&#64;';
				addy778847c84538df06f39c975f5028cee6 = addy778847c84538df06f39c975f5028cee6 + 'sc&#97;cr' + '&#46;' + '&#111;rg';
				var addy_text778847c84538df06f39c975f5028cee6 = 'p&#117;bl&#105;c&#105;ty' + '&#64;' + 'sc&#97;cr' + '&#46;' + '&#111;rg';document.getElementById('cloak778847c84538df06f39c975f5028cee6').innerHTML += '<a ' + path + '\'' + prefix + ':' + addy778847c84538df06f39c975f5028cee6 + '\'>'+addy_text778847c84538df06f39c975f5028cee6+'';
		
DTSTAMP:20260426T003929
DTSTART;TZID=Europe/London:20190606T090000
DTEND;TZID=Europe/London:20190608T170000
SEQUENCE:0
TRANSP:OPAQUE
END:VEVENT
END:VCALENDAR