BEGIN:VCALENDAR
VERSION:2.0
PRODID:-//jEvents 2.0 for Joomla//EN
CALSCALE:GREGORIAN
METHOD:PUBLISH
BEGIN:VTIMEZONE
TZID:Europe/London
BEGIN:STANDARD
DTSTART:20181028T010000
RDATE:20190331T020000
TZOFFSETFROM:+0100
TZOFFSETTO:+0000
TZNAME:Europe/London GMT
END:STANDARD
BEGIN:STANDARD
DTSTART:20191027T010000
RDATE:20200329T020000
TZOFFSETFROM:+0100
TZOFFSETTO:+0000
TZNAME:Europe/London GMT
END:STANDARD
BEGIN:STANDARD
DTSTART:20201025T010000
RDATE:20210328T020000
TZOFFSETFROM:+0100
TZOFFSETTO:+0000
TZNAME:Europe/London GMT
END:STANDARD
BEGIN:STANDARD
DTSTART:20211031T010000
RDATE:20220327T020000
TZOFFSETFROM:+0100
TZOFFSETTO:+0000
TZNAME:Europe/London GMT
END:STANDARD
BEGIN:STANDARD
DTSTART:20221030T010000
RDATE:20230326T020000
TZOFFSETFROM:+0100
TZOFFSETTO:+0000
TZNAME:Europe/London GMT
END:STANDARD
BEGIN:STANDARD
DTSTART:20231029T010000
RDATE:20240331T020000
TZOFFSETFROM:+0100
TZOFFSETTO:+0000
TZNAME:Europe/London GMT
END:STANDARD
BEGIN:STANDARD
DTSTART:20241027T010000
RDATE:20250330T020000
TZOFFSETFROM:+0100
TZOFFSETTO:+0000
TZNAME:Europe/London GMT
END:STANDARD
BEGIN:STANDARD
DTSTART:20251026T010000
RDATE:20260329T020000
TZOFFSETFROM:+0100
TZOFFSETTO:+0000
TZNAME:Europe/London GMT
END:STANDARD
BEGIN:STANDARD
DTSTART:20261025T010000
RDATE:20270328T020000
TZOFFSETFROM:+0100
TZOFFSETTO:+0000
TZNAME:Europe/London GMT
END:STANDARD
BEGIN:STANDARD
DTSTART:20271031T010000
RDATE:20280326T020000
TZOFFSETFROM:+0100
TZOFFSETTO:+0000
TZNAME:Europe/London GMT
END:STANDARD
BEGIN:STANDARD
DTSTART:20281029T010000
RDATE:20290325T020000
TZOFFSETFROM:+0100
TZOFFSETTO:+0000
TZNAME:Europe/London GMT
END:STANDARD
BEGIN:STANDARD
DTSTART:20291028T010000
RDATE:20300331T020000
TZOFFSETFROM:+0100
TZOFFSETTO:+0000
TZNAME:Europe/London GMT
END:STANDARD
BEGIN:STANDARD
DTSTART:20301027T010000
RDATE:20310330T020000
TZOFFSETFROM:+0100
TZOFFSETTO:+0000
TZNAME:Europe/London GMT
END:STANDARD
BEGIN:DAYLIGHT
DTSTART:20180621T141500
RDATE:20181028T010000
TZOFFSETFROM:+0000
TZOFFSETTO:+0100
TZNAME:Europe/London BST
END:DAYLIGHT
BEGIN:DAYLIGHT
DTSTART:20190331T020000
RDATE:20191027T010000
TZOFFSETFROM:+0000
TZOFFSETTO:+0100
TZNAME:Europe/London BST
END:DAYLIGHT
BEGIN:DAYLIGHT
DTSTART:20200329T020000
RDATE:20201025T010000
TZOFFSETFROM:+0000
TZOFFSETTO:+0100
TZNAME:Europe/London BST
END:DAYLIGHT
BEGIN:DAYLIGHT
DTSTART:20210328T020000
RDATE:20211031T010000
TZOFFSETFROM:+0000
TZOFFSETTO:+0100
TZNAME:Europe/London BST
END:DAYLIGHT
BEGIN:DAYLIGHT
DTSTART:20220327T020000
RDATE:20221030T010000
TZOFFSETFROM:+0000
TZOFFSETTO:+0100
TZNAME:Europe/London BST
END:DAYLIGHT
BEGIN:DAYLIGHT
DTSTART:20230326T020000
RDATE:20231029T010000
TZOFFSETFROM:+0000
TZOFFSETTO:+0100
TZNAME:Europe/London BST
END:DAYLIGHT
BEGIN:DAYLIGHT
DTSTART:20240331T020000
RDATE:20241027T010000
TZOFFSETFROM:+0000
TZOFFSETTO:+0100
TZNAME:Europe/London BST
END:DAYLIGHT
BEGIN:DAYLIGHT
DTSTART:20250330T020000
RDATE:20251026T010000
TZOFFSETFROM:+0000
TZOFFSETTO:+0100
TZNAME:Europe/London BST
END:DAYLIGHT
BEGIN:DAYLIGHT
DTSTART:20260329T020000
RDATE:20261025T010000
TZOFFSETFROM:+0000
TZOFFSETTO:+0100
TZNAME:Europe/London BST
END:DAYLIGHT
BEGIN:DAYLIGHT
DTSTART:20270328T020000
RDATE:20271031T010000
TZOFFSETFROM:+0000
TZOFFSETTO:+0100
TZNAME:Europe/London BST
END:DAYLIGHT
BEGIN:DAYLIGHT
DTSTART:20280326T020000
RDATE:20281029T010000
TZOFFSETFROM:+0000
TZOFFSETTO:+0100
TZNAME:Europe/London BST
END:DAYLIGHT
BEGIN:DAYLIGHT
DTSTART:20290325T020000
RDATE:20291028T010000
TZOFFSETFROM:+0000
TZOFFSETTO:+0100
TZNAME:Europe/London BST
END:DAYLIGHT
BEGIN:DAYLIGHT
DTSTART:20300331T020000
RDATE:20301027T010000
TZOFFSETFROM:+0000
TZOFFSETTO:+0100
TZNAME:Europe/London BST
END:DAYLIGHT
END:VTIMEZONE
BEGIN:VEVENT
UID:d81fe74f0fb172f48ea0b227d134659b
CATEGORIES:West
CREATED:20190424T230402
SUMMARY: Basic Course - Ringing Up and Down
LOCATION:Shipley - RH13 8PJ
URL;VALUE=URI:https://www.scacr.org/news-events/calendar/595/basic-course-ringing-up-and-
 down?tmpl=component
DESCRIPTION:Learn to ring up and down from scratch or if you are learning to do it have
  more practice doing it individually on tied bells.\n \nContact Hamish to b
 ook your place as a limit to numbers.  Hamish McNaughton (This email addres
 s is being protected from spambots. You need JavaScript enabled to view it.
 
				document.getElementById('cloak8a32f58329e6597d3271a66e834bbd33').inner
 HTML = '';
				var prefix = '&#109;a' + 'i&#108;' + '&#116;o';
				var path
  = 'hr' + 'ef' + '=';
				var addy8a32f58329e6597d3271a66e834bbd33 = 'h&#97
 ;m&#105;sh' + '&#64;';
				addy8a32f58329e6597d3271a66e834bbd33 = addy8a32f
 58329e6597d3271a66e834bbd33 + 'w&#97;ndl&#101;ys' + '&#46;' + 'd&#101;m&#11
 1;n' + '&#46;' + 'c&#111;' + '&#46;' + '&#117;k';
				var addy_text8a32f583
 29e6597d3271a66e834bbd33 = 'h&#97;m&#105;sh' + '&#64;' + 'w&#97;ndl&#101;ys
 ' + '&#46;' + 'd&#101;m&#111;n' + '&#46;' + 'c&#111;' + '&#46;' + '&#117;k'
 ;document.getElementById('cloak8a32f58329e6597d3271a66e834bbd33').innerHTML
  += '<a ' + path + '\'' + prefix + ':' + addy8a32f58329e6597d3271a66e834bbd
 33 + '\'>'+addy_text8a32f58329e6597d3271a66e834bbd33+'';
		)\n This event w
 as imported from: https://www.scacr.org/news-events/calendar/595/basic-cour
 se-ringing-up-and-down?tmpl=component (https://www.scacr.org/news-events/ca
 lendar/595/basic-course-ringing-up-and-down?tmpl=component)
X-ALT-DESC;FMTTYPE=text/html:<p>Learn to ring up and down from scratch or if you are learning to do it h
 ave more practice doing it individually on tied bells.</p><p>&nbsp;</p><p>C
 ontact Hamish to book your place as a limit to numbers.&nbsp; Hamish McNaug
 hton (<span id="cloak8a32f58329e6597d3271a66e834bbd33">This email address i
 s being protected from spambots. You need JavaScript enabled to view it.</s
 pan><script type='text/javascript'>
				document.getElementById('cloak8a32f
 58329e6597d3271a66e834bbd33').innerHTML = '';
				var prefix = '&#109;a' + 
 'i&#108;' + '&#116;o';
				var path = 'hr' + 'ef' + '=';
				var addy8a32f5
 8329e6597d3271a66e834bbd33 = 'h&#97;m&#105;sh' + '&#64;';
				addy8a32f5832
 9e6597d3271a66e834bbd33 = addy8a32f58329e6597d3271a66e834bbd33 + 'w&#97;ndl
 &#101;ys' + '&#46;' + 'd&#101;m&#111;n' + '&#46;' + 'c&#111;' + '&#46;' + '
 &#117;k';
				var addy_text8a32f58329e6597d3271a66e834bbd33 = 'h&#97;m&#105
 ;sh' + '&#64;' + 'w&#97;ndl&#101;ys' + '&#46;' + 'd&#101;m&#111;n' + '&#46;
 ' + 'c&#111;' + '&#46;' + '&#117;k';document.getElementById('cloak8a32f5832
 9e6597d3271a66e834bbd33').innerHTML += '<a ' + path + '\'' + prefix + ':' +
  addy8a32f58329e6597d3271a66e834bbd33 + '\'>'+addy_text8a32f58329e6597d3271
 a66e834bbd33+'<\/a>';
		</script>)</p> <a href="https://www.scacr.org/news-
 events/calendar/595/basic-course-ringing-up-and-down?tmpl=component">This e
 vent was imported from: https://www.scacr.org/news-events/calendar/595/basi
 c-course-ringing-up-and-down?tmpl=component</a>CONTACT:This email address is being protected from spambots. You need JavaScript enabled to view it.
				document.getElementById('cloak825ba41bf67ef7f051c135df11bc6683').innerHTML = '';
				var prefix = '&#109;a' + 'i&#108;' + '&#116;o';
				var path = 'hr' + 'ef' + '=';
				var addy825ba41bf67ef7f051c135df11bc6683 = 'h&#97;m&#105;sh' + '&#64;';
				addy825ba41bf67ef7f051c135df11bc6683 = addy825ba41bf67ef7f051c135df11bc6683 + 'w&#97;ndl&#101;ys' + '&#46;' + 'd&#101;m&#111;n' + '&#46;' + 'c&#111;' + '&#46;' + '&#117;k';
				var addy_text825ba41bf67ef7f051c135df11bc6683 = 'h&#97;m&#105;sh' + '&#64;' + 'w&#97;ndl&#101;ys' + '&#46;' + 'd&#101;m&#111;n' + '&#46;' + 'c&#111;' + '&#46;' + '&#117;k';document.getElementById('cloak825ba41bf67ef7f051c135df11bc6683').innerHTML += '<a ' + path + '\'' + prefix + ':' + addy825ba41bf67ef7f051c135df11bc6683 + '\'>'+addy_text825ba41bf67ef7f051c135df11bc6683+'';
		
DTSTAMP:20260426T041547
DTSTART;TZID=Europe/London:20190622T141500
DTEND;TZID=Europe/London:20190622T161500
SEQUENCE:0
TRANSP:OPAQUE
END:VEVENT
END:VCALENDAR