BEGIN:VCALENDAR
VERSION:2.0
PRODID:-//jEvents 2.0 for Joomla//EN
CALSCALE:GREGORIAN
METHOD:PUBLISH
BEGIN:VTIMEZONE
TZID:Europe/London
BEGIN:STANDARD
DTSTART:20181028T010000
RDATE:20190331T020000
TZOFFSETFROM:+0100
TZOFFSETTO:+0000
TZNAME:Europe/London GMT
END:STANDARD
BEGIN:STANDARD
DTSTART:20191027T010000
RDATE:20200329T020000
TZOFFSETFROM:+0100
TZOFFSETTO:+0000
TZNAME:Europe/London GMT
END:STANDARD
BEGIN:STANDARD
DTSTART:20201025T010000
RDATE:20210328T020000
TZOFFSETFROM:+0100
TZOFFSETTO:+0000
TZNAME:Europe/London GMT
END:STANDARD
BEGIN:STANDARD
DTSTART:20211031T010000
RDATE:20220327T020000
TZOFFSETFROM:+0100
TZOFFSETTO:+0000
TZNAME:Europe/London GMT
END:STANDARD
BEGIN:STANDARD
DTSTART:20221030T010000
RDATE:20230326T020000
TZOFFSETFROM:+0100
TZOFFSETTO:+0000
TZNAME:Europe/London GMT
END:STANDARD
BEGIN:STANDARD
DTSTART:20231029T010000
RDATE:20240331T020000
TZOFFSETFROM:+0100
TZOFFSETTO:+0000
TZNAME:Europe/London GMT
END:STANDARD
BEGIN:STANDARD
DTSTART:20241027T010000
RDATE:20250330T020000
TZOFFSETFROM:+0100
TZOFFSETTO:+0000
TZNAME:Europe/London GMT
END:STANDARD
BEGIN:STANDARD
DTSTART:20251026T010000
RDATE:20260329T020000
TZOFFSETFROM:+0100
TZOFFSETTO:+0000
TZNAME:Europe/London GMT
END:STANDARD
BEGIN:STANDARD
DTSTART:20261025T010000
RDATE:20270328T020000
TZOFFSETFROM:+0100
TZOFFSETTO:+0000
TZNAME:Europe/London GMT
END:STANDARD
BEGIN:STANDARD
DTSTART:20271031T010000
RDATE:20280326T020000
TZOFFSETFROM:+0100
TZOFFSETTO:+0000
TZNAME:Europe/London GMT
END:STANDARD
BEGIN:STANDARD
DTSTART:20281029T010000
RDATE:20290325T020000
TZOFFSETFROM:+0100
TZOFFSETTO:+0000
TZNAME:Europe/London GMT
END:STANDARD
BEGIN:STANDARD
DTSTART:20291028T010000
RDATE:20300331T020000
TZOFFSETFROM:+0100
TZOFFSETTO:+0000
TZNAME:Europe/London GMT
END:STANDARD
BEGIN:STANDARD
DTSTART:20301027T010000
RDATE:20310330T020000
TZOFFSETFROM:+0100
TZOFFSETTO:+0000
TZNAME:Europe/London GMT
END:STANDARD
BEGIN:DAYLIGHT
DTSTART:20180712T103000
RDATE:20181028T010000
TZOFFSETFROM:+0000
TZOFFSETTO:+0100
TZNAME:Europe/London BST
END:DAYLIGHT
BEGIN:DAYLIGHT
DTSTART:20190331T020000
RDATE:20191027T010000
TZOFFSETFROM:+0000
TZOFFSETTO:+0100
TZNAME:Europe/London BST
END:DAYLIGHT
BEGIN:DAYLIGHT
DTSTART:20200329T020000
RDATE:20201025T010000
TZOFFSETFROM:+0000
TZOFFSETTO:+0100
TZNAME:Europe/London BST
END:DAYLIGHT
BEGIN:DAYLIGHT
DTSTART:20210328T020000
RDATE:20211031T010000
TZOFFSETFROM:+0000
TZOFFSETTO:+0100
TZNAME:Europe/London BST
END:DAYLIGHT
BEGIN:DAYLIGHT
DTSTART:20220327T020000
RDATE:20221030T010000
TZOFFSETFROM:+0000
TZOFFSETTO:+0100
TZNAME:Europe/London BST
END:DAYLIGHT
BEGIN:DAYLIGHT
DTSTART:20230326T020000
RDATE:20231029T010000
TZOFFSETFROM:+0000
TZOFFSETTO:+0100
TZNAME:Europe/London BST
END:DAYLIGHT
BEGIN:DAYLIGHT
DTSTART:20240331T020000
RDATE:20241027T010000
TZOFFSETFROM:+0000
TZOFFSETTO:+0100
TZNAME:Europe/London BST
END:DAYLIGHT
BEGIN:DAYLIGHT
DTSTART:20250330T020000
RDATE:20251026T010000
TZOFFSETFROM:+0000
TZOFFSETTO:+0100
TZNAME:Europe/London BST
END:DAYLIGHT
BEGIN:DAYLIGHT
DTSTART:20260329T020000
RDATE:20261025T010000
TZOFFSETFROM:+0000
TZOFFSETTO:+0100
TZNAME:Europe/London BST
END:DAYLIGHT
BEGIN:DAYLIGHT
DTSTART:20270328T020000
RDATE:20271031T010000
TZOFFSETFROM:+0000
TZOFFSETTO:+0100
TZNAME:Europe/London BST
END:DAYLIGHT
BEGIN:DAYLIGHT
DTSTART:20280326T020000
RDATE:20281029T010000
TZOFFSETFROM:+0000
TZOFFSETTO:+0100
TZNAME:Europe/London BST
END:DAYLIGHT
BEGIN:DAYLIGHT
DTSTART:20290325T020000
RDATE:20291028T010000
TZOFFSETFROM:+0000
TZOFFSETTO:+0100
TZNAME:Europe/London BST
END:DAYLIGHT
BEGIN:DAYLIGHT
DTSTART:20300331T020000
RDATE:20301027T010000
TZOFFSETFROM:+0000
TZOFFSETTO:+0100
TZNAME:Europe/London BST
END:DAYLIGHT
END:VTIMEZONE
BEGIN:VEVENT
UID:4cc5f231b4da20a466039c7069a440fd
CATEGORIES:West
CREATED:20190424T222756
SUMMARY:Monthly Get Together - Warnham Large & Small bells
LOCATION:Warnham RH12 3QW
URL;VALUE=URI:https://www.scacr.org/news-events/calendar/585/monthly-get-together-warnham
 -large-small-bells?tmpl=component
DESCRIPTION:Why not come and try your hand at ringing on a larger number of bells and t
 hen ringing on a mini ring (smaller version of church bells with wheels and
  sallies).  You can attend both or either one.  ALL RINGERS WELCOME.\n10.30
  - 12.30pm morning ringing at Warnham Church (10 bells) on the simulator wi
 th coffee break in church Hall.  Lunch either own arrangements or lunch in 
 the pub opposite the church.  2.15 - approx 3.30pm afternoon ringing on Gar
 eth's Mini Ring in his garage by the church.  Meet at the church at 2.15pm 
 for Gareth to shows us the way. \nIf you require lunch booked at the pub th
 en please let Moya know in advance so the pub can be warned if there is sev
 eral of us. (This email address is being protected from spambots. You need 
 JavaScript enabled to view it.
				document.getElementById('cloakdd93856be6
 7d7c147029718b0bcf2df9').innerHTML = '';
				var prefix = '&#109;a' + 'i&#1
 08;' + '&#116;o';
				var path = 'hr' + 'ef' + '=';
				var addydd93856be67
 d7c147029718b0bcf2df9 = 's&#101;c-w&#101;st' + '&#64;';
				addydd93856be67
 d7c147029718b0bcf2df9 = addydd93856be67d7c147029718b0bcf2df9 + 'sc&#97;cr' 
 + '&#46;' + '&#111;rg';
				var addy_textdd93856be67d7c147029718b0bcf2df9 =
  's&#101;c-w&#101;st' + '&#64;' + 'sc&#97;cr' + '&#46;' + '&#111;rg';docume
 nt.getElementById('cloakdd93856be67d7c147029718b0bcf2df9').innerHTML += '<a
  ' + path + '\'' + prefix + ':' + addydd93856be67d7c147029718b0bcf2df9 + '\
 '>'+addy_textdd93856be67d7c147029718b0bcf2df9+'';
		)\n \n This event was i
 mported from: https://www.scacr.org/news-events/calendar/585/monthly-get-to
 gether-warnham-large-small-bells?tmpl=component (https://www.scacr.org/news
 -events/calendar/585/monthly-get-together-warnham-large-small-bells?tmpl=co
 mponent)
X-ALT-DESC;FMTTYPE=text/html:<p>Why not come and try your hand at ringing on a larger number of bells an
 d then ringing on a mini ring (smaller version of church bells with wheels 
 and sallies).&nbsp; You can attend both or either one.&nbsp; ALL RINGERS WE
 LCOME.</p><p>10.30 - 12.30pm morning ringing at Warnham Church (10 bells) o
 n the simulator with coffee break in church Hall.&nbsp; Lunch either own ar
 rangements or lunch in the pub opposite the church.&nbsp; 2.15 - approx 3.3
 0pm afternoon ringing on Gareth's Mini Ring in his garage by the church.&nb
 sp; Meet at the church at 2.15pm for Gareth to shows us the way.&nbsp;</p><
 p>If you require lunch booked at the pub then please let Moya know in advan
 ce so the pub can be warned if there is several of us. (<span id="cloakdd93
 856be67d7c147029718b0bcf2df9">This email address is being protected from sp
 ambots. You need JavaScript enabled to view it.</span><script type='text/ja
 vascript'>
				document.getElementById('cloakdd93856be67d7c147029718b0bcf2d
 f9').innerHTML = '';
				var prefix = '&#109;a' + 'i&#108;' + '&#116;o';
		
 		var path = 'hr' + 'ef' + '=';
				var addydd93856be67d7c147029718b0bcf2df
 9 = 's&#101;c-w&#101;st' + '&#64;';
				addydd93856be67d7c147029718b0bcf2df
 9 = addydd93856be67d7c147029718b0bcf2df9 + 'sc&#97;cr' + '&#46;' + '&#111;r
 g';
				var addy_textdd93856be67d7c147029718b0bcf2df9 = 's&#101;c-w&#101;st
 ' + '&#64;' + 'sc&#97;cr' + '&#46;' + '&#111;rg';document.getElementById('c
 loakdd93856be67d7c147029718b0bcf2df9').innerHTML += '<a ' + path + '\'' + p
 refix + ':' + addydd93856be67d7c147029718b0bcf2df9 + '\'>'+addy_textdd93856
 be67d7c147029718b0bcf2df9+'<\/a>';
		</script>)</p><p>&nbsp;</p> <a href="h
 ttps://www.scacr.org/news-events/calendar/585/monthly-get-together-warnham-
 large-small-bells?tmpl=component">This event was imported from: https://www
 .scacr.org/news-events/calendar/585/monthly-get-together-warnham-large-smal
 l-bells?tmpl=component</a>CONTACT:This email address is being protected from spambots. You need JavaScript enabled to view it.
				document.getElementById('cloakba363194dfb76eb9b376d5abcf1cf67e').innerHTML = '';
				var prefix = '&#109;a' + 'i&#108;' + '&#116;o';
				var path = 'hr' + 'ef' + '=';
				var addyba363194dfb76eb9b376d5abcf1cf67e = 's&#101;c-w&#101;st' + '&#64;';
				addyba363194dfb76eb9b376d5abcf1cf67e = addyba363194dfb76eb9b376d5abcf1cf67e + 'sc&#97;cr' + '&#46;' + '&#111;rg';
				var addy_textba363194dfb76eb9b376d5abcf1cf67e = 's&#101;c-w&#101;st' + '&#64;' + 'sc&#97;cr' + '&#46;' + '&#111;rg';document.getElementById('cloakba363194dfb76eb9b376d5abcf1cf67e').innerHTML += '<a ' + path + '\'' + prefix + ':' + addyba363194dfb76eb9b376d5abcf1cf67e + '\'>'+addy_textba363194dfb76eb9b376d5abcf1cf67e+'';
		
DTSTAMP:20260425T150613
DTSTART;TZID=Europe/London:20190713T103000
DTEND;TZID=Europe/London:20190713T153000
SEQUENCE:0
TRANSP:OPAQUE
END:VEVENT
END:VCALENDAR