BEGIN:VCALENDAR
VERSION:2.0
PRODID:-//jEvents 2.0 for Joomla//EN
CALSCALE:GREGORIAN
METHOD:PUBLISH
BEGIN:VTIMEZONE
TZID:Europe/London
BEGIN:STANDARD
DTSTART:20181122T094500
RDATE:20190331T020000
TZOFFSETFROM:+0100
TZOFFSETTO:+0000
TZNAME:Europe/London GMT
END:STANDARD
BEGIN:STANDARD
DTSTART:20191027T010000
RDATE:20200329T020000
TZOFFSETFROM:+0100
TZOFFSETTO:+0000
TZNAME:Europe/London GMT
END:STANDARD
BEGIN:STANDARD
DTSTART:20201025T010000
RDATE:20210328T020000
TZOFFSETFROM:+0100
TZOFFSETTO:+0000
TZNAME:Europe/London GMT
END:STANDARD
BEGIN:STANDARD
DTSTART:20211031T010000
RDATE:20220327T020000
TZOFFSETFROM:+0100
TZOFFSETTO:+0000
TZNAME:Europe/London GMT
END:STANDARD
BEGIN:STANDARD
DTSTART:20221030T010000
RDATE:20230326T020000
TZOFFSETFROM:+0100
TZOFFSETTO:+0000
TZNAME:Europe/London GMT
END:STANDARD
BEGIN:STANDARD
DTSTART:20231029T010000
RDATE:20240331T020000
TZOFFSETFROM:+0100
TZOFFSETTO:+0000
TZNAME:Europe/London GMT
END:STANDARD
BEGIN:STANDARD
DTSTART:20241027T010000
RDATE:20250330T020000
TZOFFSETFROM:+0100
TZOFFSETTO:+0000
TZNAME:Europe/London GMT
END:STANDARD
BEGIN:STANDARD
DTSTART:20251026T010000
RDATE:20260329T020000
TZOFFSETFROM:+0100
TZOFFSETTO:+0000
TZNAME:Europe/London GMT
END:STANDARD
BEGIN:STANDARD
DTSTART:20261025T010000
RDATE:20270328T020000
TZOFFSETFROM:+0100
TZOFFSETTO:+0000
TZNAME:Europe/London GMT
END:STANDARD
BEGIN:STANDARD
DTSTART:20271031T010000
RDATE:20280326T020000
TZOFFSETFROM:+0100
TZOFFSETTO:+0000
TZNAME:Europe/London GMT
END:STANDARD
BEGIN:STANDARD
DTSTART:20281029T010000
RDATE:20290325T020000
TZOFFSETFROM:+0100
TZOFFSETTO:+0000
TZNAME:Europe/London GMT
END:STANDARD
BEGIN:STANDARD
DTSTART:20291028T010000
RDATE:20300331T020000
TZOFFSETFROM:+0100
TZOFFSETTO:+0000
TZNAME:Europe/London GMT
END:STANDARD
BEGIN:STANDARD
DTSTART:20301027T010000
RDATE:20310330T020000
TZOFFSETFROM:+0100
TZOFFSETTO:+0000
TZNAME:Europe/London GMT
END:STANDARD
BEGIN:DAYLIGHT
DTSTART:20190331T020000
RDATE:20191027T010000
TZOFFSETFROM:+0000
TZOFFSETTO:+0100
TZNAME:Europe/London BST
END:DAYLIGHT
BEGIN:DAYLIGHT
DTSTART:20200329T020000
RDATE:20201025T010000
TZOFFSETFROM:+0000
TZOFFSETTO:+0100
TZNAME:Europe/London BST
END:DAYLIGHT
BEGIN:DAYLIGHT
DTSTART:20210328T020000
RDATE:20211031T010000
TZOFFSETFROM:+0000
TZOFFSETTO:+0100
TZNAME:Europe/London BST
END:DAYLIGHT
BEGIN:DAYLIGHT
DTSTART:20220327T020000
RDATE:20221030T010000
TZOFFSETFROM:+0000
TZOFFSETTO:+0100
TZNAME:Europe/London BST
END:DAYLIGHT
BEGIN:DAYLIGHT
DTSTART:20230326T020000
RDATE:20231029T010000
TZOFFSETFROM:+0000
TZOFFSETTO:+0100
TZNAME:Europe/London BST
END:DAYLIGHT
BEGIN:DAYLIGHT
DTSTART:20240331T020000
RDATE:20241027T010000
TZOFFSETFROM:+0000
TZOFFSETTO:+0100
TZNAME:Europe/London BST
END:DAYLIGHT
BEGIN:DAYLIGHT
DTSTART:20250330T020000
RDATE:20251026T010000
TZOFFSETFROM:+0000
TZOFFSETTO:+0100
TZNAME:Europe/London BST
END:DAYLIGHT
BEGIN:DAYLIGHT
DTSTART:20260329T020000
RDATE:20261025T010000
TZOFFSETFROM:+0000
TZOFFSETTO:+0100
TZNAME:Europe/London BST
END:DAYLIGHT
BEGIN:DAYLIGHT
DTSTART:20270328T020000
RDATE:20271031T010000
TZOFFSETFROM:+0000
TZOFFSETTO:+0100
TZNAME:Europe/London BST
END:DAYLIGHT
BEGIN:DAYLIGHT
DTSTART:20280326T020000
RDATE:20281029T010000
TZOFFSETFROM:+0000
TZOFFSETTO:+0100
TZNAME:Europe/London BST
END:DAYLIGHT
BEGIN:DAYLIGHT
DTSTART:20290325T020000
RDATE:20291028T010000
TZOFFSETFROM:+0000
TZOFFSETTO:+0100
TZNAME:Europe/London BST
END:DAYLIGHT
BEGIN:DAYLIGHT
DTSTART:20300331T020000
RDATE:20301027T010000
TZOFFSETFROM:+0000
TZOFFSETTO:+0100
TZNAME:Europe/London BST
END:DAYLIGHT
END:VTIMEZONE
BEGIN:VEVENT
UID:f06b96f0516c45d72f445e6db1b01532
CATEGORIES:Joint Event
CREATED:20190128T162656
SUMMARY:Ringing outing - all welcome
LOCATION:Maidstone area
URL;VALUE=URI:https://www.scacr.org/news-events/calendar/565/ringing-outing-all-welcome?t
 mpl=component
DESCRIPTION:<div>Ringing outing to the Maidstone area. All districts' members and all l
 evels of experience welcome.&nbsp;</div><div>Here is the tower list with tr
 avel times between towers - meet at a morning tower and join as available.<
 p class="x_p2"><span class="x_s1">9.45 East Peckham 6 Bells14Cwt. &nbsp; &n
 bsp; &nbsp; &nbsp; &nbsp; &nbsp; &nbsp; &nbsp; &nbsp; &nbsp; &nbsp; TN12 5N
 G</span></p><p class="x_p2"><span class="x_s1">10.45 Mereworth. (7 mins) 6 
 Bells 9Cwt&nbsp; &nbsp; &nbsp; &nbsp; &nbsp; &nbsp; &nbsp; ME18 5LS</span><
 /p><p class="x_p2"><span class="x_s1">11.45&nbsp; Wateringbury. (4 mins) 6 
 Bells 7Cwt.&nbsp; &nbsp; &nbsp; &nbsp; ME18 5PD</span></p><p class="x_p2"><
 span class="x_s1">2.30 Nettlestead (2 mins). 6 Bells 5Cwt&nbsp; &nbsp; &nbs
 p; &nbsp; &nbsp; &nbsp; &nbsp; ME18 5ET</span></p><p class="x_p2"><span cla
 ss="x_s1">3.30 Barming (7 mins). 6 Bells 9Cwt&nbsp; &nbsp; &nbsp; &nbsp; &n
 bsp; &nbsp; &nbsp; &nbsp; &nbsp; &nbsp; ME16 9HA</span></p><p class="x_p2">
 <span class="x_s1">4.30 East Farleigh (5 mins). 8 Bells 7Cwt&nbsp; &nbsp; &
 nbsp; &nbsp; &nbsp; &nbsp; ME15 0JL</span></p><div id="x_AppleMailSignature
 " dir="ltr">5.30 St. Michael, Maidstone 8 Bells 6 Cwt. &nbsp; &nbsp;TBC &nb
 sp; &nbsp;ME16 8JG&nbsp;</div></div> <a href="https://www.scacr.org/news-ev
 ents/calendar/565/ringing-outing-all-welcome?tmpl=component">This event was
  imported from: https://www.scacr.org/news-events/calendar/565/ringing-outi
 ng-all-welcome?tmpl=component</a>CONTACT:This email address is being protected from spambots. You need JavaScript enabled to view it.
				document.getElementById('cloak740c28eaf12e086107b85ea62f848916').innerHTML = '';
				var prefix = '&#109;a' + 'i&#108;' + '&#116;o';
				var path = 'hr' + 'ef' + '=';
				var addy740c28eaf12e086107b85ea62f848916 = 's&#101;c-&#101;&#97;st' + '&#64;';
				addy740c28eaf12e086107b85ea62f848916 = addy740c28eaf12e086107b85ea62f848916 + 'sc&#97;cr' + '&#46;' + '&#111;rg';
				var addy_text740c28eaf12e086107b85ea62f848916 = 's&#101;c-&#101;&#97;st' + '&#64;' + 'sc&#97;cr' + '&#46;' + '&#111;rg';document.getElementById('cloak740c28eaf12e086107b85ea62f848916').innerHTML += '<a ' + path + '\'' + prefix + ':' + addy740c28eaf12e086107b85ea62f848916 + '\'>'+addy_text740c28eaf12e086107b85ea62f848916+'';
		
DTSTAMP:20260424T124147
DTSTART;TZID=Europe/London:20191123T094500
DTEND;TZID=Europe/London:20191123T181500
SEQUENCE:0
TRANSP:OPAQUE
END:VEVENT
END:VCALENDAR