BEGIN:VCALENDAR
VERSION:2.0
PRODID:-//jEvents 2.0 for Joomla//EN
CALSCALE:GREGORIAN
METHOD:PUBLISH
BEGIN:VTIMEZONE
TZID:Europe/London
BEGIN:STANDARD
DTSTART:20181028T010000
RDATE:20190331T020000
TZOFFSETFROM:+0100
TZOFFSETTO:+0000
TZNAME:Europe/London GMT
END:STANDARD
BEGIN:STANDARD
DTSTART:20191027T010000
RDATE:20200329T020000
TZOFFSETFROM:+0100
TZOFFSETTO:+0000
TZNAME:Europe/London GMT
END:STANDARD
BEGIN:STANDARD
DTSTART:20201025T010000
RDATE:20210328T020000
TZOFFSETFROM:+0100
TZOFFSETTO:+0000
TZNAME:Europe/London GMT
END:STANDARD
BEGIN:STANDARD
DTSTART:20211031T010000
RDATE:20220327T020000
TZOFFSETFROM:+0100
TZOFFSETTO:+0000
TZNAME:Europe/London GMT
END:STANDARD
BEGIN:STANDARD
DTSTART:20221030T010000
RDATE:20230326T020000
TZOFFSETFROM:+0100
TZOFFSETTO:+0000
TZNAME:Europe/London GMT
END:STANDARD
BEGIN:STANDARD
DTSTART:20231029T010000
RDATE:20240331T020000
TZOFFSETFROM:+0100
TZOFFSETTO:+0000
TZNAME:Europe/London GMT
END:STANDARD
BEGIN:STANDARD
DTSTART:20241027T010000
RDATE:20250330T020000
TZOFFSETFROM:+0100
TZOFFSETTO:+0000
TZNAME:Europe/London GMT
END:STANDARD
BEGIN:STANDARD
DTSTART:20251026T010000
RDATE:20260329T020000
TZOFFSETFROM:+0100
TZOFFSETTO:+0000
TZNAME:Europe/London GMT
END:STANDARD
BEGIN:STANDARD
DTSTART:20261025T010000
RDATE:20270328T020000
TZOFFSETFROM:+0100
TZOFFSETTO:+0000
TZNAME:Europe/London GMT
END:STANDARD
BEGIN:STANDARD
DTSTART:20271031T010000
RDATE:20280326T020000
TZOFFSETFROM:+0100
TZOFFSETTO:+0000
TZNAME:Europe/London GMT
END:STANDARD
BEGIN:STANDARD
DTSTART:20281029T010000
RDATE:20290325T020000
TZOFFSETFROM:+0100
TZOFFSETTO:+0000
TZNAME:Europe/London GMT
END:STANDARD
BEGIN:STANDARD
DTSTART:20291028T010000
RDATE:20300331T020000
TZOFFSETFROM:+0100
TZOFFSETTO:+0000
TZNAME:Europe/London GMT
END:STANDARD
BEGIN:STANDARD
DTSTART:20301027T010000
RDATE:20310330T020000
TZOFFSETFROM:+0100
TZOFFSETTO:+0000
TZNAME:Europe/London GMT
END:STANDARD
BEGIN:DAYLIGHT
DTSTART:20180906T093000
RDATE:20181028T010000
TZOFFSETFROM:+0000
TZOFFSETTO:+0100
TZNAME:Europe/London BST
END:DAYLIGHT
BEGIN:DAYLIGHT
DTSTART:20190331T020000
RDATE:20191027T010000
TZOFFSETFROM:+0000
TZOFFSETTO:+0100
TZNAME:Europe/London BST
END:DAYLIGHT
BEGIN:DAYLIGHT
DTSTART:20200329T020000
RDATE:20201025T010000
TZOFFSETFROM:+0000
TZOFFSETTO:+0100
TZNAME:Europe/London BST
END:DAYLIGHT
BEGIN:DAYLIGHT
DTSTART:20210328T020000
RDATE:20211031T010000
TZOFFSETFROM:+0000
TZOFFSETTO:+0100
TZNAME:Europe/London BST
END:DAYLIGHT
BEGIN:DAYLIGHT
DTSTART:20220327T020000
RDATE:20221030T010000
TZOFFSETFROM:+0000
TZOFFSETTO:+0100
TZNAME:Europe/London BST
END:DAYLIGHT
BEGIN:DAYLIGHT
DTSTART:20230326T020000
RDATE:20231029T010000
TZOFFSETFROM:+0000
TZOFFSETTO:+0100
TZNAME:Europe/London BST
END:DAYLIGHT
BEGIN:DAYLIGHT
DTSTART:20240331T020000
RDATE:20241027T010000
TZOFFSETFROM:+0000
TZOFFSETTO:+0100
TZNAME:Europe/London BST
END:DAYLIGHT
BEGIN:DAYLIGHT
DTSTART:20250330T020000
RDATE:20251026T010000
TZOFFSETFROM:+0000
TZOFFSETTO:+0100
TZNAME:Europe/London BST
END:DAYLIGHT
BEGIN:DAYLIGHT
DTSTART:20260329T020000
RDATE:20261025T010000
TZOFFSETFROM:+0000
TZOFFSETTO:+0100
TZNAME:Europe/London BST
END:DAYLIGHT
BEGIN:DAYLIGHT
DTSTART:20270328T020000
RDATE:20271031T010000
TZOFFSETFROM:+0000
TZOFFSETTO:+0100
TZNAME:Europe/London BST
END:DAYLIGHT
BEGIN:DAYLIGHT
DTSTART:20280326T020000
RDATE:20281029T010000
TZOFFSETFROM:+0000
TZOFFSETTO:+0100
TZNAME:Europe/London BST
END:DAYLIGHT
BEGIN:DAYLIGHT
DTSTART:20290325T020000
RDATE:20291028T010000
TZOFFSETFROM:+0000
TZOFFSETTO:+0100
TZNAME:Europe/London BST
END:DAYLIGHT
BEGIN:DAYLIGHT
DTSTART:20300331T020000
RDATE:20301027T010000
TZOFFSETFROM:+0000
TZOFFSETTO:+0100
TZNAME:Europe/London BST
END:DAYLIGHT
END:VTIMEZONE
BEGIN:VEVENT
UID:13ca3cdd31791a812548eb403f2c6508
CATEGORIES:North
CREATED:20181016T214252
SUMMARY:Training course: Intro to Plain Hunt
LOCATION:Danehill
URL;VALUE=URI:https://www.scacr.org/news-events/calendar/465/training-course-intro-to-pla
 in-hunt?tmpl=component
DESCRIPTION:This course will be run by Elaine Farrow.\nCan you ring rounds and call cha
 nges confidently on at least 5 bells (without bumping the stay)? Are you wo
 rking towards ringing Plain Hunt? Then this course could be for you!\nPlace
 s are limited, so you need to sign up in advance. Contact Steph via This em
 ail address is being protected from spambots. You need JavaScript enabled t
 o view it.
				document.getElementById('cloak2efac404238f0dca8305e98e05aa2b
 10').innerHTML = '';
				var prefix = '&#109;a' + 'i&#108;' + '&#116;o';
		
 		var path = 'hr' + 'ef' + '=';
				var addy2efac404238f0dca8305e98e05aa2b1
 0 = 's&#101;c-n&#111;rth' + '&#64;';
				addy2efac404238f0dca8305e98e05aa2b
 10 = addy2efac404238f0dca8305e98e05aa2b10 + 'sc&#97;cr' + '&#46;' + '&#111;
 rg';
				var addy_text2efac404238f0dca8305e98e05aa2b10 = 's&#101;c-n&#111;r
 th' + '&#64;' + 'sc&#97;cr' + '&#46;' + '&#111;rg';document.getElementById(
 'cloak2efac404238f0dca8305e98e05aa2b10').innerHTML += '<a ' + path + '\'' +
  prefix + ':' + addy2efac404238f0dca8305e98e05aa2b10 + '\'>'+addy_text2efac
 404238f0dca8305e98e05aa2b10+'';
		 to register your interest.\n This event 
 was imported from: https://www.scacr.org/news-events/calendar/465/training-
 course-intro-to-plain-hunt?tmpl=component (https://www.scacr.org/news-event
 s/calendar/465/training-course-intro-to-plain-hunt?tmpl=component)
X-ALT-DESC;FMTTYPE=text/html:<p>This course will be run by Elaine Farrow.</p><p>Can you ring rounds and 
 call changes confidently on at least 5 bells (without bumping the stay)? Ar
 e you working towards ringing Plain Hunt? Then this course could be for you
 !</p><p>Places are limited, so you need to sign up in advance. Contact Step
 h via <span id="cloak2efac404238f0dca8305e98e05aa2b10">This email address i
 s being protected from spambots. You need JavaScript enabled to view it.</s
 pan><script type='text/javascript'>
				document.getElementById('cloak2efac
 404238f0dca8305e98e05aa2b10').innerHTML = '';
				var prefix = '&#109;a' + 
 'i&#108;' + '&#116;o';
				var path = 'hr' + 'ef' + '=';
				var addy2efac4
 04238f0dca8305e98e05aa2b10 = 's&#101;c-n&#111;rth' + '&#64;';
				addy2efac
 404238f0dca8305e98e05aa2b10 = addy2efac404238f0dca8305e98e05aa2b10 + 'sc&#9
 7;cr' + '&#46;' + '&#111;rg';
				var addy_text2efac404238f0dca8305e98e05aa
 2b10 = 's&#101;c-n&#111;rth' + '&#64;' + 'sc&#97;cr' + '&#46;' + '&#111;rg'
 ;document.getElementById('cloak2efac404238f0dca8305e98e05aa2b10').innerHTML
  += '<a ' + path + '\'' + prefix + ':' + addy2efac404238f0dca8305e98e05aa2b
 10 + '\'>'+addy_text2efac404238f0dca8305e98e05aa2b10+'<\/a>';
		</script> t
 o register your interest.</p> <a href="https://www.scacr.org/news-events/ca
 lendar/465/training-course-intro-to-plain-hunt?tmpl=component">This event w
 as imported from: https://www.scacr.org/news-events/calendar/465/training-c
 ourse-intro-to-plain-hunt?tmpl=component</a>CONTACT:This email address is being protected from spambots. You need JavaScript enabled to view it.
				document.getElementById('cloak11eb308df87dd93adab01519afa25445').innerHTML = '';
				var prefix = '&#109;a' + 'i&#108;' + '&#116;o';
				var path = 'hr' + 'ef' + '=';
				var addy11eb308df87dd93adab01519afa25445 = 's&#101;c-n&#111;rth' + '&#64;';
				addy11eb308df87dd93adab01519afa25445 = addy11eb308df87dd93adab01519afa25445 + 'sc&#97;cr' + '&#46;' + '&#111;rg';
				var addy_text11eb308df87dd93adab01519afa25445 = 's&#101;c-n&#111;rth' + '&#64;' + 'sc&#97;cr' + '&#46;' + '&#111;rg';document.getElementById('cloak11eb308df87dd93adab01519afa25445').innerHTML += '<a ' + path + '\'' + prefix + ':' + addy11eb308df87dd93adab01519afa25445 + '\'>'+addy_text11eb308df87dd93adab01519afa25445+'';
		
DTSTAMP:20260425T131718
DTSTART;TZID=Europe/London:20190907T093000
DTEND;TZID=Europe/London:20190907T113000
SEQUENCE:0
TRANSP:OPAQUE
END:VEVENT
END:VCALENDAR