BEGIN:VCALENDAR
VERSION:2.0
PRODID:-//jEvents 2.0 for Joomla//EN
CALSCALE:GREGORIAN
METHOD:PUBLISH
BEGIN:VTIMEZONE
TZID:Europe/London
BEGIN:STANDARD
DTSTART:20181028T010000
RDATE:20190331T020000
TZOFFSETFROM:+0100
TZOFFSETTO:+0000
TZNAME:Europe/London GMT
END:STANDARD
BEGIN:STANDARD
DTSTART:20191027T010000
RDATE:20200329T020000
TZOFFSETFROM:+0100
TZOFFSETTO:+0000
TZNAME:Europe/London GMT
END:STANDARD
BEGIN:STANDARD
DTSTART:20201025T010000
RDATE:20210328T020000
TZOFFSETFROM:+0100
TZOFFSETTO:+0000
TZNAME:Europe/London GMT
END:STANDARD
BEGIN:STANDARD
DTSTART:20211031T010000
RDATE:20220327T020000
TZOFFSETFROM:+0100
TZOFFSETTO:+0000
TZNAME:Europe/London GMT
END:STANDARD
BEGIN:STANDARD
DTSTART:20221030T010000
RDATE:20230326T020000
TZOFFSETFROM:+0100
TZOFFSETTO:+0000
TZNAME:Europe/London GMT
END:STANDARD
BEGIN:STANDARD
DTSTART:20231029T010000
RDATE:20240331T020000
TZOFFSETFROM:+0100
TZOFFSETTO:+0000
TZNAME:Europe/London GMT
END:STANDARD
BEGIN:STANDARD
DTSTART:20241027T010000
RDATE:20250330T020000
TZOFFSETFROM:+0100
TZOFFSETTO:+0000
TZNAME:Europe/London GMT
END:STANDARD
BEGIN:STANDARD
DTSTART:20251026T010000
RDATE:20260329T020000
TZOFFSETFROM:+0100
TZOFFSETTO:+0000
TZNAME:Europe/London GMT
END:STANDARD
BEGIN:STANDARD
DTSTART:20261025T010000
RDATE:20270328T020000
TZOFFSETFROM:+0100
TZOFFSETTO:+0000
TZNAME:Europe/London GMT
END:STANDARD
BEGIN:STANDARD
DTSTART:20271031T010000
RDATE:20280326T020000
TZOFFSETFROM:+0100
TZOFFSETTO:+0000
TZNAME:Europe/London GMT
END:STANDARD
BEGIN:STANDARD
DTSTART:20281029T010000
RDATE:20290325T020000
TZOFFSETFROM:+0100
TZOFFSETTO:+0000
TZNAME:Europe/London GMT
END:STANDARD
BEGIN:STANDARD
DTSTART:20291028T010000
RDATE:20300331T020000
TZOFFSETFROM:+0100
TZOFFSETTO:+0000
TZNAME:Europe/London GMT
END:STANDARD
BEGIN:STANDARD
DTSTART:20301027T010000
RDATE:20310330T020000
TZOFFSETFROM:+0100
TZOFFSETTO:+0000
TZNAME:Europe/London GMT
END:STANDARD
BEGIN:DAYLIGHT
DTSTART:20180705T093000
RDATE:20181028T010000
TZOFFSETFROM:+0000
TZOFFSETTO:+0100
TZNAME:Europe/London BST
END:DAYLIGHT
BEGIN:DAYLIGHT
DTSTART:20190331T020000
RDATE:20191027T010000
TZOFFSETFROM:+0000
TZOFFSETTO:+0100
TZNAME:Europe/London BST
END:DAYLIGHT
BEGIN:DAYLIGHT
DTSTART:20200329T020000
RDATE:20201025T010000
TZOFFSETFROM:+0000
TZOFFSETTO:+0100
TZNAME:Europe/London BST
END:DAYLIGHT
BEGIN:DAYLIGHT
DTSTART:20210328T020000
RDATE:20211031T010000
TZOFFSETFROM:+0000
TZOFFSETTO:+0100
TZNAME:Europe/London BST
END:DAYLIGHT
BEGIN:DAYLIGHT
DTSTART:20220327T020000
RDATE:20221030T010000
TZOFFSETFROM:+0000
TZOFFSETTO:+0100
TZNAME:Europe/London BST
END:DAYLIGHT
BEGIN:DAYLIGHT
DTSTART:20230326T020000
RDATE:20231029T010000
TZOFFSETFROM:+0000
TZOFFSETTO:+0100
TZNAME:Europe/London BST
END:DAYLIGHT
BEGIN:DAYLIGHT
DTSTART:20240331T020000
RDATE:20241027T010000
TZOFFSETFROM:+0000
TZOFFSETTO:+0100
TZNAME:Europe/London BST
END:DAYLIGHT
BEGIN:DAYLIGHT
DTSTART:20250330T020000
RDATE:20251026T010000
TZOFFSETFROM:+0000
TZOFFSETTO:+0100
TZNAME:Europe/London BST
END:DAYLIGHT
BEGIN:DAYLIGHT
DTSTART:20260329T020000
RDATE:20261025T010000
TZOFFSETFROM:+0000
TZOFFSETTO:+0100
TZNAME:Europe/London BST
END:DAYLIGHT
BEGIN:DAYLIGHT
DTSTART:20270328T020000
RDATE:20271031T010000
TZOFFSETFROM:+0000
TZOFFSETTO:+0100
TZNAME:Europe/London BST
END:DAYLIGHT
BEGIN:DAYLIGHT
DTSTART:20280326T020000
RDATE:20281029T010000
TZOFFSETFROM:+0000
TZOFFSETTO:+0100
TZNAME:Europe/London BST
END:DAYLIGHT
BEGIN:DAYLIGHT
DTSTART:20290325T020000
RDATE:20291028T010000
TZOFFSETFROM:+0000
TZOFFSETTO:+0100
TZNAME:Europe/London BST
END:DAYLIGHT
BEGIN:DAYLIGHT
DTSTART:20300331T020000
RDATE:20301027T010000
TZOFFSETFROM:+0000
TZOFFSETTO:+0100
TZNAME:Europe/London BST
END:DAYLIGHT
END:VTIMEZONE
BEGIN:VEVENT
UID:dbf9581aff9c2f48ff346ec7d2a8e5e2
CATEGORIES:North
CREATED:20181016T213426
SUMMARY:Training Course: listening skills
LOCATION:TBC
URL;VALUE=URI:https://www.scacr.org/news-events/calendar/463/training-course-listening-sk
 ills?tmpl=component
DESCRIPTION:<p>This course will be run by Kate Nye - more details to follow soon.&nbsp;
 </p><p>You must be able to ring in rounds unassisted. Please not that this 
 is a Northern District training course, so Northern District members will h
 ave priority for places. If spare places are available, members from other 
 Districts will of course be very welcome to join.</p><p>The aim of the cour
 se is to help develop your listening skills, so you can improve your striki
 ng.</p><p>Places are limited, so registration in advance is required. If yo
 u'd like to sign up, please contact Steph via <span id="cloake9772d23dd95c4
 bf2960a2f48e8f6661">This email address is being protected from spambots. Yo
 u need JavaScript enabled to view it.</span><script type='text/javascript'>
 
				document.getElementById('cloake9772d23dd95c4bf2960a2f48e8f6661').inner
 HTML = '';
				var prefix = '&#109;a' + 'i&#108;' + '&#116;o';
				var path
  = 'hr' + 'ef' + '=';
				var addye9772d23dd95c4bf2960a2f48e8f6661 = 's&#10
 1;c-n&#111;rth' + '&#64;';
				addye9772d23dd95c4bf2960a2f48e8f6661 = addye
 9772d23dd95c4bf2960a2f48e8f6661 + 'sc&#97;cr' + '&#46;' + '&#111;rg';
				v
 ar addy_texte9772d23dd95c4bf2960a2f48e8f6661 = 's&#101;c-n&#111;rth' + '&#6
 4;' + 'sc&#97;cr' + '&#46;' + '&#111;rg';document.getElementById('cloake977
 2d23dd95c4bf2960a2f48e8f6661').innerHTML += '<a ' + path + '\'' + prefix + 
 ':' + addye9772d23dd95c4bf2960a2f48e8f6661 + '\'>'+addy_texte9772d23dd95c4b
 f2960a2f48e8f6661+'<\/a>';
		</script>, with your name, home Tower, and wha
 t you can currently ring.</p> <a href="https://www.scacr.org/news-events/ca
 lendar/463/training-course-listening-skills?tmpl=component">This event was 
 imported from: https://www.scacr.org/news-events/calendar/463/training-cour
 se-listening-skills?tmpl=component</a>CONTACT:This email address is being protected from spambots. You need JavaScript enabled to view it.
				document.getElementById('cloak8fca326da3d4ed6dc07cf4e5994a5c44').innerHTML = '';
				var prefix = '&#109;a' + 'i&#108;' + '&#116;o';
				var path = 'hr' + 'ef' + '=';
				var addy8fca326da3d4ed6dc07cf4e5994a5c44 = 's&#101;c-n&#111;rth' + '&#64;';
				addy8fca326da3d4ed6dc07cf4e5994a5c44 = addy8fca326da3d4ed6dc07cf4e5994a5c44 + 'sc&#97;cr' + '&#46;' + '&#111;rg';
				var addy_text8fca326da3d4ed6dc07cf4e5994a5c44 = 's&#101;c-n&#111;rth' + '&#64;' + 'sc&#97;cr' + '&#46;' + '&#111;rg';document.getElementById('cloak8fca326da3d4ed6dc07cf4e5994a5c44').innerHTML += '<a ' + path + '\'' + prefix + ':' + addy8fca326da3d4ed6dc07cf4e5994a5c44 + '\'>'+addy_text8fca326da3d4ed6dc07cf4e5994a5c44+'';
		
DTSTAMP:20260425T183748
DTSTART;TZID=Europe/London:20190706T093000
DTEND;TZID=Europe/London:20190706T120000
SEQUENCE:0
TRANSP:OPAQUE
END:VEVENT
END:VCALENDAR